BEGIN:VCALENDAR
VERSION:2.0
PRODID:-//Pretwerk - ECPv6.6.3//NONSGML v1.0//EN
CALSCALE:GREGORIAN
METHOD:PUBLISH
X-WR-CALNAME:Pretwerk
X-ORIGINAL-URL:https://pretwerk.nl
X-WR-CALDESC:Evenementen voor Pretwerk
REFRESH-INTERVAL;VALUE=DURATION:PT1H
X-Robots-Tag:noindex
X-PUBLISHED-TTL:PT1H
BEGIN:VTIMEZONE
TZID:Europe/Amsterdam
BEGIN:DAYLIGHT
TZOFFSETFROM:+0100
TZOFFSETTO:+0200
TZNAME:CEST
DTSTART:20250330T010000
END:DAYLIGHT
BEGIN:STANDARD
TZOFFSETFROM:+0200
TZOFFSETTO:+0100
TZNAME:CET
DTSTART:20251026T010000
END:STANDARD
END:VTIMEZONE
BEGIN:VEVENT
DTSTART;TZID=Europe/Amsterdam:20250526T090000
DTEND;TZID=Europe/Amsterdam:20250526T173000
DTSTAMP:20260421T040230
CREATED:20250509T092652Z
LAST-MODIFIED:20250513T094000Z
UID:93256-1748250000-1748280600@pretwerk.nl
SUMMARY:Sustainable Tourism Mobility Forum
DESCRIPTION:Het forum beoogt de kennis\, netwerken en samenwerking tussen beleidsmakers\, de industrie\, de maatschappij en onderzoekers te versterken om de transitie naar duurzame toeristische mobiliteit te stimuleren. Door bewustwording te creëren\, actie te stimuleren en de dialoog tussen meerdere belanghebbenden te faciliteren\, streeft het forum ernaar de agenda’s voor toerisme en transport op elkaar af te stemmen\, uitdagingen aan te pakken en concrete acties op Europees en nationaal niveau te prioriteren.
URL:https://pretwerk.nl/evenement/sustainable-tourism-mobility-forum-2/
LOCATION:Green Campus Buas\, Breda\, Nederland
CATEGORIES:Congres
ATTACH;FMTTYPE=image/jpeg:https://pretwerk.nl/wp-content/uploads/2025/05/mobility-congres-buas.jpg
END:VEVENT
BEGIN:VEVENT
DTSTART;TZID=Europe/Amsterdam:20250526T000000
DTEND;TZID=Europe/Amsterdam:20250527T235959
DTSTAMP:20260421T040230
CREATED:20250403T091045Z
LAST-MODIFIED:20250410T101848Z
UID:92686-1748217600-1748390399@pretwerk.nl
SUMMARY:Eco Resort Network 2025
DESCRIPTION:Internationaal congres en netwerkbijeenkomst voor eco-resorts zoals glampings\, wellness resorts\, en ecotoeristische accommodaties. (sustainable outdoor hospitality)
URL:https://pretwerk.nl/evenement/eco-resort-network-2025/
LOCATION:Poseidonian Grand Hotel\, Spetses\, Greece
CATEGORIES:Congres,Internationaal,Netwerkbijeenkomst
ATTACH;FMTTYPE=image/jpeg:https://pretwerk.nl/wp-content/uploads/2025/04/eco-resort-network.jpg
END:VEVENT
BEGIN:VEVENT
DTSTART;TZID=Europe/Amsterdam:20250515T090000
DTEND;TZID=Europe/Amsterdam:20250515T160000
DTSTAMP:20260421T040230
CREATED:20250328T144725Z
LAST-MODIFIED:20250410T101912Z
UID:92584-1747299600-1747324800@pretwerk.nl
SUMMARY:Vakbeurs Openbare Ruimte (België)
DESCRIPTION:Het grootste evenement in België op het gebied van inrichting en beheer van publieke en semi-publieke ruimte. Met o.a. veel aanbieders die ook voor de inrichting van recreatiebedrijven relevant zijn zoals groenvoorziening\, verlichting\, bestrating\, speeltoestellen of straatmeubilair.
URL:https://pretwerk.nl/evenement/vakbeurs-openbare-ruimte-belgie/
LOCATION:Brussels Expo\, Brussel\, België
CATEGORIES:Vakbeurs
ATTACH;FMTTYPE=image/png:https://pretwerk.nl/wp-content/uploads/2025/03/VORBE2025-logo.png
END:VEVENT
BEGIN:VEVENT
DTSTART;TZID=Europe/Amsterdam:20250515T000000
DTEND;TZID=Europe/Amsterdam:20250515T235959
DTSTAMP:20260421T040230
CREATED:20250206T151632Z
LAST-MODIFIED:20250206T151635Z
UID:91775-1747267200-1747353599@pretwerk.nl
SUMMARY:Speelplan Kennisdag: De speelzijdige stad
DESCRIPTION:Ben jij professional op het gebied van spelen\, sporten of bewegen in de openbare ruimte? Kom je kennis verbreden en delen op de kennisdag van Speelplan. Wij zorgen voor een interactief programma met inspirerende sprekers.
URL:https://pretwerk.nl/evenement/speelplan-kennisdag-de-speelzijdige-stad/
LOCATION:Natuurspeeltuin de Hoef\, Utrecht
CATEGORIES:Congres
ATTACH;FMTTYPE=image/jpeg:https://pretwerk.nl/wp-content/uploads/2023/11/speelplan2.jpg
END:VEVENT
BEGIN:VEVENT
DTSTART;TZID=Europe/Amsterdam:20250513T123000
DTEND;TZID=Europe/Amsterdam:20250513T180000
DTSTAMP:20260421T040230
CREATED:20250423T120205Z
LAST-MODIFIED:20250423T120238Z
UID:93058-1747139400-1747159200@pretwerk.nl
SUMMARY:Off grid - op weg naar zelfvoorzienende vakantieparken
DESCRIPTION:Wat is hét ideale off-the-grid-vakantiehuisje? Hoe nodig zijn nutsvoorzieningen? En hoe ziet zo’n vakantie eruit? Heeft het toekomst? Met deze én meer vragen duiken we samen de Kennistafel in. Met lezingen door mensen uit het veld die hun ervaringen delen\, discussies tussen verschillende partijen en interessante gesprekken met bouwers en beheerders.
URL:https://pretwerk.nl/evenement/off-grid-op-naar-zelfvoorzienende-vakantieparken/
LOCATION:EuroParcs de Wije Werelt\, Otterlo\, Netherlands
CATEGORIES:Congres,Netwerkbijeenkomst
ATTACH;FMTTYPE=image/jpeg:https://pretwerk.nl/wp-content/uploads/2025/04/glamping-reis-65.jpg
END:VEVENT
BEGIN:VEVENT
DTSTART;TZID=Europe/Amsterdam:20250513T000000
DTEND;TZID=Europe/Amsterdam:20250514T235959
DTSTAMP:20260421T040230
CREATED:20250506T115340Z
LAST-MODIFIED:20250513T094104Z
UID:93190-1747094400-1747267199@pretwerk.nl
SUMMARY:Greenloop - duurzame attracties
DESCRIPTION:Greenloop is een online conferentie over duurzaamheid in bezoekersattracties\, georganiseerd door attractieplatform Blooloop
URL:https://pretwerk.nl/evenement/greenloop-duurzame-attracties/
LOCATION:online
CATEGORIES:webinar
ATTACH;FMTTYPE=image/jpeg:https://pretwerk.nl/wp-content/uploads/2025/05/banner-greenloop.jpg
END:VEVENT
BEGIN:VEVENT
DTSTART;TZID=Europe/Amsterdam:20250506T090000
DTEND;TZID=Europe/Amsterdam:20250509T170000
DTSTAMP:20260421T040230
CREATED:20250319T152252Z
LAST-MODIFIED:20250410T101804Z
UID:92411-1746522000-1746810000@pretwerk.nl
SUMMARY:SATE Europe
DESCRIPTION:Op het SATE event\, geïnitieerd door branchevereniging TEA\, komen Storytellers\, Architecten\, Thematiseerders en Entertainers bij elkaar om vanuit verschillende disciplines de toekomst van de attractiesector.
URL:https://pretwerk.nl/evenement/sate-europe/
LOCATION:Blackpool\, Blackpool\, United Kingdom
CATEGORIES:Congres,Internationaal
ATTACH;FMTTYPE=image/jpeg:https://pretwerk.nl/wp-content/uploads/2025/03/logo-sate.jpg
END:VEVENT
BEGIN:VEVENT
DTSTART;TZID=Europe/Amsterdam:20250407T100000
DTEND;TZID=Europe/Amsterdam:20250407T173000
DTSTAMP:20260421T040230
CREATED:20250331T165538Z
LAST-MODIFIED:20250331T165820Z
UID:92597-1744020000-1744047000@pretwerk.nl
SUMMARY:Nationaal Congres Evenementen
DESCRIPTION:De sprekers op het congres gaan in op vragen zoals: Hoe houden we evenementen betaalbaar en toegankelijk? Welke kansen liggen er voor organisatoren? Wat kan AI betekenen voor organisatoren en gemeenten? Waarom moeten inclusieve en diverse evenementen een streepje voor krijgen? En hoe benutten we duurzamer onze (openbare) locaties zodat we evenementen meer de ruimte geven.
URL:https://pretwerk.nl/evenement/nationaal-congres-evenementen-5/
CATEGORIES:Congres
ATTACH;FMTTYPE=image/jpeg:https://pretwerk.nl/wp-content/uploads/2025/03/nce.jpg
END:VEVENT
BEGIN:VEVENT
DTSTART;TZID=Europe/Amsterdam:20250402T100000
DTEND;TZID=Europe/Amsterdam:20250403T170000
DTSTAMP:20260421T040230
CREATED:20241206T154135Z
LAST-MODIFIED:20241206T154137Z
UID:90791-1743588000-1743699600@pretwerk.nl
SUMMARY:Webwinkel Vakdagen
DESCRIPTION:Beurs met kennisprogramma voor iedere ondernemer of marketeer die afhankelijk is van online verkopen. Hier worden de laatste trends besproken.
URL:https://pretwerk.nl/evenement/webwinkel-vakdagen-3/
LOCATION:Jaarbeurs Utrecht
CATEGORIES:Congres,Vakbeurs
ATTACH;FMTTYPE=image/jpeg:https://pretwerk.nl/wp-content/uploads/2024/12/webwinkel-vakdagen.jpg
END:VEVENT
BEGIN:VEVENT
DTSTART;TZID=Europe/Amsterdam:20250331T123000
DTEND;TZID=Europe/Amsterdam:20250331T170000
DTSTAMP:20260421T040230
CREATED:20250221T142801Z
LAST-MODIFIED:20250221T142802Z
UID:91991-1743424200-1743440400@pretwerk.nl
SUMMARY:Symposium Cultuur & Erfgoed: De toekomst van binnensteden
DESCRIPTION:Tijdens het symposium gaan we dieper in op de mogelijkheden die cultuur en erfgoed bieden om steden aantrekkelijker te maken als vestigings- en woonplaats\, evenals ontmoetingsplekken. Hoe kunnen cultuur en erfgoed bijdragen aan de transformatie van steden naar aantrekkelijkere\, levendigere en leefbare plekken voor zowel bewoners als bezoekers.
URL:https://pretwerk.nl/evenement/symposium-cultuur-erfgoed-de-toekomst-van-binnensteden/
LOCATION:Verkadefabriek\, Den Bosch\, Netherlands
CATEGORIES:Congres
ATTACH;FMTTYPE=image/jpeg:https://pretwerk.nl/wp-content/uploads/Ginder_logo_300-x-90.jpg
END:VEVENT
BEGIN:VEVENT
DTSTART;TZID=Europe/Amsterdam:20250327T143000
DTEND;TZID=Europe/Amsterdam:20250327T170000
DTSTAMP:20260421T040230
CREATED:20250213T155332Z
LAST-MODIFIED:20250213T155334Z
UID:91868-1743085800-1743094800@pretwerk.nl
SUMMARY:FEC Meeting Karma Kebab\, de grootste Arcadehal ter wereld
DESCRIPTION:VIP- FEC Meeting voor professionals in Family Entertainment Centers. Stap ook binnen in de grootste arcadehal ter wereld en beleef een spektakel van licht\, geluid en actie! Een attractie warehouse gecreëerd door Karma Kebab en Games-XL. Thijs Eerens\, ontwerper en producent van deze exclusieve Life Action Gaming van Games-XL geeft je een toelichting.
URL:https://pretwerk.nl/evenement/fec-meeting-karma-kebab-de-grootste-arcadehal-ter-wereld/
LOCATION:Karma Kebab\, Utrecht\, Netherlands
CATEGORIES:Netwerkbijeenkomst
ATTACH;FMTTYPE=image/jpeg:https://pretwerk.nl/wp-content/uploads/2025/02/vakdag-fec.jpg
END:VEVENT
BEGIN:VEVENT
DTSTART;TZID=Europe/Amsterdam:20250324T000000
DTEND;TZID=Europe/Amsterdam:20250325T235959
DTSTAMP:20260421T040230
CREATED:20241119T135632Z
LAST-MODIFIED:20241129T132346Z
UID:90482-1742774400-1742947199@pretwerk.nl
SUMMARY:2-daagse Glamping Studiereis
DESCRIPTION:Een 2-daagse glamping inspiratiereis naar 12 unieke locaties. Georganiseerd door Pleisureworld. Een verrassende\, leerzame ontdekkingstocht langs Mini – Eco Resorts en Ultra Luxe Wellness\, Festival Campings\, Outback Glamping\, Retreats & Slow Living Concepten\, milieu vriendelijke vakantiewoningen uit de fabriek\, exploitatie op afstand\, presentaties van nieuwe innovaties\, een verblijf op het eerste Landgoed met Modular Homes en nog veel meer….
URL:https://pretwerk.nl/evenement/2-daagse-glamping-studiereis/
LOCATION:Boutique Parc Buitengewoon\, Ven-Zelderheide\, Netherlands
CATEGORIES:studiereis
ATTACH;FMTTYPE=image/png:https://pretwerk.nl/wp-content/uploads/2024/11/banner-Vakantiehuis-van-de-toekomst.png
END:VEVENT
BEGIN:VEVENT
DTSTART;TZID=Europe/Amsterdam:20250321T100000
DTEND;TZID=Europe/Amsterdam:20250323T170000
DTSTAMP:20260421T040230
CREATED:20241119T132201Z
LAST-MODIFIED:20241119T140620Z
UID:90473-1742551200-1742749200@pretwerk.nl
SUMMARY:Second Home Beurs
DESCRIPTION:Beurs voor de verkoop van vakantiewoningen. Er is een aanbod vanuit de hele wereld en een groot segment uit Nederland. Daarmee is dit ook een mooie netwerkplek voor professionals uit de leisure vastgoedsector.
URL:https://pretwerk.nl/evenement/second-home-beurs-8/
LOCATION:Jaarbeurs Utrecht
CATEGORIES:Publieksbeurs
ATTACH;FMTTYPE=image/png:https://pretwerk.nl/wp-content/uploads/second-home.png
END:VEVENT
BEGIN:VEVENT
DTSTART;TZID=Europe/Amsterdam:20250320T130000
DTEND;TZID=Europe/Amsterdam:20250320T173000
DTSTAMP:20260421T040230
CREATED:20250127T102723Z
LAST-MODIFIED:20250127T102725Z
UID:91619-1742475600-1742491800@pretwerk.nl
SUMMARY:Citymarketing: bouwen aan identiteit
DESCRIPTION:Verschillende perspectieven gecombineerd: citymarketing\, gebiedsontwikkeling en ruimtelijke ordening
URL:https://pretwerk.nl/evenement/citymarketing-bouwen-aan-identiteit/
LOCATION:De Entree\, Amsterdam\, Netherlands
CATEGORIES:Congres
ATTACH;FMTTYPE=image/jpeg:https://pretwerk.nl/wp-content/uploads/2025/01/netwerk-citymarketing-nederland.jpg
END:VEVENT
BEGIN:VEVENT
DTSTART;TZID=Europe/Amsterdam:20250320T093000
DTEND;TZID=Europe/Amsterdam:20250322T163000
DTSTAMP:20260421T040230
CREATED:20250116T105853Z
LAST-MODIFIED:20250116T105855Z
UID:91474-1742463000-1742661000@pretwerk.nl
SUMMARY:VeineDAGEN
DESCRIPTION:De VeineDAGEN werden voorheen georganiseerd onder de naam Supportbeurs. Drie dagen lang draait het op de VeineDAGEN en de ZieZobeurs (visuele beperking) om kinderen en volwassenen met een beperking; fysiek\, verstandelijk\, auditief\, visueel en/of een combinatie ervan. Wat hebben zij nodig\, welke vragen hebben zij? Op de VeineDAGEN vind je informatie over: hulpmiddelen\, mobiliteit\, vakanties\, therapieën\, werk en studie\, sociale contacten\, interieur\, kleding\, sport enzovoort. Ondernemers die met het verbeteren van hun toegankelijkheid aan de slag willen\, vinden hier veel informatie en betrokken partijen. Heb je al een breed toegankelijk aanbod\, dan kun je ook overwegen om hier een stand te boeken.
URL:https://pretwerk.nl/evenement/veinedagen/
LOCATION:Jaarbeurs Utrecht
CATEGORIES:Publieksbeurs
ATTACH;FMTTYPE=image/jpeg:https://pretwerk.nl/wp-content/uploads/2025/01/logo-veinedagen.jpg
END:VEVENT
BEGIN:VEVENT
DTSTART;TZID=Europe/Amsterdam:20250320T090000
DTEND;TZID=Europe/Amsterdam:20250320T160000
DTSTAMP:20260421T040230
CREATED:20241204T123206Z
LAST-MODIFIED:20241204T123208Z
UID:90754-1742461200-1742486400@pretwerk.nl
SUMMARY:Vakbeurs Sportaccommodaties
DESCRIPTION:De nieuwste oplossingen voor zowel binnen- als buitensport en andere beweegomgevingen. Sluit aan in lezingenzalen om alle ins- en outs te leren over beheer\, onderhoud en bouw.
URL:https://pretwerk.nl/evenement/vakbeurs-sportaccommodaties-3/
LOCATION:Expo Houten\, Houten\, Nederland
CATEGORIES:Congres,Vakbeurs
ATTACH;FMTTYPE=image/jpeg:https://pretwerk.nl/wp-content/uploads/2024/12/logo-vakbeurs-sportaccommodaties.jpg
END:VEVENT
BEGIN:VEVENT
DTSTART;TZID=Europe/Amsterdam:20250320T000000
DTEND;TZID=Europe/Amsterdam:20250320T235959
DTSTAMP:20260421T040230
CREATED:20241230T125420Z
LAST-MODIFIED:20250311T095158Z
UID:91147-1742428800-1742515199@pretwerk.nl
SUMMARY:Trendcongres Toerisme
DESCRIPTION:Het thema van het congres is Toerisme in Transformatie: Business as Unusual. Het wordt een inspirerende dag met buitenlandse keynotes\, verdiepende breakout sessies en veel netwerkmogelijkheden
URL:https://pretwerk.nl/evenement/trendcongres-toerisme/
LOCATION:Breda University\, Breda\, Nederland
CATEGORIES:Congres
ATTACH;FMTTYPE=image/jpeg:https://pretwerk.nl/wp-content/uploads/2024/12/Trendcongres-2025-Business-as-Unusual.jpg
END:VEVENT
BEGIN:VEVENT
DTSTART;TZID=Europe/Amsterdam:20250318T110000
DTEND;TZID=Europe/Amsterdam:20250318T170000
DTSTAMP:20260421T040230
CREATED:20250307T115632Z
LAST-MODIFIED:20250307T115805Z
UID:92256-1742295600-1742317200@pretwerk.nl
SUMMARY:Creatics klantendag
DESCRIPTION:Een dag vol innovatie\, interactie en netwerkmogelijkheden. Maak kennis met diverse aanbieders van interactieve spelvormen. Dit jaar staat een bijzondere toevoeging op het programma: een keynote en workshop over AI in de leisurebranche\, verzorgd door AI-specialist en trendspreker Chris van Vleuten.
URL:https://pretwerk.nl/evenement/creatics-klantendag/
LOCATION:Bij45\, Beverwijk\, Netherlands
CATEGORIES:Netwerkbijeenkomst
ATTACH;FMTTYPE=image/jpeg:https://pretwerk.nl/wp-content/uploads/2025/03/creatics-klantendag.jpg
END:VEVENT
BEGIN:VEVENT
DTSTART;TZID=Europe/Amsterdam:20250318T000000
DTEND;TZID=Europe/Amsterdam:20250318T235959
DTSTAMP:20260421T040230
CREATED:20250102T102139Z
LAST-MODIFIED:20250102T102141Z
UID:91198-1742256000-1742342399@pretwerk.nl
SUMMARY:Embrace (by Booking Experts)
DESCRIPTION:Het jaarlijkse kennisevent voor de verblijfsrecreatie\, georganiseerd door Booking Experts. “Dit event draait helemaal om het vereenvoudigen van processen\, zodat je meer tijd overhoudt voor waar het écht om gaat: het creëren van onvergetelijke ervaringen voor je gasten.”
URL:https://pretwerk.nl/evenement/embrace-by-booking-experts/
LOCATION:Midden Nederland Hallen\, Barneveld\, Nederland
CATEGORIES:Congres
ATTACH;FMTTYPE=image/jpeg:https://pretwerk.nl/wp-content/uploads/2024/02/embrace-growth-booking-experts.jpg
END:VEVENT
BEGIN:VEVENT
DTSTART;TZID=Europe/Amsterdam:20250315T100000
DTEND;TZID=Europe/Amsterdam:20250316T170000
DTSTAMP:20260421T040230
CREATED:20241129T135820Z
LAST-MODIFIED:20241129T135857Z
UID:90670-1742032800-1742144400@pretwerk.nl
SUMMARY:Flightsimweekend
DESCRIPTION:Het Flightsimweekend is er voor zowel de professionele als de recreatieve markt. Het is vooral een ontmoetingsplek voor iedereen met een passie voor flight simulators. Op de beursvloer kun je diverse simulatoren zelf uitproberen. Er is ook een kennisplatform waar de laatste trends worden gedeeld.
URL:https://pretwerk.nl/evenement/flightsimweekend/
LOCATION:Aviodrome\, Lelystad\, Netherlands
CATEGORIES:Vakbeurs
ATTACH;FMTTYPE=image/jpeg:https://pretwerk.nl/wp-content/uploads/2024/11/logo-flightsimweekend.jpg
END:VEVENT
BEGIN:VEVENT
DTSTART;TZID=Europe/Amsterdam:20250311T140000
DTEND;TZID=Europe/Amsterdam:20250311T193000
DTSTAMP:20260421T040230
CREATED:20241231T130724Z
LAST-MODIFIED:20241231T130813Z
UID:91186-1741701600-1741721400@pretwerk.nl
SUMMARY:Frysk Toerisme Festival
DESCRIPTION:Het Frysk Toerisme Festival is hét jaarlijks terugkerende event waar de hele Friese gastvrijheidssector samenkomt om te netwerken\, kennis te delen en zich te laten inspireren. Dit jaar vindt het congres plaats in festivalvorm. Het thema van dit jaar is ‘de takomst fan toerisme’. Een van de keynote speakers is Anna Pollock; Internationaal expert op het gebied van regeneratief toerisme.
URL:https://pretwerk.nl/evenement/frysk-toerisme-festival/
LOCATION:Stadsschouwburg de Harmonie\, Leeuwarden\, 8911 BP\, Netherlands
ATTACH;FMTTYPE=image/jpeg:https://pretwerk.nl/wp-content/uploads/2024/12/frysk-toerisme-festival.jpg
END:VEVENT
BEGIN:VEVENT
DTSTART;TZID=Europe/Amsterdam:20250311T100000
DTEND;TZID=Europe/Amsterdam:20250312T170000
DTSTAMP:20260421T040230
CREATED:20241217T145327Z
LAST-MODIFIED:20241217T145400Z
UID:91003-1741687200-1741798800@pretwerk.nl
SUMMARY:Independent Hotel Show Amsterdam
DESCRIPTION:Een reizende vakbeurs voor hoteliers die ook andere Europese steden aandoet. Het is een vakbeurs\, aangevuld met workshops. Op veel gebieden is de hotelsector een voorloper binnen de verblijfsrecreatie. Dus hier valt vast nog wat te leren.
URL:https://pretwerk.nl/evenement/independent-hotel-show-amsterdam/
LOCATION:RAI\, Amsterdam
CATEGORIES:Vakbeurs
ATTACH;FMTTYPE=image/jpeg:https://pretwerk.nl/wp-content/uploads/2023/11/independent-hotel-show.jpg
END:VEVENT
BEGIN:VEVENT
DTSTART;TZID=Europe/Amsterdam:20250310T100000
DTEND;TZID=Europe/Amsterdam:20250310T160000
DTSTAMP:20260421T040230
CREATED:20250203T153231Z
LAST-MODIFIED:20250203T155441Z
UID:91731-1741600800-1741622400@pretwerk.nl
SUMMARY:Training: AI in de vrijetijdssector
DESCRIPTION:Na een inleiding over trends en ontwikkelingen in Artificial Intelligence (AI) ga je zelf aan de slag met diverse geselecteerde AI tools om o.a. een chatbot te maken. Een uitstekende manier om snel en efficiënt kennis te maken met de mogelijkheden die er nu al zijn. Deze training is geschikt voor ondernemers\, managers\, beleidsmakers en overige professionals binnen de vrijetijdssector die AI willen inzetten voor groei\, efficiëntie en innovatie.
URL:https://pretwerk.nl/evenement/training-ai-in-de-vrijetijdssector/
LOCATION:Brasserie Harderwold\, Zeewolde\, Netherlands
CATEGORIES:Cursus
ATTACH;FMTTYPE=image/jpeg:https://pretwerk.nl/wp-content/uploads/2025/02/ai-in-leisure.jpg
END:VEVENT
BEGIN:VEVENT
DTSTART;TZID=Europe/Amsterdam:20250305T100000
DTEND;TZID=Europe/Amsterdam:20250309T170000
DTSTAMP:20260421T040230
CREATED:20241119T133259Z
LAST-MODIFIED:20250127T104031Z
UID:90477-1741168800-1741539600@pretwerk.nl
SUMMARY:Boot Holland (geannuleerd)
DESCRIPTION:Boot Holland 2025 biedt meer dan alleen boten en accessoires. Het evenement draait om het creëren van een complete beleving. Naast het bekijken van boten heb je de mogelijkheid om deel te nemen aan demonstraties en presentaties van experts. Of je nu een ervaren watersporter bent of net begint\, er is voor iedereen iets te beleven. \n\n\n\n“De organisatie van Boot Holland\, de enige indoor watersportbeurs van Nederland\, heeft besloten de editie van 2025 te verplaatsen naar 2026. Deze beslissing is genomen in overleg met diverse betrokkenen en is in het belang van zowel de exposanten als de bezoekers.“
URL:https://pretwerk.nl/evenement/boot-holland-3/
LOCATION:WTC Leeuwarden\, Leeuwarden
ATTACH;FMTTYPE=image/jpeg:https://pretwerk.nl/wp-content/uploads/2024/11/logo-boot-holland.jpg
END:VEVENT
BEGIN:VEVENT
DTSTART;TZID=Europe/Amsterdam:20250304T100000
DTEND;TZID=Europe/Amsterdam:20250306T180000
DTSTAMP:20260421T040230
CREATED:20250117T125523Z
LAST-MODIFIED:20250117T125525Z
UID:91494-1741082400-1741284000@pretwerk.nl
SUMMARY:ITB
DESCRIPTION:De ITB in Berlijn wordt aangekondigd als ‘The World’s Leading Travel Trade Show’. Op internationale b2b beurs voor de toeristische sector presenteren toeristische destinaties zich. Ook het NBTC is elk jaar vertegenwoordigd op de ITB om\, samen met partners\, de destinatie Nederland op de kaart te zetten voor zowel recreatieve als zakelijke bezoekers.
URL:https://pretwerk.nl/evenement/itb/
LOCATION:Messe Berlin\, Berlijn\, Duitsland
CATEGORIES:Internationaal,Vakbeurs
ATTACH;FMTTYPE=image/jpeg:https://pretwerk.nl/wp-content/uploads/Logo_ITB_Berlin_with_claim_english.jpg
END:VEVENT
BEGIN:VEVENT
DTSTART;TZID=Europe/Amsterdam:20250301T080000
DTEND;TZID=Europe/Amsterdam:20250302T170000
DTSTAMP:20260421T040230
CREATED:20241119T131350Z
LAST-MODIFIED:20241119T140656Z
UID:90470-1740816000-1740934800@pretwerk.nl
SUMMARY:Fiets en Wandelbeurs
DESCRIPTION:Publieksevent voor fiets- en wandelliefhebbers met een aanbod van o.a. hardware (w.o. fietsen) en destinaties.
URL:https://pretwerk.nl/evenement/fiets-en-wandelbeurs-2/
LOCATION:Flanders Expo\, Gent\, Gent\, België
CATEGORIES:Publieksbeurs
ATTACH;FMTTYPE=image/png:https://pretwerk.nl/wp-content/uploads/2024/11/FWB_logo_BE.png
END:VEVENT
BEGIN:VEVENT
DTSTART;TZID=Europe/Amsterdam:20250225T123000
DTEND;TZID=Europe/Amsterdam:20250225T180000
DTSTAMP:20260421T040230
CREATED:20250205T144850Z
LAST-MODIFIED:20250211T092003Z
UID:91766-1740486600-1740506400@pretwerk.nl
SUMMARY:Pleisureworld kennistafel 1: Ontwerp(en) het Tiny House
DESCRIPTION:Kennisplatform Vakantiehuis van de Toekomst (Pleisureworld) organiseert enkele kennistafels rond een afgebakend onderwerp. Deze keer: Wat is de beste locatie om een tiny house als vakantiebestemming te exploiteren\, en zijn er complete vakantieparken mee mogelijk? Wat betekent deze beweging voor de wellicht wat traditionelere recreatieondernemer\, en is de verhuur van een tiny house voor iedereen een antwoord? Hoe pak je het aan met receptiegebouwen\, entertainment\, restaurants en andere voorzieningen op een vakantiepark vol tiny houses?
URL:https://pretwerk.nl/evenement/pleisureworld-kennistafel-1-ontwerpen-het-tiny-house/
CATEGORIES:Netwerkbijeenkomst
ATTACH;FMTTYPE=image/jpeg:https://pretwerk.nl/wp-content/uploads/2025/02/vakantiehuis-van-de-toekomst.jpg
END:VEVENT
BEGIN:VEVENT
DTSTART;TZID=Europe/Amsterdam:20250225T090000
DTEND;TZID=Europe/Amsterdam:20250225T170000
DTSTAMP:20260421T040230
CREATED:20250205T144058Z
LAST-MODIFIED:20250205T144143Z
UID:91763-1740474000-1740502800@pretwerk.nl
SUMMARY:Insiders inspiratiedag
DESCRIPTION:Insiders\, de marktleider op het gebied van websites en marketingondersteuning van Destinatie Marketing Organisaties (DMO’s) en Citymarketing organisaties (CMO’s)\, viert dit jaar haar 25e verjaardag. Het jaarlijkse congres krijgt een kwalitatief heel bijzondere invulling. Storytelling is dit jaar het centrale thema. Naast de laatste trends in destinatiemarketing kun je ook inspiratie opdoen in de keynote presentatie door Olaf Vughts (de oud creatief directeur van de Efteling). Deelname aan dit congres; op uitnodiging.
URL:https://pretwerk.nl/evenement/insiders-inspiratiedag/
CATEGORIES:Congres
ATTACH;FMTTYPE=image/jpeg:https://pretwerk.nl/wp-content/uploads/2025/02/insiders.jpg
END:VEVENT
BEGIN:VEVENT
DTSTART;TZID=Europe/Amsterdam:20250224T130000
DTEND;TZID=Europe/Amsterdam:20250301T190000
DTSTAMP:20260421T040230
CREATED:20241231T103710Z
LAST-MODIFIED:20241231T104059Z
UID:91171-1740402000-1740855600@pretwerk.nl
SUMMARY:Dé Aangepaste Vakantiebeurs
DESCRIPTION:De Aangepaste Vakantiebeurs is speciaal voor iedereen met een beperking\, zowel lichamelijk als verstandelijk. Of je nu een rolstoel of rollator gebruikt\, of extra zorg nodig hebt tijdens je vakantie\, deze beurs biedt volop mogelijkheden. Tijdens de beursweek vaart het Vakantieschip langs verschillende steden in Nederland en België\, zodat je dichtbij huis deze unieke beurs kunt bezoeken. \n\n\n\nMaandag 24 februari – Antwerpen\nDinsdag 25 februari – Rotterdam\nWoensdag 26 februari – Tiel\nDonderdag 27 februari – Amsterdam\nVrijdag 28 februari – Lelystad\nZaterdag 1 maart – Harlingen
URL:https://pretwerk.nl/evenement/de-aangepaste-vakantiebeurs/
LOCATION:Reizend\, Netherlands
CATEGORIES:Publieksbeurs
ATTACH;FMTTYPE=image/jpeg:https://pretwerk.nl/wp-content/uploads/2024/12/logo-vakantieschip.jpg
END:VEVENT
BEGIN:VEVENT
DTSTART;TZID=Europe/Amsterdam:20250220T133000
DTEND;TZID=Europe/Amsterdam:20250220T173000
DTSTAMP:20260421T040230
CREATED:20250213T155756Z
LAST-MODIFIED:20250213T155757Z
UID:91873-1740058200-1740072600@pretwerk.nl
SUMMARY:Kennisupdate Live (provincie Zeeland)
DESCRIPTION:Tijdens deze editie werken HZ Kenniscentrum Kusttoerisme en Impuls Zeeland nog intensiever samen\, om ervoor te zorgen dat de kennis ook direct toegepast kan worden. Naast actuele cijfers en feiten gaan we ook in op de meerwaarde van onze internationale projecten voor Zeeland. Ook is er volop gelegenheid om uw vraagstukken in te brengen.
URL:https://pretwerk.nl/evenement/kennisupdate-live-provincie-zeeland/
LOCATION:HZ University\, Vlissingen\, Netherlands
CATEGORIES:Congres
ATTACH;FMTTYPE=image/jpeg:https://pretwerk.nl/wp-content/uploads/2025/02/kenniscentrum-kusttoerisme.jpg
END:VEVENT
END:VCALENDAR