BEGIN:VCALENDAR
VERSION:2.0
PRODID:-//Pretwerk - ECPv6.6.3//NONSGML v1.0//EN
CALSCALE:GREGORIAN
METHOD:PUBLISH
X-WR-CALNAME:Pretwerk
X-ORIGINAL-URL:https://pretwerk.nl
X-WR-CALDESC:Evenementen voor Pretwerk
REFRESH-INTERVAL;VALUE=DURATION:PT1H
X-Robots-Tag:noindex
X-PUBLISHED-TTL:PT1H
BEGIN:VTIMEZONE
TZID:Europe/Amsterdam
BEGIN:DAYLIGHT
TZOFFSETFROM:+0100
TZOFFSETTO:+0200
TZNAME:CEST
DTSTART:20250330T010000
END:DAYLIGHT
BEGIN:STANDARD
TZOFFSETFROM:+0200
TZOFFSETTO:+0100
TZNAME:CET
DTSTART:20251026T010000
END:STANDARD
BEGIN:DAYLIGHT
TZOFFSETFROM:+0100
TZOFFSETTO:+0200
TZNAME:CEST
DTSTART:20260329T010000
END:DAYLIGHT
BEGIN:STANDARD
TZOFFSETFROM:+0200
TZOFFSETTO:+0100
TZNAME:CET
DTSTART:20261025T010000
END:STANDARD
END:VTIMEZONE
BEGIN:VEVENT
DTSTART;TZID=Europe/Amsterdam:20260116T000000
DTEND;TZID=Europe/Amsterdam:20260118T235959
DTSTAMP:20260421T015437
CREATED:20251204T123120Z
LAST-MODIFIED:20251204T123121Z
UID:97374-1768521600-1768780799@pretwerk.nl
SUMMARY:Velofollies
DESCRIPTION:Velofollies is een publieksbeurs met een volledig overzicht van de fietsmarkt. Ook fietsbestemmingen en fietsvakanties komen hier aan bod.
URL:https://pretwerk.nl/evenement/velofollies-3/
LOCATION:Expo Kortrijk\, Kortrijk\, Belgium
CATEGORIES:Publieksbeurs
ATTACH;FMTTYPE=image/jpeg:https://pretwerk.nl/wp-content/uploads/2025/12/velofollies.jpg
END:VEVENT
BEGIN:VEVENT
DTSTART;TZID=Europe/Amsterdam:20260115T090000
DTEND;TZID=Europe/Amsterdam:20260117T180000
DTSTAMP:20260421T015437
CREATED:20260107T083010Z
LAST-MODIFIED:20260107T083015Z
UID:97845-1768467600-1768672800@pretwerk.nl
SUMMARY:Atrax
DESCRIPTION:Internationale attractie vakbeurs in Turkije\, met vier grote segmenten: Attracties (o.a. indoor amusement)\, Attractieparken\, Waterparken\, en Leisure Landscape (o.a. tuin en groenvoorziening)
URL:https://pretwerk.nl/evenement/atrax/
LOCATION:Istanbul Expo Center\, Istanbul\, Turkey
ATTACH;FMTTYPE=image/jpeg:https://pretwerk.nl/wp-content/uploads/2026/01/logo-atrax.jpg
END:VEVENT
BEGIN:VEVENT
DTSTART;TZID=Europe/Amsterdam:20260113T000000
DTEND;TZID=Europe/Amsterdam:20260115T235959
DTSTAMP:20260421T015437
CREATED:20251120T101035Z
LAST-MODIFIED:20251120T101458Z
UID:97042-1768262400-1768521599@pretwerk.nl
SUMMARY:Entertainment\, Attractions & Gaming Expo
DESCRIPTION:Dit is een vakbeurs met internationale ambities\, maar in de eerste plaats gericht op de Britse markt. Onderdeel van de EAG Expo zijn ‘De Social Immersive Entertainment Expo’ en de ‘London Casino & Gaming Show’.
URL:https://pretwerk.nl/evenement/entertainment-attractions-gaming-expo/
LOCATION:Excel\, Londen\, Verenigd Koninkrijk
CATEGORIES:Internationaal,Vakbeurs
ATTACH;FMTTYPE=image/jpeg:https://pretwerk.nl/wp-content/uploads/2025/11/eag-2026.jpg
END:VEVENT
BEGIN:VEVENT
DTSTART;TZID=Europe/Amsterdam:20260112T100000
DTEND;TZID=Europe/Amsterdam:20260115T170000
DTSTAMP:20260421T015437
CREATED:20251021T123114Z
LAST-MODIFIED:20251217T123434Z
UID:96419-1768212000-1768496400@pretwerk.nl
SUMMARY:Horecava
DESCRIPTION:De grootste horeca vakbeurs van Nederland met o.a. aandacht voor food-gerelateerde onderwerpen zoals restaurants\, fastfood\, keukeninrichting en terrassen. De 14e is het voor leisure ondernemers extra aantrekkelijk om naar Amsterdam te komen. Dan wordt ook het Art & Leisure symposium georganiseerd.
URL:https://pretwerk.nl/evenement/horecava-3/
LOCATION:RAI\, Amsterdam
CATEGORIES:Vakbeurs
ATTACH;FMTTYPE=image/png:https://pretwerk.nl/wp-content/uploads/2024/11/horecava-banner.png
END:VEVENT
BEGIN:VEVENT
DTSTART;TZID=Europe/Amsterdam:20260112T100000
DTEND;TZID=Europe/Amsterdam:20260114T170000
DTSTAMP:20260421T015437
CREATED:20251110T101935Z
LAST-MODIFIED:20251110T101938Z
UID:96731-1768212000-1768410000@pretwerk.nl
SUMMARY:CUE - Vakbeurs event-\, installatie- en entertainmenttechnologie
DESCRIPTION:Op de beursvloer vindt u een ruim aanbod aan deelnemers uit de live entertainment\, theatertechniek en multimedia branche. Denk aan leveranciers uit de sectoren advies & ontwerp\, beeldapparatuur\, decor & accessoires\, geluidstechniek\, hijs- en heftechniek\, hoogwerksystemen en klimmateriaal\, lichttechniek\, multimedia\, broadcastapparatuur en installatie\, meubilair en zaalstoelen en meer!
URL:https://pretwerk.nl/evenement/cue-vakbeurs-event-installatie-en-entertainmenttechnologie/
LOCATION:ahoy Rotterdam\, Rotterdam
CATEGORIES:Vakbeurs
ATTACH;FMTTYPE=image/jpeg:https://pretwerk.nl/wp-content/uploads/2025/11/cue-26.jpg
END:VEVENT
BEGIN:VEVENT
DTSTART;TZID=Europe/Amsterdam:20260108T080000
DTEND;TZID=Europe/Amsterdam:20260111T170000
DTSTAMP:20260421T015437
CREATED:20251118T084818Z
LAST-MODIFIED:20251118T084820Z
UID:96967-1767859200-1768150800@pretwerk.nl
SUMMARY:Vakantiebeurs Utrecht
DESCRIPTION:De Vakantiebeurs is het grootste reisevenement van Nederland. De nadruk ligt de laatste jaren vooral op buitenlandse vakanties. Het aandeel van vakantie in Nederland (en België) is erg beperkt. Voor de Nederlandse leisure-professional is vooral het gekoppelde b2b event Travel Trade Days nog wel relevant.
URL:https://pretwerk.nl/evenement/vakantiebeurs-utrecht/
LOCATION:Jaarbeurs Utrecht
CATEGORIES:Publieksbeurs
ATTACH;FMTTYPE=image/jpeg:https://pretwerk.nl/wp-content/uploads/vakantiebeurs-logo.jpg
END:VEVENT
BEGIN:VEVENT
DTSTART;TZID=Europe/Amsterdam:20260107T100000
DTEND;TZID=Europe/Amsterdam:20260108T170000
DTSTAMP:20260421T015437
CREATED:20251021T124737Z
LAST-MODIFIED:20251021T124831Z
UID:96421-1767780000-1767891600@pretwerk.nl
SUMMARY:Travel Trade Days
DESCRIPTION:Gedurende twee inspirerende dagen komt de reissector uit de Benelux samen om kennis en inspiratie te delen\, nieuwe trends en technologieën te ontdekken en waardevolle samenwerkingen aan te gaan die bijdragen aan duurzame groei in de sector. De Travel Trade Days zijn gekoppeld aan de Vakantiebeurs in Utrecht. (Opvolger van de Vakantiebeurs Vakdag)
URL:https://pretwerk.nl/evenement/travel-trade-days-2/
LOCATION:Jaarbeurs Utrecht\, Utrecht
CATEGORIES:Congres,Vakbeurs
ATTACH;FMTTYPE=image/jpeg:https://pretwerk.nl/wp-content/uploads/2025/10/travel-trade-days.jpg
END:VEVENT
BEGIN:VEVENT
DTSTART;TZID=Europe/Amsterdam:20251217T103000
DTEND;TZID=Europe/Amsterdam:20251217T233000
DTSTAMP:20260421T015437
CREATED:20251024T114104Z
LAST-MODIFIED:20251024T114108Z
UID:96483-1765967400-1766014200@pretwerk.nl
SUMMARY:TEA EME Festive Event in Brussels
DESCRIPTION:De Themed Entertainment Association (TEA) organiseert een kijkje achter de schermen bij Train World Brussel en Walibi Belgium. Dit is tevens een netwerkbijeenkomst voor betrokkenen bij de attractiesector in de regio.
URL:https://pretwerk.nl/evenement/tea-eme-festive-event-in-brussels/
LOCATION:Brussel
CATEGORIES:Internationaal,Netwerkbijeenkomst,studiereis
ATTACH;FMTTYPE=image/jpeg:https://pretwerk.nl/wp-content/uploads/2025/10/banner-tea.jpg
END:VEVENT
BEGIN:VEVENT
DTSTART;TZID=Europe/Amsterdam:20251210T120000
DTEND;TZID=Europe/Amsterdam:20251210T180000
DTSTAMP:20260421T015437
CREATED:20250828T122400Z
LAST-MODIFIED:20250828T122401Z
UID:95290-1765368000-1765389600@pretwerk.nl
SUMMARY:Dag van de Recreatie
DESCRIPTION:Op de Dag van de Recreatie 2025 staat generatiemanagement centraal. Voor zowel werkgevers\, werknemers en opleiders dé kans om inzicht te krijgen in hoe we elkaar beter kunnen begrijpen\, waarderen én versterken.
URL:https://pretwerk.nl/evenement/dag-van-de-recreatie-2/
LOCATION:Corpus\, Oegstgeest\, Netherlands
CATEGORIES:Congres,Netwerkbijeenkomst
ATTACH;FMTTYPE=image/jpeg:https://pretwerk.nl/wp-content/uploads/2025/08/dag_van_de_recreatie_logo.jpeg
END:VEVENT
BEGIN:VEVENT
DTSTART;TZID=Europe/Amsterdam:20251209T093000
DTEND;TZID=Europe/Amsterdam:20251209T173000
DTSTAMP:20260421T015437
CREATED:20250807T134102Z
LAST-MODIFIED:20250807T134106Z
UID:94981-1765272600-1765301400@pretwerk.nl
SUMMARY:Nationale Netwerk Lunch
DESCRIPTION:Op de Nationale Netwerklunch\, op 9 december in The Maxx Veenendaal\, is het een komen en gaan van topstukken uit de leisure-sector. Dit is alweer de zesde editie van dit spraakmakende evenement waar steevast honderden recreatie-experts op afkomen. \n\n\n\nNaast de leerzame inzichten van diverse topsprekers\, zijn er meer dan 30 bedrijven aanwezig\, verdeeld over drie Infopleinen. Deze pleinen hebben steeds één hoofdthema: \n\n\n\n\nOff-grid\, circulair & biobased bouwen van het nieuwe vakantiehuis\n\n\n\nFamily Entertainment Centers\, small activity games met een ROI binnen één jaar\n\n\n\nChat GPT\, alles over de stormachtige ontwikkelingen van AI\, met start-ups en innovators
URL:https://pretwerk.nl/evenement/nationale-netwerk-lunch/
LOCATION:The Maxx\, Veenendaal\, Netherlands
CATEGORIES:Netwerkbijeenkomst
ATTACH;FMTTYPE=image/jpeg:https://pretwerk.nl/wp-content/uploads/2025/08/nationale-netwerk-lunch.jpg
END:VEVENT
BEGIN:VEVENT
DTSTART;TZID=Europe/Amsterdam:20251204T090000
DTEND;TZID=Europe/Amsterdam:20251204T173000
DTSTAMP:20260421T015437
CREATED:20251021T121528Z
LAST-MODIFIED:20251124T142310Z
UID:96414-1764838800-1764869400@pretwerk.nl
SUMMARY:Recreatiecongres Drenthe e.o.
DESCRIPTION:Het Recreatiecongres is er voor iedereen die de vrijetijdssector in Drenthe en/of de gemeente Ooststellingwerf een warm hart toedraagt. Dit jaar staan op het podium o.a. Olaf Vugts (ex Efteling)\, Jos Klerkx (Rabobank)\, Richard Otten (Leisure Talk)\, Suzanne-Eikmans (Festival Wallet) en Wouter de Vries & Sonny de Leeuw (passie voor AI ).
URL:https://pretwerk.nl/evenement/recreatiecongres-drenthe-e-o/
LOCATION:Parc Sandur\, Emmen\, Netherlands
CATEGORIES:Congres
ATTACH;FMTTYPE=image/jpeg:https://pretwerk.nl/wp-content/uploads/2025/10/logo-recreatieschap-drenthe.jpg
END:VEVENT
BEGIN:VEVENT
DTSTART;TZID=Europe/Amsterdam:20251202T120000
DTEND;TZID=Europe/Amsterdam:20251202T180000
DTSTAMP:20260421T015437
CREATED:20251110T112246Z
LAST-MODIFIED:20251110T112248Z
UID:96745-1764676800-1764698400@pretwerk.nl
SUMMARY:Kennistafel 4: Biobased bouwen van het nieuwe vakantiehuis
DESCRIPTION:Door Biobased bouwen wordt de leisurewereld – in de vorm van zowel de verblijfsaccommodaties als de complete parken – een betere wereld. In 1 middag delen topexperts hun waardevolle state-of-the-art kennis voor een pragmatische aanpak in projectontwikkeling met talloze voordelen: versnelkansen\, lagere plankosten\, betere kwaliteit\, uniek concept en exploitatie mogelijkheden.
URL:https://pretwerk.nl/evenement/kennistafel-4-biobased-bouwen-van-het-nieuwe-vakantiehuis/
LOCATION:De Kleine Wiel\, Stolwijk\, Netherlands
CATEGORIES:Congres,Netwerkbijeenkomst
ATTACH;FMTTYPE=image/jpeg:https://pretwerk.nl/wp-content/uploads/2025/02/vakantiehuis-van-de-toekomst.jpg
END:VEVENT
BEGIN:VEVENT
DTSTART;TZID=Europe/Amsterdam:20251127T080000
DTEND;TZID=Europe/Amsterdam:20251204T170000
DTSTAMP:20260421T015437
CREATED:20251024T115400Z
LAST-MODIFIED:20251024T115402Z
UID:96485-1764230400-1764867600@pretwerk.nl
SUMMARY:Dutch Game Week
DESCRIPTION:Onder het motto Dive into the World of Play toont Dutch Game Week de volle breedte van de gamewereld: van artistieke experimenten en technologische innovatie tot maatschappelijke impact en jong talent. De week brengt professionals\, spelers en publiek samen in Breda voor conferenties\, workshops\, netwerkevents en feestelijke hoogtepunten als de Dutch Game Awards.
URL:https://pretwerk.nl/evenement/dutch-game-week/
LOCATION:Chassé theater\, Breda\, Netherlands
ATTACH;FMTTYPE=image/jpeg:https://pretwerk.nl/wp-content/uploads/2025/10/logo-Dutch-Game-Week-2025.jpg
END:VEVENT
BEGIN:VEVENT
DTSTART;TZID=Europe/Amsterdam:20251126T153000
DTEND;TZID=Europe/Amsterdam:20251126T180000
DTSTAMP:20260421T015437
CREATED:20251110T133036Z
LAST-MODIFIED:20251110T133038Z
UID:96765-1764171000-1764180000@pretwerk.nl
SUMMARY:Kenniscafé Vrijetijdseconomie Groningen
DESCRIPTION:Voor partners\, ondernemers\, docenten en studenten in de horecabranche organiseren Generation Hospitality en Economic Board Groningen de derde editie van het Kenniscafé XXL met als thema ‘Marge Matters’. \n\n\n\nDe marges in de horeca staan onder druk. Hoe zorg jij ervoor dat je bedrijf gezond en winstgevend blijft? Tijdens dit Kenniscafé duiken we in de financiële kant van de zaak  met concrete inzichten die je direct kunt toepassen. Jos Klerx\, sectorspecialist horeca\, recreatie en toerisme bij Rabobank\, deelt de nieuwste cijfers en trends vanuit het bankwezen.
URL:https://pretwerk.nl/evenement/kenniscafe-vrijetijdseconomie-groningen/
LOCATION:The Dogs Bollocks\, Groningen\, Netherlands
CATEGORIES:Netwerkbijeenkomst
ATTACH;FMTTYPE=image/jpeg:https://pretwerk.nl/wp-content/uploads/2025/11/economic-board-groningen.jpg
END:VEVENT
BEGIN:VEVENT
DTSTART;TZID=Europe/Amsterdam:20251118T000000
DTEND;TZID=Europe/Amsterdam:20251121T235959
DTSTAMP:20260421T015437
CREATED:20250805T141131Z
LAST-MODIFIED:20250805T142846Z
UID:94940-1763424000-1763769599@pretwerk.nl
SUMMARY:IAAPA Expo
DESCRIPTION:De grootste internationale vakbeurs voor de attractiesector\, met een uitgebreid kennisprogramma. Waar de beurs in het verleden vooral gericht was op attractieparken en kermissen\, zien we tegenwoordig een verbreding naar ook andere segmenten uit de dagrecreatie zoals Family Entertainment Centers\, Visitor Centers en Retailtainment. (het kennisprogramma begint al een dagje eerder)
URL:https://pretwerk.nl/evenement/iaapa-expo-3/
LOCATION:Orlando\, Florida (VS)\, Orlando\, florida\, Verenigde Staten
CATEGORIES:Internationaal,Vakbeurs
ATTACH;FMTTYPE=image/jpeg:https://pretwerk.nl/wp-content/uploads/2024/06/iaapa-expo.jpg
END:VEVENT
BEGIN:VEVENT
DTSTART;TZID=Europe/Amsterdam:20251113T130000
DTEND;TZID=Europe/Amsterdam:20251113T173000
DTSTAMP:20260421T015437
CREATED:20250703T133615Z
LAST-MODIFIED:20250703T133616Z
UID:94292-1763038800-1763055000@pretwerk.nl
SUMMARY:Toeristische Ontmoetingsdag Zeeland
DESCRIPTION:Jaarlijkse Toeristische Ontmoetingsdag in de provincie Zeeland – dit keer met als thema ‘de ondernemer van de toekomst.’ Na de gast van de toekomst in 2024\, richten we onze blik nu op de kant van het aanbod: ondernemers\, kansen en strategieën in een veranderende wereld.
URL:https://pretwerk.nl/evenement/toeristische-ontmoetingsdag-zeeland-2/
LOCATION:Lasloods\, Vlissingen\, Netherlands
CATEGORIES:Congres,Netwerkbijeenkomst
ATTACH;FMTTYPE=image/jpeg:https://pretwerk.nl/wp-content/uploads/2025/07/toeristische-ontmoetingsdag-Zeeland.jpg
END:VEVENT
BEGIN:VEVENT
DTSTART;TZID=Europe/Amsterdam:20251112T133000
DTEND;TZID=Europe/Amsterdam:20251112T170000
DTSTAMP:20260421T015437
CREATED:20250919T121458Z
LAST-MODIFIED:20250919T121500Z
UID:95725-1762954200-1762966800@pretwerk.nl
SUMMARY:De AI-revolutie in citymarketing
DESCRIPTION:Tijdens deze middag zoomen we in op de uitdagingen én kansen van AI die direct relevant zijn voor city- en regiomarketeers. Daarnaast kijken we naar net even andere perspectieven op AI die óók ons vakgebied raken\, zoals ethiek en media.
URL:https://pretwerk.nl/evenement/de-ai-revolutie-in-citymarketing/
LOCATION:JADS\, Den Bosch\, Netherlands
CATEGORIES:Congres
ATTACH;FMTTYPE=image/jpeg:https://pretwerk.nl/wp-content/uploads/2025/01/netwerk-citymarketing-nederland.jpg
END:VEVENT
BEGIN:VEVENT
DTSTART;TZID=Europe/Amsterdam:20251111T000000
DTEND;TZID=Europe/Amsterdam:20251113T235959
DTSTAMP:20260421T015437
CREATED:20250307T124805Z
LAST-MODIFIED:20250409T165618Z
UID:92262-1762819200-1763078399@pretwerk.nl
SUMMARY:Recreatie Vakbeurs Hardenberg
DESCRIPTION:De grootste binnenlandse vakbeurs voor de recreatiesector. Naast de vele hallen met beursstands is er ook veel kennis op te doen tijdens de diverse lezingen.
URL:https://pretwerk.nl/evenement/recreatie-vakbeurs-hardenberg-3/
LOCATION:evenementenhal Hardenberg\, Hardenberg\, Nederland
CATEGORIES:Vakbeurs
ATTACH;FMTTYPE=image/png:https://pretwerk.nl/wp-content/uploads/2024/06/Logo-Recreatie-Vakbeurs-positief.png
END:VEVENT
BEGIN:VEVENT
DTSTART;TZID=Europe/Amsterdam:20251106T100000
DTEND;TZID=Europe/Amsterdam:20251106T160000
DTSTAMP:20260421T015437
CREATED:20250703T133105Z
LAST-MODIFIED:20250716T090523Z
UID:94289-1762423200-1762444800@pretwerk.nl
SUMMARY:Leefstijlvinder Live
DESCRIPTION:Werk je als city- of regiomarketeer\, beleidsmaker of ondernemer in de vrijetijdssector? Dan is dit dé kans om je te verdiepen in het doelgroepsegmentatiemodel Leefstijlvinder en te ontdekken hoe je dit model praktisch toepast in beleid\, marketing en aanbodontwikkeling. Met o.a. Angelique Joosten van vakantiepark De Leistert als keynote speaker. \n\n\n\nLeefstijlvinder Live wordt mede mogelijk gemaakt door Bureau BUITEN\, Bureau voor Ruimte en Vrije Tijd\, Insiders\, Ginder\, Bureau Buhrs\, Landelijke Data Alliantie (LDA) en MarketResponse.
URL:https://pretwerk.nl/evenement/leefstijlvinder-live/
LOCATION:Verkadefabriek\, Den Bosch\, Netherlands
CATEGORIES:Congres
ATTACH;FMTTYPE=image/jpeg:https://pretwerk.nl/wp-content/uploads/2025/07/leefstijlvinder-live.jpg
END:VEVENT
BEGIN:VEVENT
DTSTART;TZID=Europe/Amsterdam:20251105T110000
DTEND;TZID=Europe/Amsterdam:20251107T170000
DTSTAMP:20260421T015437
CREATED:20250520T092636Z
LAST-MODIFIED:20250520T102849Z
UID:93405-1762340400-1762534800@pretwerk.nl
SUMMARY:Festivak
DESCRIPTION:Van doorgewinterde organisatoren tot beginnende professionals. Iedereen die werkt aan óf voor de evenementenbranche is meer dan welkom bij Festivak. Hier ontmoet je (toe) leveranciers\, vind je nieuwe partners en zie je de gaafste acts en innovaties. De beurs Festivak is gericht op de Benelux. De editie van dit jaar is in België; volgend jaar wisselt de locatie naar Nederland.
URL:https://pretwerk.nl/evenement/festivak-4/
LOCATION:Nekkerhal\, Mechelen\, België
CATEGORIES:Vakbeurs
ATTACH;FMTTYPE=image/jpeg:https://pretwerk.nl/wp-content/uploads/festivak-2.jpg
END:VEVENT
BEGIN:VEVENT
DTSTART;TZID=Europe/Amsterdam:20251105T100000
DTEND;TZID=Europe/Amsterdam:20251105T170000
DTSTAMP:20260421T015437
CREATED:20251014T083815Z
LAST-MODIFIED:20251014T083817Z
UID:96294-1762336800-1762362000@pretwerk.nl
SUMMARY:Nationale Sport Vakbeurs
DESCRIPTION:De Nationale Sport Vakbeurs is de facilitaire sportbeurs van Nederland. Het unieke beursconcept waarbij sportambtenaren\, clubbestuurders\, commerciële sportaanbieders samenkomen met dienstverleners & leveranciers uit de sportwereld. Maar ook voor de (niet-zakelijke) sportliefhebber is er genoeg te beleven.
URL:https://pretwerk.nl/evenement/nationale-sport-vakbeurs-3/
LOCATION:Evenementenhal Gorinchem\, Gorinchem\, Nederland
CATEGORIES:Vakbeurs
ATTACH;FMTTYPE=image/jpeg:https://pretwerk.nl/wp-content/uploads/2025/10/logo-nationale-sport-vakbeurs.jpg
END:VEVENT
BEGIN:VEVENT
DTSTART;TZID=Europe/Amsterdam:20251105T090000
DTEND;TZID=Europe/Amsterdam:20251106T160000
DTSTAMP:20260421T015437
CREATED:20250523T133600Z
LAST-MODIFIED:20250805T143315Z
UID:93461-1762333200-1762444800@pretwerk.nl
SUMMARY:Land\, Leisure & Tourism Show
DESCRIPTION:Een bijzonder grote en brede recreatievakbeurs in Groot Brittannië. Er worden binnen het beursconcept meerdere doelgroepen samengevoegd; zo is er een programma voor vakantieparken\, dagattracties\, plattelandsrecreatie en hospitality (eten en drinken).
URL:https://pretwerk.nl/evenement/land-leisure-tourism-show/
LOCATION:NEC Birmingham\, Birmingham\, Verenigd Koninkrijk
CATEGORIES:Internationaal,Vakbeurs
ATTACH;FMTTYPE=image/jpeg:https://pretwerk.nl/wp-content/uploads/2025/05/land-leisure-and-tourism-show.jpg
END:VEVENT
BEGIN:VEVENT
DTSTART;TZID=Europe/Amsterdam:20251104T100000
DTEND;TZID=Europe/Amsterdam:20251106T170000
DTSTAMP:20260421T015437
CREATED:20250606T072453Z
LAST-MODIFIED:20250716T090635Z
UID:93677-1762250400-1762448400@pretwerk.nl
SUMMARY:Sett - outdoor hospitality
DESCRIPTION:Grote Franse vakbeurs voor de recreatiesector\, met veel aandacht voor campings. Maar ook andere bedrijfstypen komen aan bod zoals hotels\, B&B\, restaurants en strandbestemmingen.
URL:https://pretwerk.nl/evenement/sett-outdoor-hospitality-2/
LOCATION:Montpellier\, Montpellier\, Frankrijk
CATEGORIES:Internationaal,Vakbeurs
ATTACH;FMTTYPE=image/png:https://pretwerk.nl/wp-content/uploads/2023/10/salon-sett-hpa-camping-2022.png
END:VEVENT
BEGIN:VEVENT
DTSTART;TZID=Europe/Amsterdam:20251104T080000
DTEND;TZID=Europe/Amsterdam:20251105T170000
DTSTAMP:20260421T015437
CREATED:20250715T090825Z
LAST-MODIFIED:20250715T090827Z
UID:94532-1762243200-1762362000@pretwerk.nl
SUMMARY:LeisurUp by MAPIC
DESCRIPTION:LeisurUp is sinds enkele jaren een toevoeging aan de grootste vastgoedbeurs ter wereld; de MAPIC. Hier is vooral aandacht voor de rol van leisure en entertainment in winkelgebieden – een snel groeiend marktsegment.
URL:https://pretwerk.nl/evenement/leisurup-by-mapic-3/
LOCATION:Cannes (Frankrijk)
CATEGORIES:Congres,Internationaal,Vakbeurs
ATTACH;FMTTYPE=image/png:https://pretwerk.nl/wp-content/uploads/leisurup-by-mapic-logo-370x125-1.png
END:VEVENT
BEGIN:VEVENT
DTSTART;TZID=Europe/Amsterdam:20251104T000000
DTEND;TZID=Europe/Amsterdam:20251104T235959
DTSTAMP:20260421T015437
CREATED:20250513T092717Z
LAST-MODIFIED:20250703T124646Z
UID:93312-1762214400-1762300799@pretwerk.nl
SUMMARY:Countus Recreatiecongres
DESCRIPTION:Het jaarlijkse Countus Recreatiecongres vind dit jaar plaats in het nieuwe indoor attractiepark Bommelwereld; gerealiseerd door Marveld Recreatie. Naast een kijkje achter de schermen van deze nieuwe attractie\, zijn er weer diverse sprekers die je informeren over actuele onderwerpen.
URL:https://pretwerk.nl/evenement/countus-recreatiecongres/
LOCATION:Marveld Recreatie\, Groenlo\, Netherlands
CATEGORIES:Congres
ATTACH;FMTTYPE=image/jpeg:https://pretwerk.nl/wp-content/uploads/logo-countus.jpg
END:VEVENT
BEGIN:VEVENT
DTSTART;TZID=Europe/Amsterdam:20251028T100000
DTEND;TZID=Europe/Amsterdam:20251031T160000
DTSTAMP:20260421T015437
CREATED:20250805T142248Z
LAST-MODIFIED:20250817T112440Z
UID:94942-1761645600-1761926400@pretwerk.nl
SUMMARY:FSB / Aquanale (sport en zwemmen)
DESCRIPTION:Dit is een gecombineerde beurs. FSB staat voor Freizeit\, Sport und Baden; Aquanale richt zich meer op zwembaden en wellness. Een sportieve en gezonde lifestyle staat hier centraal – en er zijn ook veel toepassingen te vinden die prima passen in de dagrecreatie of in een verblijfsrecreatief concept. De beurs is uitstekend met de trein te bereiken vanuit Nederland.
URL:https://pretwerk.nl/evenement/fsb-aquanale-sport-en-zwemmen/
LOCATION:Messe Köln\, Keulen\, Duitsland
CATEGORIES:Vakbeurs
ATTACH;FMTTYPE=image/png:https://pretwerk.nl/wp-content/uploads/2023/08/fsb_logo_500x500.png
END:VEVENT
BEGIN:VEVENT
DTSTART;TZID=Europe/Amsterdam:20251028T090000
DTEND;TZID=Europe/Amsterdam:20251028T170000
DTSTAMP:20260421T015437
CREATED:20251024T113523Z
LAST-MODIFIED:20251024T113528Z
UID:96480-1761642000-1761670800@pretwerk.nl
SUMMARY:TEA Talks: Balancing Business and Creativity
DESCRIPTION:De Themed Entertainment Association (TEA) organiseert een kennisevent van één dag met als thema: Business & creativity.
URL:https://pretwerk.nl/evenement/tea-talks-balancing-business-and-creativity/
LOCATION:Breda University\, Breda\, Nederland
CATEGORIES:Congres
ATTACH;FMTTYPE=image/jpeg:https://pretwerk.nl/wp-content/uploads/2025/10/banner-tea.jpg
END:VEVENT
BEGIN:VEVENT
DTSTART;TZID=Europe/Amsterdam:20251018T000000
DTEND;TZID=Europe/Amsterdam:20251026T235959
DTSTAMP:20260421T015437
CREATED:20250620T083336Z
LAST-MODIFIED:20250620T083338Z
UID:93947-1760745600-1761523199@pretwerk.nl
SUMMARY:Dutch Design Week
DESCRIPTION:Wat doet de Dutch Design Week (DDW) nou op een website voor recreatiebedrijven? Uit eigen ervaring blijkt dat hier diverse nieuwe ontwikkelingen en concepten worden gepresenteerd die ook een praktische meerwaarde hebben voor de recreatiesector. Denk bijvoorbeeld aan de tiny office op vakantieparken\, nieuwe duurzame bouwmaterialen of ‘out of the box’ horecaconcepten. De DDW zet je op het pad van nieuwe ideeën; inspirerend!
URL:https://pretwerk.nl/evenement/dutch-design-week-4/
LOCATION:Eindhoven\, Eindhoven\, Nederland
CATEGORIES:Netwerkbijeenkomst,Vakbeurs
ATTACH;FMTTYPE=image/jpeg:https://pretwerk.nl/wp-content/uploads/logo-ddw.jpg
END:VEVENT
BEGIN:VEVENT
DTSTART;TZID=Europe/Amsterdam:20251009T090000
DTEND;TZID=Europe/Amsterdam:20251009T160000
DTSTAMP:20260421T015437
CREATED:20250828T142331Z
LAST-MODIFIED:20250828T142334Z
UID:95319-1760000400-1760025600@pretwerk.nl
SUMMARY:ZwembadBranche Dag
DESCRIPTION:Op donderdag 9 oktober 2025 komen professionals\, experts en leveranciers uit de zwembranche in Houten samen voor een dag vol kennisuitwisseling\, inspiratie en ontmoetingen. Deze dag biedt een mix van vakbeurs (met stands) en een kennisprogramma.
URL:https://pretwerk.nl/evenement/zwembadbranche-dag-2/
LOCATION:Expo Houten\, Houten\, Nederland
CATEGORIES:Congres,Vakbeurs
ATTACH;FMTTYPE=image/jpeg:https://pretwerk.nl/wp-content/uploads/zwembadbranche-2022-05.jpg
END:VEVENT
BEGIN:VEVENT
DTSTART;TZID=Europe/Amsterdam:20251007T123000
DTEND;TZID=Europe/Amsterdam:20251007T180000
DTSTAMP:20260421T015437
CREATED:20250619T112201Z
LAST-MODIFIED:20250817T112636Z
UID:93935-1759840200-1759860000@pretwerk.nl
SUMMARY:Kennistafel 3: Pre-aankomst & Contactloze service
DESCRIPTION:Bij de Kennistafel ‘Receptieloos Inchecken’ kijken we naar ‘Inchecken nieuwe stijl’. Gasten die hun reisbescheiden thuis al ontvangen (pre-arrival) in een envelop en niet meer langs de balie hoeven\, of die met een app op hun telefoon zelf de slagboom of hun huisje openen.
URL:https://pretwerk.nl/evenement/kennistafel-3-pre-aankomst-contactloze-service/
LOCATION:Beekse Bergen\, Hilvarenbeek\, Netherlands
CATEGORIES:Congres
ATTACH;FMTTYPE=image/jpeg:https://pretwerk.nl/wp-content/uploads/2025/02/vakantiehuis-van-de-toekomst.jpg
END:VEVENT
END:VCALENDAR