BEGIN:VCALENDAR
VERSION:2.0
PRODID:-//Pretwerk - ECPv6.6.3//NONSGML v1.0//EN
CALSCALE:GREGORIAN
METHOD:PUBLISH
X-WR-CALNAME:Pretwerk
X-ORIGINAL-URL:https://pretwerk.nl
X-WR-CALDESC:Evenementen voor Pretwerk
REFRESH-INTERVAL;VALUE=DURATION:PT1H
X-Robots-Tag:noindex
X-PUBLISHED-TTL:PT1H
BEGIN:VTIMEZONE
TZID:Europe/Amsterdam
BEGIN:DAYLIGHT
TZOFFSETFROM:+0100
TZOFFSETTO:+0200
TZNAME:CEST
DTSTART:20210328T010000
END:DAYLIGHT
BEGIN:STANDARD
TZOFFSETFROM:+0200
TZOFFSETTO:+0100
TZNAME:CET
DTSTART:20211031T010000
END:STANDARD
BEGIN:DAYLIGHT
TZOFFSETFROM:+0100
TZOFFSETTO:+0200
TZNAME:CEST
DTSTART:20220327T010000
END:DAYLIGHT
BEGIN:STANDARD
TZOFFSETFROM:+0200
TZOFFSETTO:+0100
TZNAME:CET
DTSTART:20221030T010000
END:STANDARD
END:VTIMEZONE
BEGIN:VEVENT
DTSTART;TZID=Europe/Amsterdam:20220113T080000
DTEND;TZID=Europe/Amsterdam:20220113T090000
DTSTAMP:20260425T162257
CREATED:20220107T123909Z
LAST-MODIFIED:20220107T123909Z
UID:73569-1642060800-1642064400@pretwerk.nl
SUMMARY:Toegankelijkheid sessie: circussen
DESCRIPTION:Op donderdag 13 januari a.s. van 8.00 tot 9.00 uur\, is er genoeg reden om vroeg uit de veren te komen! Speciaal voor de deelnemers van de community Toegankelijke Recreatie is er een Digital Wake Up sessie.  \n\n\n\nDeze keer is het thema ‘Toegankelijk Circus’. Het circus is een plek vol met verschillende prikkels: hoe organiseer je zo’n evenement\, waarbij ook mensen met een prikkelgevoelige beperking of een visuele of auditieve beperking volop kunnen genieten? Daar gaan we deze ochtend op in!
URL:https://pretwerk.nl/evenement/toegankelijkheid-sessie-circussen/
LOCATION:online
END:VEVENT
BEGIN:VEVENT
DTSTART;TZID=Europe/Amsterdam:20220111T090000
DTEND;TZID=Europe/Amsterdam:20220111T170000
DTSTAMP:20260425T162257
CREATED:20211123T152456Z
LAST-MODIFIED:20211123T152456Z
UID:73038-1641891600-1641920400@pretwerk.nl
SUMMARY:Travel Congress
DESCRIPTION:De Vakantiebeurs\, editie 2022\, is wederom afgelast. Het Travel Congress\, het evenement voor de reisbranche zelf\, dat traditiegetrouw aan de vooravond van de Vakantiebeurs wordt georganiseerd\, gaat wel door\, zij het in een online versie.
URL:https://pretwerk.nl/evenement/vakdag-vakantiebeurs/
LOCATION:online
CATEGORIES:Congres
ATTACH;FMTTYPE=image/jpeg:https://pretwerk.nl/wp-content/uploads/travel-congress.jpg
END:VEVENT
BEGIN:VEVENT
DTSTART;TZID=Europe/Amsterdam:20211130T090000
DTEND;TZID=Europe/Amsterdam:20211202T170000
DTSTAMP:20260425T162257
CREATED:20210629T083051Z
LAST-MODIFIED:20210629T083051Z
UID:70874-1638262800-1638464400@pretwerk.nl
SUMMARY:LeisurUp by MAPIC
DESCRIPTION:The global event accelerating integration of leisure in retail and urban destinations
URL:https://pretwerk.nl/evenement/leisurup-by-mapic/
LOCATION:Cannes (Frankrijk)
CATEGORIES:Vakbeurs
ATTACH;FMTTYPE=image/png:https://pretwerk.nl/wp-content/uploads/leisurup-by-mapic-logo-370x125-1.png
END:VEVENT
BEGIN:VEVENT
DTSTART;TZID=Europe/Amsterdam:20211130T090000
DTEND;TZID=Europe/Amsterdam:20211130T160000
DTSTAMP:20260425T162257
CREATED:20210629T093432Z
LAST-MODIFIED:20210629T093432Z
UID:70895-1638262800-1638288000@pretwerk.nl
SUMMARY:Zwembad Branche Dag (afgelast)
DESCRIPTION:Jaarlijkse kennisdag voor de zwembadbranche\, met ook een vakbeurs
URL:https://pretwerk.nl/evenement/zwembad-branche-dag/
LOCATION:Barneveld\, Barneveld\, Nederland
CATEGORIES:Vakbeurs
ATTACH;FMTTYPE=image/png:https://pretwerk.nl/wp-content/uploads/zbblogo.png
END:VEVENT
BEGIN:VEVENT
DTSTART;TZID=Europe/Amsterdam:20211116T100000
DTEND;TZID=Europe/Amsterdam:20211118T180000
DTSTAMP:20260425T162257
CREATED:20210531T141443Z
LAST-MODIFIED:20210531T141443Z
UID:70264-1637056800-1637258400@pretwerk.nl
SUMMARY:Recreatie Vakbeurs
DESCRIPTION:Grootste Nederlandse vakbeurs voor de hele recreatiesector
URL:https://pretwerk.nl/evenement/70264/
LOCATION:evenementenhal Hardenberg\, Hardenberg\, Nederland
CATEGORIES:Vakbeurs
ATTACH;FMTTYPE=image/jpeg:https://pretwerk.nl/wp-content/uploads/recreatie-vakbeurs2-3.jpg
END:VEVENT
BEGIN:VEVENT
DTSTART;TZID=Europe/Amsterdam:20211116T090000
DTEND;TZID=Europe/Amsterdam:20211119T170000
DTSTAMP:20260425T162257
CREATED:20210629T082417Z
LAST-MODIFIED:20210629T082417Z
UID:70871-1637053200-1637341200@pretwerk.nl
SUMMARY:IAAPA Expo
DESCRIPTION:Grootste internationale vakbeurs ter wereld voor de attractiesector
URL:https://pretwerk.nl/evenement/iaapa-expo/
LOCATION:Orlando\, Florida (VS)\, Orlando\, florida\, Verenigde Staten
CATEGORIES:Vakbeurs
ATTACH;FMTTYPE=image/jpeg:https://pretwerk.nl/wp-content/uploads/iaapa-expo2.jpg
END:VEVENT
BEGIN:VEVENT
DTSTART;TZID=Europe/Amsterdam:20211113T080000
DTEND;TZID=Europe/Amsterdam:20211117T170000
DTSTAMP:20260425T162257
CREATED:20210727T132031Z
LAST-MODIFIED:20210727T132031Z
UID:71469-1636790400-1637168400@pretwerk.nl
SUMMARY:VR-Days; immersive tech week
DESCRIPTION:Op de 7e VR Days in Amsterdam wordt een breed overzicht van immersive technieken gepresenteerd. Waar het voorheen vooral draaide om Virtual Reality (VR) zijn andere vormen van presentatietechnieken inmiddels niet meer weg te denken.
URL:https://pretwerk.nl/evenement/vr-days-immersive-tech-week/
LOCATION:Amsterdam
CATEGORIES:Vakbeurs
ATTACH;FMTTYPE=image/jpeg:https://pretwerk.nl/wp-content/uploads/vrdays.jpg
END:VEVENT
BEGIN:VEVENT
DTSTART;TZID=Europe/Amsterdam:20211111T090000
DTEND;TZID=Europe/Amsterdam:20211111T180000
DTSTAMP:20260425T162257
CREATED:20211028T101241Z
LAST-MODIFIED:20211028T101241Z
UID:72644-1636621200-1636653600@pretwerk.nl
SUMMARY:Nationaal Monumentencongres
DESCRIPTION:Het thema van deze editie van het Nationaal Monumentencongres is ‘Natuurlijk monumenten’\, waarbij de verhouding tussen groen en rood erfgoed centraal staat.
URL:https://pretwerk.nl/evenement/nationaal-monumentencongres/
LOCATION:Amsterdam
CATEGORIES:Congres
ATTACH;FMTTYPE=image/jpeg:https://pretwerk.nl/wp-content/uploads/nationaal-monumenten-congres-logo_2021-300.jpg
END:VEVENT
BEGIN:VEVENT
DTSTART;TZID=Europe/Amsterdam:20211110T090000
DTEND;TZID=Europe/Amsterdam:20211111T170000
DTSTAMP:20260425T162257
CREATED:20210629T144251Z
LAST-MODIFIED:20210629T144251Z
UID:70926-1636534800-1636650000@pretwerk.nl
SUMMARY:Family Attraction Expo
DESCRIPTION:Beurs met kennisprogramma\, gericht op attracties en bezoekerscentra
URL:https://pretwerk.nl/evenement/family-attraction-expo/
LOCATION:Birmingham\, Birmingham\, Verenigd Koninkrijk
CATEGORIES:Internationaal,Vakbeurs
ATTACH;FMTTYPE=image/jpeg:https://pretwerk.nl/wp-content/uploads/Family-attraction-expo.jpg
END:VEVENT
BEGIN:VEVENT
DTSTART;TZID=Europe/Amsterdam:20211110T080000
DTEND;TZID=Europe/Amsterdam:20211111T170000
DTSTAMP:20260425T162257
CREATED:20211102T100333Z
LAST-MODIFIED:20211102T100333Z
UID:72704-1636531200-1636650000@pretwerk.nl
SUMMARY:Nationaal Congres Evenementen
DESCRIPTION:Het Nationaal Congres Evenementen (NCE) is een initiatief van Respons – Evenementen | Toerisme | Citymarketing.
URL:https://pretwerk.nl/evenement/nationaal-congres-evenementen/
LOCATION:Eindhoven
CATEGORIES:Congres
ATTACH;FMTTYPE=image/png:https://pretwerk.nl/wp-content/uploads/NCE-logo.png
END:VEVENT
BEGIN:VEVENT
DTSTART;TZID=Europe/Amsterdam:20211104T080000
DTEND;TZID=Europe/Amsterdam:20211104T090000
DTSTAMP:20260425T162257
CREATED:20210921T130120Z
LAST-MODIFIED:20210921T130120Z
UID:72148-1636012800-1636016400@pretwerk.nl
SUMMARY:Digital Wake-up call: Toegankelijk nachtje weg
DESCRIPTION:Op donderdag 4 november van 8.00 tot 9.00 uur is er speciaal voor de deelnemers van de community Toegankelijke Recreatie een Digital Wake Up sessie. Met deze keer als thema Toegankelijk nachtje weg. Ben jij er weer bij in de vroege ochtend voor een inspiratie boost en nieuwe contacten?
URL:https://pretwerk.nl/evenement/digital-wake-up-call-toegankelijk-nachtje-weg/
CATEGORIES:webinar
ATTACH;FMTTYPE=image/jpeg:https://pretwerk.nl/wp-content/uploads/digital-wake-up-call-toegankelijk-nachtje.jpg
END:VEVENT
BEGIN:VEVENT
DTSTART;TZID=Europe/Amsterdam:20211102T080000
DTEND;TZID=Europe/Amsterdam:20211104T170000
DTSTAMP:20260425T162257
CREATED:20210706T102720Z
LAST-MODIFIED:20210706T102720Z
UID:71031-1635840000-1636045200@pretwerk.nl
SUMMARY:SETT outdoor hospitality
DESCRIPTION:Franse vakbeurs voor openluchtrecreatie en campings
URL:https://pretwerk.nl/evenement/sett-outdoor-hospitality/
LOCATION:Montpellier\, Montpellier\, Frankrijk
CATEGORIES:Internationaal,Vakbeurs
ATTACH;FMTTYPE=image/png:https://pretwerk.nl/wp-content/uploads/sett-trade-fair-outdoor.png
END:VEVENT
BEGIN:VEVENT
DTSTART;TZID=Europe/Amsterdam:20211026T100000
DTEND;TZID=Europe/Amsterdam:20211029T180000
DTSTAMP:20260425T162257
CREATED:20210629T091543Z
LAST-MODIFIED:20210629T091543Z
UID:70886-1635242400-1635530400@pretwerk.nl
SUMMARY:Freizeit Sport Baden (FSB)
DESCRIPTION:Internationale vakbeurs voor leisure\, sport\, zwembaden en wellness faciliteiten
URL:https://pretwerk.nl/evenement/freizeit-sport-baden-fsb/
LOCATION:Keulen\, Keulen\, Duitsland
CATEGORIES:Internationaal,Vakbeurs
ATTACH;FMTTYPE=image/png:https://pretwerk.nl/wp-content/uploads/fsb_logo_500x500.png
END:VEVENT
BEGIN:VEVENT
DTSTART;TZID=Europe/Amsterdam:20211016T080000
DTEND;TZID=Europe/Amsterdam:20211024T170000
DTSTAMP:20260425T162257
CREATED:20210629T141357Z
LAST-MODIFIED:20210629T141357Z
UID:70912-1634371200-1635094800@pretwerk.nl
SUMMARY:Dutch Design Week
DESCRIPTION:Evenement rond ‘ontwerpen’ in de breedste zin van het woord. Ook nuttig als inspiratiebron voor de recreatiesector.
URL:https://pretwerk.nl/evenement/dutch-design-week/
LOCATION:Eindhoven\, Eindhoven\, Nederland
CATEGORIES:Vakbeurs
ATTACH;FMTTYPE=image/jpeg:https://pretwerk.nl/wp-content/uploads/logo-ddw.jpg
END:VEVENT
BEGIN:VEVENT
DTSTART;TZID=Europe/Amsterdam:20211012T090000
DTEND;TZID=Europe/Amsterdam:20211012T180000
DTSTAMP:20260425T162257
CREATED:20210716T132432Z
LAST-MODIFIED:20210716T132432Z
UID:71342-1634029200-1634061600@pretwerk.nl
SUMMARY:Praktijkdag Vakantieparken
DESCRIPTION:De markt is Booming en veel nieuwe vakantieparken komen eraan! Het is daarom des te belangrijker te kiezen voor een unieke propositie en onderscheidend vermogen. Deze praktijkdag wordt niet voor niets gehouden op het park Puur Exloo in Drenthe: PUUR Exloo is het eerste resort met een volledige receptieloze aankomst gecombineerd met een persoonlijke ontvangst van alle gasten. Utra luxe villa’s met de laatste consumentengadgets van Sonos tot Netflix en van Sauna tot Sunshower. Deze villa’s kennen de meest luxe complete uitvoering. Een resort dat het moet doen zonder uitgebreide faciliteiten en medewerkers en daardoor volledig gericht op de regio met de introductie van de eerste Beleveniskaart voor vakantieparken. De opzet van het ondernemersplatform Vrienden van PUUR Exloo is een slimme tool voor een nieuwe inkomstenstroom uit de On-Line verkopen aan de gast.
URL:https://pretwerk.nl/evenement/praktijkdag-vakantieparken/
LOCATION:Exloo\, Exloo (Drenthe)
CATEGORIES:Vakbeurs
ATTACH;FMTTYPE=image/jpeg:https://pretwerk.nl/wp-content/uploads/6pers-liggend-555x426-1.jpg
END:VEVENT
BEGIN:VEVENT
DTSTART;TZID=Europe/Amsterdam:20211012T080000
DTEND;TZID=Europe/Amsterdam:20211014T170000
DTSTAMP:20260425T162257
CREATED:20210706T104910Z
LAST-MODIFIED:20210706T104910Z
UID:71035-1634025600-1634230800@pretwerk.nl
SUMMARY:Salon Atlantica (vakbeurs campings)
DESCRIPTION:Vakbeurs voor campings en glampings in Frankrijk
URL:https://pretwerk.nl/evenement/salon-atlantica-vakbeurs-campings/
LOCATION:La Rochelle\, La Rochelle\, Frankrijk
CATEGORIES:Internationaal,Vakbeurs
ATTACH;FMTTYPE=image/png:https://pretwerk.nl/wp-content/uploads/salon-atlantica-1.png
END:VEVENT
BEGIN:VEVENT
DTSTART;TZID=Europe/Amsterdam:20211011T110000
DTEND;TZID=Europe/Amsterdam:20211013T180000
DTSTAMP:20260425T162257
CREATED:20211001T153524Z
LAST-MODIFIED:20211001T153524Z
UID:72310-1633950000-1634148000@pretwerk.nl
SUMMARY:Horecavakbeurs BBB Maastricht
DESCRIPTION:Horecavakbeurs BBB Maastricht verwelkomt jaarlijks zo’n 14.000 vertegenwoordigers uit alle horecasegmenten: hotels\, restaurants\, cafés\, bars\, disco’s\, lunchrooms\, B&B\, fast service\, catering en instellingen.
URL:https://pretwerk.nl/evenement/horecavakbeur-bbb-maastricht/
CATEGORIES:Vakbeurs
ATTACH;FMTTYPE=image/jpeg:https://pretwerk.nl/wp-content/uploads/bbb_20_datum.jpg
END:VEVENT
BEGIN:VEVENT
DTSTART;TZID=Europe/Amsterdam:20211011T100000
DTEND;TZID=Europe/Amsterdam:20211014T170000
DTSTAMP:20260425T162257
CREATED:20211004T145750Z
LAST-MODIFIED:20211004T145750Z
UID:72339-1633946400-1634230800@pretwerk.nl
SUMMARY:WAZA conference (zoo's en aquaria)
DESCRIPTION:De World Association of Zoos and Aquariums (WAZA) organiseert een drieedaags online congresprogramma. De vier hoofdthema’s zijn: Dierenwelzijn\, duurzaamheid\, natuurbescherming en de gevolgen van de Covid 16 crisis.
URL:https://pretwerk.nl/evenement/waza-conference-zoos-en-aquaria/
LOCATION:online
CATEGORIES:Congres,Internationaal,webinar
ATTACH;FMTTYPE=image/jpeg:https://pretwerk.nl/wp-content/uploads/waza.jpg
END:VEVENT
BEGIN:VEVENT
DTSTART;TZID=Europe/Amsterdam:20211008T090000
DTEND;TZID=Europe/Amsterdam:20211010T180000
DTSTAMP:20260425T162257
CREATED:20210629T142953Z
LAST-MODIFIED:20210629T142953Z
UID:70918-1633683600-1633888800@pretwerk.nl
SUMMARY:Second Home Expo
DESCRIPTION:Marktplaats voor de aan- en verkoop van vakantiewoningen + aanverwante diensten. Op de beursvloer wordt ook een kennisprogramma georganiseerd.
URL:https://pretwerk.nl/evenement/second-home-expo/
LOCATION:Flanders Expo\, Gent\, Gent\, België
CATEGORIES:Publieksbeurs
ATTACH;FMTTYPE=image/png:https://pretwerk.nl/wp-content/uploads/second-home-expo.png
END:VEVENT
BEGIN:VEVENT
DTSTART;TZID=Europe/Amsterdam:20211007T133000
DTEND;TZID=Europe/Amsterdam:20211007T150000
DTSTAMP:20260425T162257
CREATED:20211001T081306Z
LAST-MODIFIED:20211001T081306Z
UID:72293-1633613400-1633618800@pretwerk.nl
SUMMARY:Boekingen tegen lagere kosten via Google Hotel Ads en Tripadvisor
DESCRIPTION:Miljoenen mensen gebruiken Google om voorafgaand aan een reis te zoeken naar dé perfecte accommodatie tegen de beste prijs. Help reizigers om jouw accommodatie te vinden! \n\n\n\nAls accommodatie eigenaar in de verblijfsrecreatie kun je via Google Hotel Ads en Tripadvisor directe boekingen realiseren tegen aantrekkelijke voorwaarden. Directe boekingen zijn veelal goedkoper dan de hoge commissies op boekingsplatformen als Booking.com. Bovendien ben je bij een directe boeking zelf eigenaar van klantdata en kun je zelf jouw cross- en upsell verzorgen. \n\n\n\nTijdens dit webinar ontvang je meer informatie over Google Hotel Ads en Tripadvisor\, de mogelijkheden die deze platformen bieden en tips voor het inzetten en optimaliseren van de advertenties.
URL:https://pretwerk.nl/evenement/boekingen-tegen-lagere-kosten-via-google-hotel-ads-en-tripadvisor/
CATEGORIES:webinar
ATTACH;FMTTYPE=image/jpeg:https://pretwerk.nl/wp-content/uploads/stratech-webinar.jpg
END:VEVENT
BEGIN:VEVENT
DTSTART;TZID=Europe/Amsterdam:20211007T080000
DTEND;TZID=Europe/Amsterdam:20211007T090000
DTSTAMP:20260425T162257
CREATED:20210921T125733Z
LAST-MODIFIED:20210921T125733Z
UID:72145-1633593600-1633597200@pretwerk.nl
SUMMARY:Digital Wake-up call; Toegankelijke Gaming
DESCRIPTION:Op donderdag  7 oktober van 8.00 tot 9.00 uur is er speciaal voor de deelnemers van de community Toegankelijke Recreatie een Digital Wake Up sessie. Met deze keer als thema Toegankelijke gaming. Ben jij er weer bij in de vroege ochtend voor een inspiratie boost en nieuwe contacten? \n\n\n\nMedeorganisatoren: Het Gehandicapte Kind\, NMA Gaming en onze ervaringsdeskundigen uit het Rebellenteam Paul (ook oprichter van HiPerks Foundation) en Merijn (werkzaam bij Mentelity Foundation).
URL:https://pretwerk.nl/evenement/digital-wake-uo-call-toegankelijke-gaming/
CATEGORIES:webinar
ATTACH;FMTTYPE=image/jpeg:https://pretwerk.nl/wp-content/uploads/digital-wake-up-call-gaming.jpg
END:VEVENT
BEGIN:VEVENT
DTSTART;TZID=Europe/Amsterdam:20211006T100000
DTEND;TZID=Europe/Amsterdam:20211010T170000
DTSTAMP:20260425T162257
CREATED:20210928T083723Z
LAST-MODIFIED:20210928T083723Z
UID:72229-1633514400-1633885200@pretwerk.nl
SUMMARY:Kampeer en Caravan Jaarbeurs
DESCRIPTION:Kampeer & Caravan Jaarbeurs belooft dit jaar een bijzondere editie te worden. Het is weer de eerste editie is sinds de coronaperiode én kamperen populairder is dan ooit. De organisatie kijkt verder dan vraag en aanbod. De focus ligt op een totale kampeerbeleving.
URL:https://pretwerk.nl/evenement/kampeer-en-caravan-jaarbeurs/
LOCATION:Jaarbeurs Utrecht
CATEGORIES:Publieksbeurs
ATTACH;FMTTYPE=image/jpeg:https://pretwerk.nl/wp-content/uploads/kampeer-en-caravan-jaarbeurs.jpg
END:VEVENT
BEGIN:VEVENT
DTSTART;TZID=Europe/Amsterdam:20211005T123000
DTEND;TZID=Europe/Amsterdam:20211005T140000
DTSTAMP:20260425T162257
CREATED:20211001T153031Z
LAST-MODIFIED:20211001T153031Z
UID:72307-1633437000-1633442400@pretwerk.nl
SUMMARY:Webinar - Het Nieuwe Dagje Uit
DESCRIPTION:Attracties verwachten veel interesse van het publiek na de recente versoepelingen. Recreatie\, attracties en leisure komen terecht in het tijdperk van spreiding en controle op de coronapas. De anderhalve meter samenleving maakt plaats voor een bezettingsgraad die meer mogelijk maakt. Waar liggen de kansen? De trends zijn veranderd bij het publiek. En hoe investeer je goed voor 2022?
URL:https://pretwerk.nl/evenement/webinar-het-nieuwe-dagje-uit/
CATEGORIES:webinar
ATTACH;FMTTYPE=image/jpeg:https://pretwerk.nl/wp-content/uploads/het-nieuwe-dagje-uit-1.jpg
END:VEVENT
BEGIN:VEVENT
DTSTART;TZID=Europe/Amsterdam:20211004T110000
DTEND;TZID=Europe/Amsterdam:20211006T200000
DTSTAMP:20260425T162257
CREATED:20211003T082212Z
LAST-MODIFIED:20211003T082212Z
UID:72314-1633345200-1633550400@pretwerk.nl
SUMMARY:Blooloop V-Expo
DESCRIPTION:The blooloop V-Expo brings together professionals from the global visitor attractions industry.
URL:https://pretwerk.nl/evenement/blooloop-v-expo/
CATEGORIES:Congres,Internationaal,webinar
ATTACH;FMTTYPE=image/jpeg:https://pretwerk.nl/wp-content/uploads/blooloop-v-expo.jpg
END:VEVENT
BEGIN:VEVENT
DTSTART;TZID=Europe/Amsterdam:20211001T100000
DTEND;TZID=Europe/Amsterdam:20211003T180000
DTSTAMP:20260425T162257
CREATED:20210603T143953Z
LAST-MODIFIED:20210603T143953Z
UID:70363-1633082400-1633284000@pretwerk.nl
SUMMARY:Second Home beurs\, Utrecht
DESCRIPTION:Beurs voor de verkoop van recreatiewoningen\, met een breed overzicht van landen\, en aanvullende diensten (o.a. marketingplatforms). Nederlandse vakantiewoningen zijn goed vertegenwoordigd. Tijdens de beursdagen wordt er een uitgebreid seminar-programma georganiseerd.
URL:https://pretwerk.nl/evenement/second-home-beurs-utrecht/
LOCATION:Jaarbeurs Utrecht
CATEGORIES:Publieksbeurs
ATTACH;FMTTYPE=image/png:https://pretwerk.nl/wp-content/uploads/second-home.png
END:VEVENT
BEGIN:VEVENT
DTSTART;TZID=Europe/Amsterdam:20210928T090000
DTEND;TZID=Europe/Amsterdam:20210930T160000
DTSTAMP:20260425T162257
CREATED:20210629T081954Z
LAST-MODIFIED:20210629T081954Z
UID:70866-1632819600-1633017600@pretwerk.nl
SUMMARY:IAAPA Expo Europe
DESCRIPTION:Internationale vakbeurs voor de attractiesector
URL:https://pretwerk.nl/evenement/iaapa-expo-europe/
LOCATION:Barcelona\, Barcelona\, Spanje
CATEGORIES:Vakbeurs
ATTACH;FMTTYPE=image/jpeg:https://pretwerk.nl/wp-content/uploads/iaapa-expo-europe-1.jpg
END:VEVENT
BEGIN:VEVENT
DTSTART;TZID=Europe/Amsterdam:20210927T100000
DTEND;TZID=Europe/Amsterdam:20210927T170000
DTSTAMP:20260425T162257
CREATED:20210606T093137Z
LAST-MODIFIED:20210606T093137Z
UID:70407-1632736800-1632762000@pretwerk.nl
SUMMARY:Nationale Toerisme Top 2021
DESCRIPTION:Jaarlijks evenement over de ontwikkeling van toerisme in Nederland. Georganiseerd door het ministerie van Economische Zaken & Klimaat\, de provincies\, het Nederlands Bureau voor Toerisme & Congressen en Gastvrij Nederland.
URL:https://pretwerk.nl/evenement/nationale-toerisme-top-2021/
LOCATION:Winterswijk\, Winterswijk\, Nederland
CATEGORIES:Congres
ATTACH;FMTTYPE=image/jpeg:https://pretwerk.nl/wp-content/uploads/nationale-toerisme-top.jpg
END:VEVENT
BEGIN:VEVENT
DTSTART;TZID=Europe/Amsterdam:20210922T090000
DTEND;TZID=Europe/Amsterdam:20210923T170000
DTSTAMP:20260425T162257
CREATED:20210606T094322Z
LAST-MODIFIED:20210606T094322Z
UID:70411-1632301200-1632416400@pretwerk.nl
SUMMARY:Vakbeurs Openbare Ruimte
DESCRIPTION:Alles over ontwerp\, inrichting\, onderhoud en beheer van openbare ruimte. Meer informatie: www.openbareruimte.nl
URL:https://pretwerk.nl/evenement/vakbeurs-openbare-ruimte/
LOCATION:Jaarbeurs Utrecht
CATEGORIES:Vakbeurs
ATTACH;FMTTYPE=image/jpeg:https://pretwerk.nl/wp-content/uploads/VORNL2021.jpg
END:VEVENT
BEGIN:VEVENT
DTSTART;TZID=Europe/Amsterdam:20210916T080000
DTEND;TZID=Europe/Amsterdam:20210918T170000
DTSTAMP:20260425T162257
CREATED:20210629T143630Z
LAST-MODIFIED:20210629T143630Z
UID:70922-1631779200-1631984400@pretwerk.nl
SUMMARY:The Glamping Show
DESCRIPTION:Specialistisch outdoor event rond Glamping in Groot Brittannië
URL:https://pretwerk.nl/evenement/the-glamping-show/
LOCATION:Stoneleigh\, Stoneleigh\, Verenigd Koninkrijk
CATEGORIES:Vakbeurs
ATTACH;FMTTYPE=image/jpeg:https://pretwerk.nl/wp-content/uploads/the-glamping-show.jpg
END:VEVENT
BEGIN:VEVENT
DTSTART;TZID=Europe/Amsterdam:20210826T090000
DTEND;TZID=Europe/Amsterdam:20210904T170000
DTSTAMP:20260425T162257
CREATED:20210629T075954Z
LAST-MODIFIED:20210629T075954Z
UID:70861-1629968400-1630774800@pretwerk.nl
SUMMARY:Caravan Salon Düsseldorf
DESCRIPTION:Publieksbeurs voor kampeervakanties\, met op 27 september een vakdag voor professionals.
URL:https://pretwerk.nl/evenement/caravan-salon-dusseldorf/
LOCATION:Düsseldorf\, Düsseldorf\, Duitsland
CATEGORIES:Publieksbeurs
ATTACH;FMTTYPE=image/png:https://pretwerk.nl/wp-content/uploads/caravan-salon-dusseldorf.png
END:VEVENT
END:VCALENDAR