BEGIN:VCALENDAR
VERSION:2.0
PRODID:-//Pretwerk - ECPv6.6.3//NONSGML v1.0//EN
CALSCALE:GREGORIAN
METHOD:PUBLISH
X-WR-CALNAME:Pretwerk
X-ORIGINAL-URL:https://pretwerk.nl
X-WR-CALDESC:Evenementen voor Pretwerk
REFRESH-INTERVAL;VALUE=DURATION:PT1H
X-Robots-Tag:noindex
X-PUBLISHED-TTL:PT1H
BEGIN:VTIMEZONE
TZID:Europe/Amsterdam
BEGIN:DAYLIGHT
TZOFFSETFROM:+0100
TZOFFSETTO:+0200
TZNAME:CEST
DTSTART:20220327T010000
END:DAYLIGHT
BEGIN:STANDARD
TZOFFSETFROM:+0200
TZOFFSETTO:+0100
TZNAME:CET
DTSTART:20221030T010000
END:STANDARD
END:VTIMEZONE
BEGIN:VEVENT
DTSTART;TZID=Europe/Amsterdam:20220923T100000
DTEND;TZID=Europe/Amsterdam:20220925T170000
DTSTAMP:20260425T173729
CREATED:20220825T065734Z
LAST-MODIFIED:20220825T065734Z
UID:76697-1663927200-1664125200@pretwerk.nl
SUMMARY:Camperbeurs Hardenberg
DESCRIPTION:De grootste camperbeurs van Noord-Oost Nederland! Op Camperbeurs kunnen bezoekers informatie inwinnen voor de aankoop van een nieuwe of gebruikte camper. Daarnaast kunnen bezoekers ook inspiratie opdoen voor hun volgende vakantiebestemming.
URL:https://pretwerk.nl/evenement/camperbeurs-hardenberg/
LOCATION:evenementenhal Hardenberg\, Hardenberg\, Nederland
CATEGORIES:Publieksbeurs
ATTACH;FMTTYPE=image/jpeg:https://pretwerk.nl/wp-content/uploads/Camperbeurs_logo.jpg
END:VEVENT
BEGIN:VEVENT
DTSTART;TZID=Europe/Amsterdam:20220920T130000
DTEND;TZID=Europe/Amsterdam:20220920T180000
DTSTAMP:20260425T173729
CREATED:20220805T101556Z
LAST-MODIFIED:20220805T101556Z
UID:76524-1663678800-1663696800@pretwerk.nl
SUMMARY:Praktijkdag De glamping (r)evolutie
DESCRIPTION:Wat is nou Glamping\, wat zijn de meest opvallende effecten en zijn er nieuwe ontwikkelingen op komst? Deze Praktijkdag laat experts uit de praktijk aan het woord die met ons nieuws\, informatie en kennis willen delen. Wat gaat Glamping ons nog meer brengen?
URL:https://pretwerk.nl/evenement/praktijkdag-de-glamping-revolutie/
LOCATION:Denekamp\, Denekamp\, Nederland
CATEGORIES:Congres
ATTACH;FMTTYPE=image/jpeg:https://pretwerk.nl/wp-content/uploads/glamping-nl.jpg
END:VEVENT
BEGIN:VEVENT
DTSTART;TZID=Europe/Amsterdam:20220920T000000
DTEND;TZID=Europe/Amsterdam:20220920T235959
DTSTAMP:20260425T173729
CREATED:20220709T191921Z
LAST-MODIFIED:20220709T191921Z
UID:76171-1663632000-1663718399@pretwerk.nl
SUMMARY:Interactieve kennisdag 'spelen'
DESCRIPTION:Op dinsdag 20 september 2022 verzorgd Speelplan BV een super leuke interactieve Kennisdag bij Natuurspeeltuin de Hoef in Utrecht. De volgende onderwerpen staan op het programma: \n\n\n\nSamenspelen & inclusiviteitKlimaatbestendigVergroening van de openbare ruimte
URL:https://pretwerk.nl/evenement/interactieve-kennisdag-spelen/
LOCATION:Natuurspeeltuin de Hoef\, Utrecht
CATEGORIES:Congres
ATTACH;FMTTYPE=image/jpeg:https://pretwerk.nl/wp-content/uploads/speelplan_de-hoef-header.jpg
END:VEVENT
BEGIN:VEVENT
DTSTART;TZID=Europe/Amsterdam:20220919T110000
DTEND;TZID=Europe/Amsterdam:20220921T180000
DTSTAMP:20260425T173729
CREATED:20220907T155812Z
LAST-MODIFIED:20220907T155812Z
UID:76871-1663585200-1663783200@pretwerk.nl
SUMMARY:Gastvrij Rotterdam
DESCRIPTION:Gastvrij Rotterdam is dé horecavakbeurs voor ambitieuze horecaprofessionals en heeft zich tijdens vorige edities bewezen als hoogstaand gastronomisch platform voor de horecabranche. Het toonaangevende gastronomische platform voor de professionele horeca biedt bezoekers een overzichtelijk beeld van de laatste trends en ontwikkelingen in de sector en biedt daarnaast een compleet aanbod van food en non-food producten en diensten. Beursbezoekers kunnen genieten van 500 exposanten\, diverse workshops\, demonstraties\, masterclasses\, wedstrijden en proeverijen met sterrenchefs\, meesterkoks\, Masters of Wine en topgastronomen.
URL:https://pretwerk.nl/evenement/gastvrij-rotterdam/
LOCATION:ahoy Rotterdam\, Rotterdam
CATEGORIES:Vakbeurs
ATTACH;FMTTYPE=image/jpeg:https://pretwerk.nl/wp-content/uploads/gastvrij-rotterdam.jpg
END:VEVENT
BEGIN:VEVENT
DTSTART;TZID=Europe/Amsterdam:20220915T090000
DTEND;TZID=Europe/Amsterdam:20220916T180000
DTSTAMP:20260425T173729
CREATED:20220908T091920Z
LAST-MODIFIED:20220908T091920Z
UID:76885-1663232400-1663351200@pretwerk.nl
SUMMARY:Vacation Rental World Summit
DESCRIPTION:VRWS is an in-person live event gathering top industry experts and key players within the global vacation rental industry. Hosts\, property managers and professionals debate on what’s coming\, how to get more bookings\, streamline workflows and maximize rental income.
URL:https://pretwerk.nl/evenement/vacation-rental-world-summit/
LOCATION:Porto\, Porto\, Portugal
CATEGORIES:Congres,Internationaal
ATTACH;FMTTYPE=image/png:https://pretwerk.nl/wp-content/uploads/vacation-rental-conference.png
END:VEVENT
BEGIN:VEVENT
DTSTART;TZID=Europe/Amsterdam:20220915T000000
DTEND;TZID=Europe/Amsterdam:20220917T235959
DTSTAMP:20260425T173729
CREATED:20220701T205140Z
LAST-MODIFIED:20220701T205140Z
UID:76066-1663200000-1663459199@pretwerk.nl
SUMMARY:The Glamping Show
DESCRIPTION:Grote internationale vakbeurs voor glampingconcepten op een groot terrein in het Britse Stoneleigh. Je vindt hier niet alleen accommodaties\, maar ook alle onderdelen en kennis om je glampingconcept succesvol in te vullen
URL:https://pretwerk.nl/evenement/the-glamping-show-2/
LOCATION:Stoneleigh\, Stoneleigh\, Verenigd Koninkrijk
CATEGORIES:Internationaal,Vakbeurs
ATTACH;FMTTYPE=image/jpeg:https://pretwerk.nl/wp-content/uploads/the-glamping-show.jpg
END:VEVENT
BEGIN:VEVENT
DTSTART;TZID=Europe/Amsterdam:20220913T000000
DTEND;TZID=Europe/Amsterdam:20220915T235959
DTSTAMP:20260425T173729
CREATED:20220628T150344Z
LAST-MODIFIED:20220628T150344Z
UID:75966-1663027200-1663286399@pretwerk.nl
SUMMARY:IAAPA Expo Europe
DESCRIPTION:De grootste attractievakbeurs in Europa. Naast de Expo zijn er ook diverse interessante lezingen. Het congresprogramma start op 12 september. De IAAPA Expo Europe heeft in de loop der jaren een steeds bredere scope gekregen. Naast de traditionele attractieparken\, kermissen en waterparken worden nu ook ook de Family Entertainment Centra\, indoor attracties\, retailtainment\, vakantieparken\, bezoekerscentra e.v.a. tot de doelgroep van de beurs gerekend.
URL:https://pretwerk.nl/evenement/iaapa-expo-europe-2/
LOCATION:London (UK)
CATEGORIES:Congres,Internationaal,Vakbeurs
ATTACH;FMTTYPE=image/jpeg:https://pretwerk.nl/wp-content/uploads/iaapa-expo-europe-1.jpg
END:VEVENT
BEGIN:VEVENT
DTSTART;TZID=Europe/Amsterdam:20220906T133000
DTEND;TZID=Europe/Amsterdam:20220906T170000
DTSTAMP:20260425T173729
CREATED:20220701T203615Z
LAST-MODIFIED:20220701T203615Z
UID:76058-1662471000-1662483600@pretwerk.nl
SUMMARY:Workshop: Verover de markt van vakantiewoningen
DESCRIPTION:Tijdens deze nieuwe workshop door Pleisureworld wordt aandacht besteedt aan de onstuimige groei en ontwikkeling van nieuwe vakantie- annex bungalowparken en de toename in ketens en samenwerkingsverbanden. De diffuse markt maakt het voor veel toeleveranciers in deze branche extra moeilijk om de juiste contacten te vinden.
URL:https://pretwerk.nl/evenement/workshop-verover-de-markt-van-vakantiewoningen/
LOCATION:Elst\, Elst
CATEGORIES:Cursus
ATTACH;FMTTYPE=image/jpeg:https://pretwerk.nl/wp-content/uploads/vakantiepark-ketens.jpg
END:VEVENT
BEGIN:VEVENT
DTSTART;TZID=Europe/Amsterdam:20220831T100000
DTEND;TZID=Europe/Amsterdam:20220904T180000
DTSTAMP:20260425T173729
CREATED:20220701T195720Z
LAST-MODIFIED:20220701T195720Z
UID:76041-1661940000-1662314400@pretwerk.nl
SUMMARY:HISWA te Water
DESCRIPTION:Na twee jaar geen Nederlandse botenbeurs is er alle reden om uit te kijken naar de grootste in-water boatshow van Noord-Europa. Voor veel ‘nieuwe’ watersporters zal het waarschijnlijk de eerste keer zijn dat zij deze watersportbeurs bezoeken.
URL:https://pretwerk.nl/evenement/hiswa-te-water/
LOCATION:Bataviahaven Lelystad\, Lelystad
CATEGORIES:Publieksbeurs
ATTACH;FMTTYPE=image/png:https://pretwerk.nl/wp-content/uploads/hiswa-2022-logo.png
END:VEVENT
BEGIN:VEVENT
DTSTART;TZID=Europe/Amsterdam:20220826T100000
DTEND;TZID=Europe/Amsterdam:20220904T180000
DTSTAMP:20260425T173729
CREATED:20220701T200514Z
LAST-MODIFIED:20220701T200514Z
UID:76045-1661508000-1662314400@pretwerk.nl
SUMMARY:Caravan Salon Düsseldorf
DESCRIPTION:Grote campingbeurs in het Ruhrgebied – een van de belangrijkste buitenlandse markten voor Nederlandse campings. Op 26 augustus is er een preview dag voor b2b contacten.
URL:https://pretwerk.nl/evenement/caravan-salon-dusseldorf-2/
LOCATION:Messe Düsseldorf\, Düsseldorf\, Duitsland
CATEGORIES:Internationaal,Publieksbeurs
ATTACH;FMTTYPE=image/png:https://pretwerk.nl/wp-content/uploads/caravan-salon-dusseldorf-1.png
END:VEVENT
BEGIN:VEVENT
DTSTART;TZID=Europe/Amsterdam:20220519T120000
DTEND;TZID=Europe/Amsterdam:20220519T170000
DTSTAMP:20260425T173729
CREATED:20220228T150612Z
LAST-MODIFIED:20220228T150612Z
UID:74263-1652961600-1652979600@pretwerk.nl
SUMMARY:City Breaks Press Event
DESCRIPTION:Het CITY BREAKS PRESS EVENT is een unieke gelegenheid om uw stad\, hotelketen\, vervoersmaatschappij of reisproduct bij (reis)journalisten en bloggers te promoten.
URL:https://pretwerk.nl/evenement/city-breaks-press-event/
LOCATION:Den Haag
CATEGORIES:Vakbeurs
ATTACH;FMTTYPE=image/jpeg:https://pretwerk.nl/wp-content/uploads/Baltus-CityBreaksPressEvent.jpg
END:VEVENT
BEGIN:VEVENT
DTSTART;TZID=Europe/Amsterdam:20220517T090000
DTEND;TZID=Europe/Amsterdam:20220519T170000
DTSTAMP:20260425T173729
CREATED:20220330T153353Z
LAST-MODIFIED:20220330T153353Z
UID:74753-1652778000-1652979600@pretwerk.nl
SUMMARY:Monumentenbeurs
DESCRIPTION:MONUMENT richt zich specifiek op onderhoud\, herbestemming\, restauratie en verduurzaming van monumenten. Hier ontmoeten aanbieders van producten en diensten voor de gebouwd erfgoedsector op gepaste afstand professionals en eigenaren op zoek naar innovatieve producten\, kennis en informatie. \n\n\n\nMONUMENT 2022 vindt gelijktijdig plaats met vakbeurzen RENOVATIE. De vakbeurs RENOVATIE gaat over sneller\, efficiënter en omgevingsvriendelijker renoveren.
URL:https://pretwerk.nl/evenement/monumentenbeurs/
LOCATION:Brabanthallen\, 's Hertogenbosch
CATEGORIES:Vakbeurs
ATTACH;FMTTYPE=image/jpeg:https://pretwerk.nl/wp-content/uploads/monument-1.jpg
END:VEVENT
BEGIN:VEVENT
DTSTART;TZID=Europe/Amsterdam:20220516T090000
DTEND;TZID=Europe/Amsterdam:20220516T170000
DTSTAMP:20260425T173729
CREATED:20220324T120329Z
LAST-MODIFIED:20220324T120329Z
UID:74665-1652691600-1652720400@pretwerk.nl
SUMMARY:Nationaal Congres Citymarketing
DESCRIPTION:Het Nationaal Congres Citymarketing is dé plek waar toonaangevende sprekers uit binnen- en buitenland ons inspireren en waar de ontwikkelingen van de toekomst worden geagendeerd. Alle partijen die betrokken of geïnteresseerd zijn in citymarketing komen er bij elkaar. Van marketeer tot student\, van politicus tot instelling. Tijdens dit jaarlijkse congres wordt de Nationale Citymarketing Trofee uitgereikt aan “de beste citymarketing gemeente(n) van Nederland” van het afgelopen jaar.
URL:https://pretwerk.nl/evenement/nationaal-congres-citymarketing/
LOCATION:Floriade\, Almere\, Almere
CATEGORIES:Congres
ATTACH;FMTTYPE=image/jpeg:https://pretwerk.nl/wp-content/uploads/Nationaal-Congres-Citymarketing.jpg
END:VEVENT
BEGIN:VEVENT
DTSTART;TZID=Europe/Amsterdam:20220514T080000
DTEND;TZID=Europe/Amsterdam:20220515T170000
DTSTAMP:20260425T173729
CREATED:20220218T145623Z
LAST-MODIFIED:20220218T145623Z
UID:74109-1652515200-1652634000@pretwerk.nl
SUMMARY:Second Home Expo - Gent
DESCRIPTION:De standhouders op de Second Home Expo in Gent vertegenwoordigen 150.000 vakantiewoningen in ruim 25 landen. Ook Nederland en België zijn goed vertegenwoordigd. Dat maakt deze beurs een uitstekende locatie om je vakantiewoningen onder de aandacht te brengen. Traditioneel is dit ook een netwerkmoment voor de recreatieve vastgoedsector.
URL:https://pretwerk.nl/evenement/second-home-expo-gent/
LOCATION:Flanders Expo\, Gent\, Gent\, België
CATEGORIES:Publieksbeurs
ATTACH;FMTTYPE=image/png:https://pretwerk.nl/wp-content/uploads/second-home-expo.png
END:VEVENT
BEGIN:VEVENT
DTSTART;TZID=Europe/Amsterdam:20220511T110000
DTEND;TZID=Europe/Amsterdam:20220513T140000
DTSTAMP:20260425T173729
CREATED:20220406T083450Z
LAST-MODIFIED:20220406T083450Z
UID:74832-1652266800-1652450400@pretwerk.nl
SUMMARY:IAAPA EMEA Spring Summit
DESCRIPTION:IAAPA is excited to offer exclusive access to three of popular attractions during IAAPA EMEA Spring Summit – a three-day event filled with insightful panels\, keynote presentations\, and networking opportunities.
URL:https://pretwerk.nl/evenement/iaapa-emea-spring-summit/
LOCATION:Rome
CATEGORIES:Congres,Internationaal
ATTACH;FMTTYPE=image/jpeg:https://pretwerk.nl/wp-content/uploads/iaapa-spring-summit.jpg
END:VEVENT
BEGIN:VEVENT
DTSTART;TZID=Europe/Amsterdam:20220510T080000
DTEND;TZID=Europe/Amsterdam:20220513T170000
DTSTAMP:20260425T173729
CREATED:20220228T153204Z
LAST-MODIFIED:20220228T153204Z
UID:74270-1652169600-1652461200@pretwerk.nl
SUMMARY:Integrated Systems
DESCRIPTION:Techniekbeurs voor Audio-visuele toepassingen.
URL:https://pretwerk.nl/evenement/integrated-systems/
LOCATION:Barcelona
CATEGORIES:Internationaal,Vakbeurs
ATTACH;FMTTYPE=image/jpeg:https://pretwerk.nl/wp-content/uploads/integrated-systems-1.jpg
END:VEVENT
BEGIN:VEVENT
DTSTART;TZID=Europe/Amsterdam:20220504T080000
DTEND;TZID=Europe/Amsterdam:20220507T170000
DTSTAMP:20260425T173729
CREATED:20220228T155426Z
LAST-MODIFIED:20220228T155426Z
UID:74279-1651651200-1651942800@pretwerk.nl
SUMMARY:TEA SATE Europe (attractie-ontwikkeling)
DESCRIPTION:SATE staat voor Storytelling\, Architecture\, Technique en Experience. Dit zijn allemaal ingrediënten die samen (kunnen) leiden tot een prachtige attractie. Tijdens dit event gaan deskundigen van de diverse vakgebieden het gesprek met elkaar aan. De organisatie is in handen van de Themed Entertainment Association (TEA)
URL:https://pretwerk.nl/evenement/tea-sate-europe-attractie-ontwikkeling/
LOCATION:Göteborg\, Zweden
CATEGORIES:Congres,Internationaal
ATTACH;FMTTYPE=image/jpeg:https://pretwerk.nl/wp-content/uploads/tea-sate.jpg
END:VEVENT
BEGIN:VEVENT
DTSTART;TZID=Europe/Amsterdam:20220426T090000
DTEND;TZID=Europe/Amsterdam:20220426T170000
DTSTAMP:20260425T173729
CREATED:20220228T171509Z
LAST-MODIFIED:20220228T171509Z
UID:74293-1650963600-1650992400@pretwerk.nl
SUMMARY:Vakbeurs Sportaccommodaties
DESCRIPTION:100% focus op binnen- en buitensportaccommodaties: alles voor (ver)bouw\, inrichting en beheer.
URL:https://pretwerk.nl/evenement/vakbeurs-sportaccommodaties/
LOCATION:Houten
CATEGORIES:Vakbeurs
ATTACH;FMTTYPE=image/jpeg:https://pretwerk.nl/wp-content/uploads/sportaccom.jpg
END:VEVENT
BEGIN:VEVENT
DTSTART;TZID=Europe/Amsterdam:20220423T080000
DTEND;TZID=Europe/Amsterdam:20220424T170000
DTSTAMP:20260425T173729
CREATED:20220218T150207Z
LAST-MODIFIED:20220218T150207Z
UID:74111-1650700800-1650819600@pretwerk.nl
SUMMARY:Second Home Beurs\, Maastricht
DESCRIPTION:Een publieksbeurs voor de verkoop van (internationale) vakantiewoningen. Ook Nederland en België zijn goed vertegenwoordigd op deze beurs. Traditioneel is dit een mooi netwerkmoment voor de recreatieve vastgoedsector.
URL:https://pretwerk.nl/evenement/second-home-beurs-maastricht/
LOCATION:Mecc Maastricht\, Maastricht
CATEGORIES:Publieksbeurs
ATTACH;FMTTYPE=image/png:https://pretwerk.nl/wp-content/uploads/second-home.png
END:VEVENT
BEGIN:VEVENT
DTSTART;TZID=Europe/Amsterdam:20220419T080000
DTEND;TZID=Europe/Amsterdam:20220420T170000
DTSTAMP:20260425T173729
CREATED:20220107T121854Z
LAST-MODIFIED:20220107T121854Z
UID:73565-1650355200-1650474000@pretwerk.nl
SUMMARY:Greenloop - sustainability in visitor attractions
DESCRIPTION:Blooloop’s online conference focussing on sustainability in visitor attractions.
URL:https://pretwerk.nl/evenement/greenloop-sustainability-in-visitor-attractions/
LOCATION:Online
CATEGORIES:Congres,Internationaal,webinar
ATTACH;FMTTYPE=image/jpeg:https://pretwerk.nl/wp-content/uploads/greenloop-final-image-1024x576-1.jpg
END:VEVENT
BEGIN:VEVENT
DTSTART;TZID=Europe/Amsterdam:20220414T090000
DTEND;TZID=Europe/Amsterdam:20220414T170000
DTSTAMP:20260425T173729
CREATED:20220308T092357Z
LAST-MODIFIED:20220308T092357Z
UID:74381-1649926800-1649955600@pretwerk.nl
SUMMARY:Event Summit
DESCRIPTION:EventSummit is dé dag voor de gehele evenementenindustrie. Effectief en efficiënt zakendoen\, inspiratie op doen en kennis opdoen.
URL:https://pretwerk.nl/evenement/event-summit/
CATEGORIES:Congres,Vakbeurs
ATTACH;FMTTYPE=image/png:https://pretwerk.nl/wp-content/uploads/logo-eventsummit-600.png
END:VEVENT
BEGIN:VEVENT
DTSTART;TZID=Europe/Amsterdam:20220405T130000
DTEND;TZID=Europe/Amsterdam:20220405T180000
DTSTAMP:20260425T173729
CREATED:20220208T152901Z
LAST-MODIFIED:20220208T152901Z
UID:73948-1649163600-1649181600@pretwerk.nl
SUMMARY:Praktijkdag Ecolodges\, Woodies & Tiny Houses
DESCRIPTION:De consument is op zoek naar unieke belevenissen en bereid meer te betalen voor een bijzondere overnachting en meer luxe. Maar ook de zoektocht naar duurzame alternatieven en de Corona hebben de ontwikkelingen van bijzondere accommodaties en glamping een enorme BOOST gegeven. Alleen al de laatste twee jaar zijn er tal van nieuwe ‘producten’ op de markt gekomen die allemaal claimen duurzaam te zijn.
URL:https://pretwerk.nl/evenement/praktijkdag-ecolodges-woodies-tiny-houses/
LOCATION:Kesteren
CATEGORIES:Congres
ATTACH;FMTTYPE=image/jpeg:https://pretwerk.nl/wp-content/uploads/tiny-houses.jpg
END:VEVENT
BEGIN:VEVENT
DTSTART;TZID=Europe/Amsterdam:20220404T140000
DTEND;TZID=Europe/Amsterdam:20220404T210000
DTSTAMP:20260425T173729
CREATED:20220218T145027Z
LAST-MODIFIED:20220218T145027Z
UID:74107-1649080800-1649106000@pretwerk.nl
SUMMARY:TravDay
DESCRIPTION:Dit is het event waar vertegenwoordigers van onder meer verkeersbureaus\, touroperators\, accommodaties\, airlines\, rentals\, verzekeraars\, airports en ICT klaarstaan om jou te voorzien van de laatste nieuwtjes over hun producten en diensten. TravDay is hét event voor (zelfstandig) reisadviseurs\, CEO’s van reisbureaus en touroperators\, inkopers en productmanagers.
URL:https://pretwerk.nl/evenement/travday/
CATEGORIES:Congres
ATTACH;FMTTYPE=image/jpeg:https://pretwerk.nl/wp-content/uploads/travel-1.jpg
END:VEVENT
BEGIN:VEVENT
DTSTART;TZID=Europe/Amsterdam:20220402T193000
DTEND;TZID=Europe/Amsterdam:20220402T230000
DTSTAMP:20260425T173729
CREATED:20220321T191907Z
LAST-MODIFIED:20220321T191907Z
UID:74581-1648927800-1648940400@pretwerk.nl
SUMMARY:Scare Event
DESCRIPTION:Na een succesvolle eerste editie keert het Scare Event dit jaar terug op zaterdag 2 april. Dit is de eerste scare en horror conferentie van Nederland. Tijdens dit event zullen er lezingen worden gegeven\, zijn er standhouders aanwezig en worden de Scare Awards uitgereikt.
URL:https://pretwerk.nl/evenement/scare-event/
CATEGORIES:Vakbeurs
ATTACH;FMTTYPE=image/jpeg:https://pretwerk.nl/wp-content/uploads/scareeventjpeg.jpg
END:VEVENT
BEGIN:VEVENT
DTSTART;TZID=Europe/Amsterdam:20220331T153000
DTEND;TZID=Europe/Amsterdam:20220331T170000
DTSTAMP:20260425T173729
CREATED:20220224T142458Z
LAST-MODIFIED:20220224T142458Z
UID:74220-1648740600-1648746000@pretwerk.nl
SUMMARY:SamenSpeelNetwerk bijeenkomst
DESCRIPTION:In deze online bijeenkomst belichten we een aantal veelvoorkomende valkuilen bij het realiseren van een samenspeelplek. En bespreken hoe we daar weer uit kunnen klimmen. Een bijeenkomst vol herkenning (‘Ik ben niet de enige.’) en inspiratie (’Het komt goed!’).
URL:https://pretwerk.nl/evenement/samenspeelnetwerk-bijeenkomst/
LOCATION:online
CATEGORIES:webinar
ATTACH;FMTTYPE=image/jpeg:https://pretwerk.nl/wp-content/uploads/logo-samenspeelnetwerk.jpg
END:VEVENT
BEGIN:VEVENT
DTSTART;TZID=Europe/Amsterdam:20220329T133000
DTEND;TZID=Europe/Amsterdam:20220329T170000
DTSTAMP:20260425T173729
CREATED:20220324T115944Z
LAST-MODIFIED:20220324T115944Z
UID:74662-1648560600-1648573200@pretwerk.nl
SUMMARY:De invloed van Citymarketing op binnensteden
DESCRIPTION:Welke trends hebben invloed op onze binnensteden. Tijdens deze kennisdag wordt ingezoomd op de situatie in Deventer en Utrecht.
URL:https://pretwerk.nl/evenement/de-invloed-van-citymarketing-op-binnensteden/
LOCATION:Deventer
CATEGORIES:Congres
ATTACH;FMTTYPE=image/jpeg:https://pretwerk.nl/wp-content/uploads/logo-NCNL.jpg
END:VEVENT
BEGIN:VEVENT
DTSTART;TZID=Europe/Amsterdam:20220324T100000
DTEND;TZID=Europe/Amsterdam:20220327T180000
DTSTAMP:20260425T173729
CREATED:20220228T145945Z
LAST-MODIFIED:20220228T145945Z
UID:74259-1648116000-1648404000@pretwerk.nl
SUMMARY:Vakantiesalon Brussel
DESCRIPTION:Na enkele dagen van overleg met de exposanten hebben de organisatoren van het Vakantiesalon van Brussel besloten om de editie van 2022 uit te stellen naar 24 tot 27 maart. Het Vakantiesalon vindt nog steeds plaats in Brussels Expo\, maar deze keer in Paleis 1 in plaats van Paleis 3.
URL:https://pretwerk.nl/evenement/vakantiesalon-brussel/
LOCATION:Brussel
CATEGORIES:Publieksbeurs
ATTACH;FMTTYPE=image/jpeg:https://pretwerk.nl/wp-content/uploads/vakantiesalon.jpg
END:VEVENT
BEGIN:VEVENT
DTSTART;TZID=Europe/Amsterdam:20220323T070000
DTEND;TZID=Europe/Amsterdam:20220323T150000
DTSTAMP:20260425T173729
CREATED:20220218T143521Z
LAST-MODIFIED:20220218T143521Z
UID:74103-1648018800-1648047600@pretwerk.nl
SUMMARY:ZwembadBranche Congres
DESCRIPTION:Het ZwembadBranche Congres biedt je een geweldige line-up aan sprekers van buiten de zwembranche. Naast deze plenaire sessies zijn er diverse workshops met actuele onderwerpen uit de zwembranche. Verder zijn er diverse momenten om bekende collega’s te ontmoeten en nieuwe contacten te leggen.
URL:https://pretwerk.nl/evenement/zwembadbranche-congres/
LOCATION:Apeldoorn
CATEGORIES:Congres
ATTACH;FMTTYPE=image/jpeg:https://pretwerk.nl/wp-content/uploads/zwembad-holten.jpg
END:VEVENT
BEGIN:VEVENT
DTSTART;TZID=Europe/Amsterdam:20220318T100000
DTEND;TZID=Europe/Amsterdam:20220320T170000
DTSTAMP:20260425T173729
CREATED:20220117T155259Z
LAST-MODIFIED:20220117T155259Z
UID:73686-1647597600-1647795600@pretwerk.nl
SUMMARY:Second Home beurs
DESCRIPTION:Consumentenbeurs voor de tweede woning. Tevens netwerkmoment waarop veel partijen uit de markt voor vakantiewoningen bij elkaar zijn.
URL:https://pretwerk.nl/evenement/second-home-beurs/
LOCATION:Jaarbeurs Utrecht
CATEGORIES:Publieksbeurs
ATTACH;FMTTYPE=image/png:https://pretwerk.nl/wp-content/uploads/second-home.png
END:VEVENT
BEGIN:VEVENT
DTSTART;TZID=Europe/Amsterdam:20220316T080000
DTEND;TZID=Europe/Amsterdam:20220317T170000
DTSTAMP:20260425T173729
CREATED:20220228T170739Z
LAST-MODIFIED:20220228T170739Z
UID:74289-1647417600-1647536400@pretwerk.nl
SUMMARY:Independent Hotelshow Amsterdam
DESCRIPTION:Independent Hotel Show Amsterdam is het branche-evenement dat volledig is gewijd aan de behoeften van luxe en boutique hoteliers.
URL:https://pretwerk.nl/evenement/independent-hotelshow-amsterdam/
LOCATION:RAI\, Amsterdam
CATEGORIES:Congres,Vakbeurs
ATTACH;FMTTYPE=image/jpeg:https://pretwerk.nl/wp-content/uploads/IH-Amsterdam.jpg
END:VEVENT
END:VCALENDAR