BEGIN:VCALENDAR
VERSION:2.0
PRODID:-//Pretwerk - ECPv6.6.3//NONSGML v1.0//EN
CALSCALE:GREGORIAN
METHOD:PUBLISH
X-WR-CALNAME:Pretwerk
X-ORIGINAL-URL:https://pretwerk.nl
X-WR-CALDESC:Evenementen voor Pretwerk
REFRESH-INTERVAL;VALUE=DURATION:PT1H
X-Robots-Tag:noindex
X-PUBLISHED-TTL:PT1H
BEGIN:VTIMEZONE
TZID:Europe/Amsterdam
BEGIN:DAYLIGHT
TZOFFSETFROM:+0100
TZOFFSETTO:+0200
TZNAME:CEST
DTSTART:20220327T010000
END:DAYLIGHT
BEGIN:STANDARD
TZOFFSETFROM:+0200
TZOFFSETTO:+0100
TZNAME:CET
DTSTART:20221030T010000
END:STANDARD
BEGIN:DAYLIGHT
TZOFFSETFROM:+0100
TZOFFSETTO:+0200
TZNAME:CEST
DTSTART:20230326T010000
END:DAYLIGHT
BEGIN:STANDARD
TZOFFSETFROM:+0200
TZOFFSETTO:+0100
TZNAME:CET
DTSTART:20231029T010000
END:STANDARD
END:VTIMEZONE
BEGIN:VEVENT
DTSTART;TZID=Europe/Amsterdam:20230109T100000
DTEND;TZID=Europe/Amsterdam:20230112T180000
DTSTAMP:20260423T165529
CREATED:20221126T094138Z
LAST-MODIFIED:20221126T094138Z
UID:78021-1673258400-1673546400@pretwerk.nl
SUMMARY:Horecava
DESCRIPTION:Horecava is al meer dan 65 jaar dé horecabeurs waar vakmensen in de wereld van eten\, drinken en buitenshuis slapen elkaar kunnen ontmoeten.
URL:https://pretwerk.nl/evenement/horecava/
LOCATION:RAI\, Amsterdam
CATEGORIES:Vakbeurs
ATTACH;FMTTYPE=image/jpeg:https://pretwerk.nl/wp-content/uploads/horecava-2.jpg
END:VEVENT
BEGIN:VEVENT
DTSTART;TZID=Europe/Amsterdam:20221206T110000
DTEND;TZID=Europe/Amsterdam:20221206T170000
DTSTAMP:20260423T165529
CREATED:20221124T185320Z
LAST-MODIFIED:20221124T185320Z
UID:78002-1670324400-1670346000@pretwerk.nl
SUMMARY:Recreatie terug op de kaart
DESCRIPTION:Hét congres over het vinden\, binden en boeien van alle (toekomstige) medewerkers in de recreatie.
URL:https://pretwerk.nl/evenement/recreatie-terug-op-de-kaart/
LOCATION:Burgers Zoo\, Arnhem
CATEGORIES:Congres
ATTACH;FMTTYPE=image/jpeg:https://pretwerk.nl/wp-content/uploads/recreatie-terug-op-de-kaart2.jpg
END:VEVENT
BEGIN:VEVENT
DTSTART;TZID=Europe/Amsterdam:20221206T020000
DTEND;TZID=Europe/Amsterdam:20221208T170000
DTSTAMP:20260423T165529
CREATED:20221129T093519Z
LAST-MODIFIED:20221129T093519Z
UID:78042-1670292000-1670518800@pretwerk.nl
SUMMARY:Blooloop Festival of Innovation (online)
DESCRIPTION:Het internationale attractieplatform Blooloop organiseert een 3-daags online congres met diverse interessante sprekers. Ook zal de winnaar van de Blooloop Innovation Award bekend worden gemaakt.
URL:https://pretwerk.nl/evenement/blooloop-festival-of-innovation-online/
LOCATION:online
CATEGORIES:webinar
ATTACH;FMTTYPE=image/jpeg:https://pretwerk.nl/wp-content/uploads/blooloop-festival-of-innovation.jpg
END:VEVENT
BEGIN:VEVENT
DTSTART;TZID=Europe/Amsterdam:20221129T000000
DTEND;TZID=Europe/Amsterdam:20221201T235959
DTSTAMP:20260423T165529
CREATED:20220628T144344Z
LAST-MODIFIED:20220628T144344Z
UID:75962-1669680000-1669939199@pretwerk.nl
SUMMARY:LeisurUp by Mapic
DESCRIPTION:Internationale vakbeurs voor leisurebedrijven. (turning location-based attractions into lifestyle destinations including retail sites\, urban areas\, transport hubs and travel destinations) Het event is gekoppeld aan Mapic\, de toonaangevende internationale beurs voor retailprofessionals.
URL:https://pretwerk.nl/evenement/leisurup-by-mapic-2/
LOCATION:Cannes (Frankrijk)
CATEGORIES:Internationaal,Vakbeurs
ATTACH;FMTTYPE=image/jpeg:https://pretwerk.nl/wp-content/uploads/LeisurUp.jpg
END:VEVENT
BEGIN:VEVENT
DTSTART;TZID=Europe/Amsterdam:20221128T090000
DTEND;TZID=Europe/Amsterdam:20221202T173000
DTSTAMP:20260423T165529
CREATED:20220701T095512Z
LAST-MODIFIED:20220701T095512Z
UID:76027-1669626000-1670002200@pretwerk.nl
SUMMARY:Immersive Tech Week (VR Days)
DESCRIPTION:Europese kennisdagen over Virtual Reality (VR)\, Augmented Reality (AR) en andere nieuwe opkomende audiovisuele technieken en hun toepassingen. Ook is er een beursvloer waar producenten en hun technologieën presenteren.
URL:https://pretwerk.nl/evenement/immersive-tech-week-vr-days/
LOCATION:Rotterdam\, Rotterdam
CATEGORIES:Congres
ATTACH;FMTTYPE=image/png:https://pretwerk.nl/wp-content/uploads/immersive-tech-week-1.png
END:VEVENT
BEGIN:VEVENT
DTSTART;TZID=Europe/Amsterdam:20221115T100000
DTEND;TZID=Europe/Amsterdam:20221117T180000
DTSTAMP:20260423T165529
CREATED:20220627T115122Z
LAST-MODIFIED:20220627T115122Z
UID:75937-1668506400-1668708000@pretwerk.nl
SUMMARY:Recreatie Vakbeurs Hardenberg
DESCRIPTION:De grootste vakbeurs voor de recreatiesector in Nederland. Je ziet de nieuwste fysieke producten\, diensten en innovaties van ruim 260 exposanten uit de complete sector (14 verschillende branches) binnen de recreatie. Je ontmoet (bestaande) relaties en ontdekt nieuwe leveranciers. 
URL:https://pretwerk.nl/evenement/recreatie-vakbeurs-hardenberg/
LOCATION:evenementenhal Hardenberg\, Hardenberg\, Nederland
CATEGORIES:Vakbeurs
ATTACH;FMTTYPE=image/png:https://pretwerk.nl/wp-content/uploads/Logo-Recreatie-Vakbeurs-nw-lr.png
END:VEVENT
BEGIN:VEVENT
DTSTART;TZID=Europe/Amsterdam:20221114T000000
DTEND;TZID=Europe/Amsterdam:20221117T235959
DTSTAMP:20260423T165529
CREATED:20220629T183040Z
LAST-MODIFIED:20220629T183040Z
UID:75994-1668384000-1668729599@pretwerk.nl
SUMMARY:IAAPA Expo Orlando
DESCRIPTION:Grootste attractie-vakbeurs ter wereld. Naast de vakbeurs zijn er ook diverse kennisbijeenkomsten en is het mogelijk om (begeleid) attracties in de regio te bezoeken.
URL:https://pretwerk.nl/evenement/iaapa-expo-orlando/
LOCATION:Orlando\, Florida (VS)\, Orlando\, florida\, Verenigde Staten
CATEGORIES:Vakbeurs
ATTACH;FMTTYPE=image/jpeg:https://pretwerk.nl/wp-content/uploads/iaapa-expo-2022.jpg
END:VEVENT
BEGIN:VEVENT
DTSTART;TZID=Europe/Amsterdam:20221109T110000
DTEND;TZID=Europe/Amsterdam:20221110T173000
DTSTAMP:20260423T165529
CREATED:20220630T115004Z
LAST-MODIFIED:20220630T115004Z
UID:76016-1667991600-1668101400@pretwerk.nl
SUMMARY:Festivak
DESCRIPTION:Festivak biedt een compleet overzicht van aanbieders van producten of diensten die organisatoren ondersteunen bij het verwezenlijken van hun evenement. Verder biedt Festivak een inhoudelijk programma met actuele thema’s en cases waarbij organisatoren geïnspireerd en gemotiveerd worden.
URL:https://pretwerk.nl/evenement/festivak/
LOCATION:Brabanthallen\, 's Hertogenbosch
CATEGORIES:Vakbeurs
ATTACH;FMTTYPE=image/jpeg:https://pretwerk.nl/wp-content/uploads/festivak-2.jpg
END:VEVENT
BEGIN:VEVENT
DTSTART;TZID=Europe/Amsterdam:20221104T100000
DTEND;TZID=Europe/Amsterdam:20221104T150000
DTSTAMP:20260423T165529
CREATED:20221006T112734Z
LAST-MODIFIED:20221006T112734Z
UID:77275-1667556000-1667574000@pretwerk.nl
SUMMARY:De Stand van de Waterrecreatie in Nederland 2022
DESCRIPTION:Waterrecreatie Nederland en CELTH organiseren met medewerking van NBTC een landelijk symposium gewijd aan onderzoek over de waterrecreatie in Nederland. Het symposium gaat over: \n\n\n\nUitwisseling van uitkomsten van recente onderzoeken op het gebied van watersport\, waterrecreatie en waterbeleving.Input verzamelen voor de kennisagenda Monitoring Waterrecreatie en de financiering daarvan.Bouwen aan een duurzaam kennisnetwerk waarin onderzoekers\, beleidsmakers\, ondernemers en belangenbehartigers met elkaar ervaringen\, data en kennis uitwisselen.
URL:https://pretwerk.nl/evenement/de-stand-van-de-waterrecreatie-in-nederland-2022/
LOCATION:Amersfoort
CATEGORIES:Congres
ATTACH;FMTTYPE=image/png:https://pretwerk.nl/wp-content/uploads/waterrecreatie-logo.png
END:VEVENT
BEGIN:VEVENT
DTSTART;TZID=Europe/Amsterdam:20221102T120000
DTEND;TZID=Europe/Amsterdam:20221102T170000
DTSTAMP:20260423T165529
CREATED:20221006T101601Z
LAST-MODIFIED:20221006T101601Z
UID:77271-1667390400-1667408400@pretwerk.nl
SUMMARY:SRO sportcongres
DESCRIPTION:Thema’s als duurzaamheid & milieu\, gezonde leefstijl\, sociaal domein en zorg gaan de sector sport en bewegen de komende jaren sterk beïnvloeden. Sport staat bekend als een conservatieve\, weinig innovatieve sector. Hoe kijken deskundigen uit andere sectoren naar sport en sportbeleid? Hoe gaan we met elkaar de uitdagingen van de toekomst aan?
URL:https://pretwerk.nl/evenement/sro-sportcongres/
LOCATION:Amersfoort
CATEGORIES:Congres
ATTACH;FMTTYPE=image/jpeg:https://pretwerk.nl/wp-content/uploads/sport-1.jpg
END:VEVENT
BEGIN:VEVENT
DTSTART;TZID=Europe/Amsterdam:20221102T100000
DTEND;TZID=Europe/Amsterdam:20221103T160000
DTSTAMP:20260423T165529
CREATED:20220701T202138Z
LAST-MODIFIED:20220701T202138Z
UID:76049-1667383200-1667491200@pretwerk.nl
SUMMARY:Vakbeurs (UK) voor diverse leisure marktsegmenten
DESCRIPTION:Het NEC eventcenter in Birmingham (UK) staat op 2 en 3 november volop in het teken van leisure. Er worden maar liefst zes vakbeurzen\, voor verschillende marktsegmenten tegelijk georganiseerd: \n\n\n\nThe Holiday Park & Resort Innovation; The Farm Business Innovation; Family Attraction Expo; Country House Business Innovation; Leisure Food & Beverage Expo; Leisure Toy & Gift Fair.
URL:https://pretwerk.nl/evenement/vakbeurs-uk-voor-diverse-leisure-marktsegmenten/
LOCATION:NEC Birmingham\, Birmingham\, Verenigd Koninkrijk
CATEGORIES:Internationaal,Vakbeurs
ATTACH;FMTTYPE=image/png:https://pretwerk.nl/wp-content/uploads/holiday-park-en-resort-show.png
END:VEVENT
BEGIN:VEVENT
DTSTART;TZID=Europe/Amsterdam:20221015T100000
DTEND;TZID=Europe/Amsterdam:20221016T170000
DTSTAMP:20260423T165529
CREATED:20220701T202804Z
LAST-MODIFIED:20220701T202804Z
UID:76055-1665828000-1665939600@pretwerk.nl
SUMMARY:Second Home Expo Gent (Be)
DESCRIPTION:Publieksbeurs voor de verkoop van vakantiewoningen.
URL:https://pretwerk.nl/evenement/second-home-expo-gent-be/
LOCATION:Flanders Expo\, Gent\, Gent\, België
CATEGORIES:Publieksbeurs
ATTACH;FMTTYPE=image/png:https://pretwerk.nl/wp-content/uploads/second-home-expo.png
END:VEVENT
BEGIN:VEVENT
DTSTART;TZID=Europe/Amsterdam:20221011T100000
DTEND;TZID=Europe/Amsterdam:20221013T170000
DTSTAMP:20260423T165529
CREATED:20221006T100916Z
LAST-MODIFIED:20221006T100916Z
UID:77268-1665482400-1665680400@pretwerk.nl
SUMMARY:Vakbeurs Energie
DESCRIPTION:Vakbeurs Energie is het grootste zakelijke evenement in het kader van duurzame opwekking en besparing van energie in Nederland. 3 dagen innovatie\, kennisdeling en business.
URL:https://pretwerk.nl/evenement/vakbeurs-energie/
LOCATION:Brabanthallen\, 's Hertogenbosch
CATEGORIES:Vakbeurs
ATTACH;FMTTYPE=image/jpeg:https://pretwerk.nl/wp-content/uploads/energie-3.jpg
END:VEVENT
BEGIN:VEVENT
DTSTART;TZID=Europe/Amsterdam:20221011T090000
DTEND;TZID=Europe/Amsterdam:20221011T160000
DTSTAMP:20260423T165529
CREATED:20220630T115723Z
LAST-MODIFIED:20220630T115723Z
UID:76018-1665478800-1665504000@pretwerk.nl
SUMMARY:Zwembadbranche Dag
DESCRIPTION:De ZwembadBranche Dag is een jaarlijks terugkerend evenement voor professionals die werkzaam zijn in de zwembranche\, of bij bedrijven waarvan een zwembad onderdeel uitmaakt van de exploitatie. Op het beursplein vind je de laatste trends en nieuwste ontwikkelingen en kun je ook terecht voor inspirerende workshops\, tips en adviezen. Natuurlijk is er gedurende de hele dag ook voldoende ruimte om weer even bij te praten met collega’s.
URL:https://pretwerk.nl/evenement/zwembadbranche-dag/
LOCATION:Midden Nederland Hallen\, Barneveld\, Nederland
CATEGORIES:Congres
ATTACH;FMTTYPE=image/png:https://pretwerk.nl/wp-content/uploads/banner-zwembadbranche-600-400.png
END:VEVENT
BEGIN:VEVENT
DTSTART;TZID=Europe/Amsterdam:20221011T000000
DTEND;TZID=Europe/Amsterdam:20221013T235959
DTSTAMP:20260423T165529
CREATED:20220701T204428Z
LAST-MODIFIED:20220701T204428Z
UID:76061-1665446400-1665705599@pretwerk.nl
SUMMARY:Salon Atlantica
DESCRIPTION:Internationale vakbeurs in het Franse La Rochelle\, gericht op recreatie en toerisme in de buitenlucht. (Hotellerie de plein air)
URL:https://pretwerk.nl/evenement/salon-atlantica/
LOCATION:La Rochelle\, La Rochelle\, Frankrijk
CATEGORIES:Vakbeurs
ATTACH;FMTTYPE=image/png:https://pretwerk.nl/wp-content/uploads/salon-atlantica.png
END:VEVENT
BEGIN:VEVENT
DTSTART;TZID=Europe/Amsterdam:20221010T120000
DTEND;TZID=Europe/Amsterdam:20221010T180000
DTSTAMP:20260423T165529
CREATED:20220719T100227Z
LAST-MODIFIED:20220719T100227Z
UID:76325-1665403200-1665424800@pretwerk.nl
SUMMARY:Nationaal Congres Evenementen
DESCRIPTION:Thema dit jaar is ‘Een plek voor evenementen’. Het belang van evenementen werd tijdens de coronapandemie nog duidelijker. Miljoenen bezoekers en/of deelnemers beleven er plezier aan. Evenementen zorgen voor levendigheid in gemeenten en betrokkenheid van bewoners. Ook dragen ze bij aan imago van gemeenten en het aantrekken van bezoekers. Dat leidt weer tot economische impact.
URL:https://pretwerk.nl/evenement/nationaal-congres-evenementen-2/
LOCATION:Dordrecht\, Dordrecht
CATEGORIES:Congres
ATTACH;FMTTYPE=image/png:https://pretwerk.nl/wp-content/uploads/nce.png
END:VEVENT
BEGIN:VEVENT
DTSTART;TZID=Europe/Amsterdam:20221010T000000
DTEND;TZID=Europe/Amsterdam:20221012T235959
DTSTAMP:20260423T165529
CREATED:20220725T151309Z
LAST-MODIFIED:20220725T151309Z
UID:76410-1665360000-1665619199@pretwerk.nl
SUMMARY:BBB Maastricht - horecavakbeurs
DESCRIPTION:BBB Maastricht is dé plek waar de horecaprofessional uit Zuidoost Nederland en Belgisch Limburg aanwezig is. BBB Maastricht is een kwaliteitsbeurs en biedt naast een hoop netwerkmogelijkheden en gezelligheid\, een bomvol programma aan proeverijen\, kook battles\, masterclasses en meer.
URL:https://pretwerk.nl/evenement/bbb-maastricht-horecavakbeurs/
LOCATION:MECC Maastricht\, Maastricht
CATEGORIES:Vakbeurs
ATTACH;FMTTYPE=image/jpeg:https://pretwerk.nl/wp-content/uploads/bbb.jpg
END:VEVENT
BEGIN:VEVENT
DTSTART;TZID=Europe/Amsterdam:20221006T000000
DTEND;TZID=Europe/Amsterdam:20221007T235959
DTSTAMP:20260423T165529
CREATED:20220702T191623Z
LAST-MODIFIED:20220702T191623Z
UID:76068-1665014400-1665187199@pretwerk.nl
SUMMARY:Museumcongres
DESCRIPTION:Het Museumcongres 2022: Kantelpunt gaat in op de grote thema’s van nu.
URL:https://pretwerk.nl/evenement/museumcongres/
LOCATION:Rotterdam
CATEGORIES:Congres
ATTACH;FMTTYPE=image/png:https://pretwerk.nl/wp-content/uploads/museumcongres2.png
END:VEVENT
BEGIN:VEVENT
DTSTART;TZID=Europe/Amsterdam:20221005T100000
DTEND;TZID=Europe/Amsterdam:20221009T170000
DTSTAMP:20260423T165529
CREATED:20220704T103548Z
LAST-MODIFIED:20220704T103548Z
UID:76097-1664964000-1665334800@pretwerk.nl
SUMMARY:Kampeer en Caravan Jaarbeurs
DESCRIPTION:Van 5 t/m 9 oktober 2022 zijn de Jaarbeurshallen weer één grote kampeerbeleving met gepimpte campers\, een theater\, een innovatie wedstrijd\, daktenten\, mooie kampeerlocaties\, workshops over vakantiefotografie\, barbecueën en duurzaam kamperen\, leuke kinderactiviteiten en kampeeractiviteiten. Ook diverse (kampeer)regio’s laten zich hier van hun beste kant zien.
URL:https://pretwerk.nl/evenement/kampeer-en-caravan-jaarbeurs-2/
LOCATION:Jaarbeurs Utrecht
CATEGORIES:Publieksbeurs
ATTACH;FMTTYPE=image/jpeg:https://pretwerk.nl/wp-content/uploads/kampeer-en-caravan-jaarbeurs-1.jpg
END:VEVENT
BEGIN:VEVENT
DTSTART;TZID=Europe/Amsterdam:20221005T090000
DTEND;TZID=Europe/Amsterdam:20221006T170000
DTSTAMP:20260423T165529
CREATED:20220628T142625Z
LAST-MODIFIED:20220628T142625Z
UID:75958-1664960400-1665075600@pretwerk.nl
SUMMARY:Vakbeurs Openbare Ruimte
DESCRIPTION:Alles over inrichting en beheer van duurzame en circulaire openbare ruimte.
URL:https://pretwerk.nl/evenement/vakbeurs-openbare-ruimte-3/
LOCATION:Jaarbeurs Utrecht
CATEGORIES:Vakbeurs
ATTACH;FMTTYPE=image/jpeg:https://pretwerk.nl/wp-content/uploads/VORNL2022-logo-RGB.jpg
END:VEVENT
BEGIN:VEVENT
DTSTART;TZID=Europe/Amsterdam:20221004T083000
DTEND;TZID=Europe/Amsterdam:20221004T170000
DTSTAMP:20260423T165529
CREATED:20220714T105747Z
LAST-MODIFIED:20220714T105747Z
UID:76253-1664872200-1664902800@pretwerk.nl
SUMMARY:Kennisevent Esports\, gaming en gamification
DESCRIPTION:Esports\, gaming en gamification (EGG) bereikt steeds meer sport- en beweegprofessionals. De groei van het aantal EGG-initiatieven binnen deze sport- en beweegsector neemt toe. Het Kennisevent EGG is dé plek waar initiatieven samenkomen\, inspiratie en kennis wordt opgehaald\, en vragen door en voor sport- en beweegprofessionals uit praktijk\, beleid en onderzoek gesteld worden.
URL:https://pretwerk.nl/evenement/kennisevent-esports-gaming-en-gamification/
LOCATION:Stadion Galgenwaard\, Utrecht
CATEGORIES:Congres
ATTACH;FMTTYPE=image/jpeg:https://pretwerk.nl/wp-content/uploads/esports-1.jpg
END:VEVENT
BEGIN:VEVENT
DTSTART;TZID=Europe/Amsterdam:20220930T100000
DTEND;TZID=Europe/Amsterdam:20221002T170000
DTSTAMP:20260423T165529
CREATED:20220630T114230Z
LAST-MODIFIED:20220630T114230Z
UID:76014-1664532000-1664730000@pretwerk.nl
SUMMARY:Second Home beurs
DESCRIPTION:Publieksbeurs voor de verkoop van vakantiewoningen. Daarnaast is deze beurs ook een uitstekende netwerkbijeenkomst voor partijen uit de verblijfsrecreatie.
URL:https://pretwerk.nl/evenement/second-home-beurs-2/
LOCATION:Jaarbeurs Utrecht
CATEGORIES:Publieksbeurs
ATTACH;FMTTYPE=image/png:https://pretwerk.nl/wp-content/uploads/second-home.png
END:VEVENT
BEGIN:VEVENT
DTSTART;TZID=Europe/Amsterdam:20220927T093000
DTEND;TZID=Europe/Amsterdam:20220927T173000
DTSTAMP:20260423T165529
CREATED:20220822T132327Z
LAST-MODIFIED:20220822T132327Z
UID:76671-1664271000-1664299800@pretwerk.nl
SUMMARY:Recreatiecongres Countus
DESCRIPTION:Countus helpt jou als recreatieondernemer met het maken van strategische keuzes. Tijdens het Countus Recreatiecongres op 27 september brengen beroepsprofessionals jou op de hoogte van trends en ontwikkelingen en kun je inspirerende kennissessies bijwonen!
URL:https://pretwerk.nl/evenement/recreatiecongres-countus/
LOCATION:Hof van Saksen\, Nooitgedacht
CATEGORIES:Congres
ATTACH;FMTTYPE=image/jpeg:https://pretwerk.nl/wp-content/uploads/recreatiecongres-2-1-1.jpg
END:VEVENT
BEGIN:VEVENT
DTSTART;TZID=Europe/Amsterdam:20220926T000000
DTEND;TZID=Europe/Amsterdam:20220926T235959
DTSTAMP:20260423T165529
CREATED:20220627T120027Z
LAST-MODIFIED:20220627T120027Z
UID:75940-1664150400-1664236799@pretwerk.nl
SUMMARY:Nationale Toerisme Top
DESCRIPTION:Hoe ziet de weg naar klimaatneutraal toerisme eruit? Wat zijn de grootste uitdagingen en belemmeringen om echt aan de slag te gaan? We gaan graag met je in gesprek op maandag 26 september op de Floriade Expo 2022. Noteer de datum alvast in je agenda\, meer informatie volgt binnenkort.De Toerisme Top 2022 wordt mede mogelijk gemaakt door het ministerie van Economische Zaken en Klimaat\, NBTC\, Gastvrij Nederland en de Provincie Flevoland.
URL:https://pretwerk.nl/evenement/nationale-toerisme-top/
LOCATION:Floriade\, Almere
CATEGORIES:Congres
ATTACH;FMTTYPE=image/png:https://pretwerk.nl/wp-content/uploads/toerisme-top-2022.png
END:VEVENT
BEGIN:VEVENT
DTSTART;TZID=Europe/Amsterdam:20220923T100000
DTEND;TZID=Europe/Amsterdam:20220925T170000
DTSTAMP:20260423T165529
CREATED:20220825T065734Z
LAST-MODIFIED:20220825T065734Z
UID:76697-1663927200-1664125200@pretwerk.nl
SUMMARY:Camperbeurs Hardenberg
DESCRIPTION:De grootste camperbeurs van Noord-Oost Nederland! Op Camperbeurs kunnen bezoekers informatie inwinnen voor de aankoop van een nieuwe of gebruikte camper. Daarnaast kunnen bezoekers ook inspiratie opdoen voor hun volgende vakantiebestemming.
URL:https://pretwerk.nl/evenement/camperbeurs-hardenberg/
LOCATION:evenementenhal Hardenberg\, Hardenberg\, Nederland
CATEGORIES:Publieksbeurs
ATTACH;FMTTYPE=image/jpeg:https://pretwerk.nl/wp-content/uploads/Camperbeurs_logo.jpg
END:VEVENT
BEGIN:VEVENT
DTSTART;TZID=Europe/Amsterdam:20220920T130000
DTEND;TZID=Europe/Amsterdam:20220920T180000
DTSTAMP:20260423T165529
CREATED:20220805T101556Z
LAST-MODIFIED:20220805T101556Z
UID:76524-1663678800-1663696800@pretwerk.nl
SUMMARY:Praktijkdag De glamping (r)evolutie
DESCRIPTION:Wat is nou Glamping\, wat zijn de meest opvallende effecten en zijn er nieuwe ontwikkelingen op komst? Deze Praktijkdag laat experts uit de praktijk aan het woord die met ons nieuws\, informatie en kennis willen delen. Wat gaat Glamping ons nog meer brengen?
URL:https://pretwerk.nl/evenement/praktijkdag-de-glamping-revolutie/
LOCATION:Denekamp\, Denekamp\, Nederland
CATEGORIES:Congres
ATTACH;FMTTYPE=image/jpeg:https://pretwerk.nl/wp-content/uploads/glamping-nl.jpg
END:VEVENT
BEGIN:VEVENT
DTSTART;TZID=Europe/Amsterdam:20220920T000000
DTEND;TZID=Europe/Amsterdam:20220920T235959
DTSTAMP:20260423T165530
CREATED:20220709T191921Z
LAST-MODIFIED:20220709T191921Z
UID:76171-1663632000-1663718399@pretwerk.nl
SUMMARY:Interactieve kennisdag 'spelen'
DESCRIPTION:Op dinsdag 20 september 2022 verzorgd Speelplan BV een super leuke interactieve Kennisdag bij Natuurspeeltuin de Hoef in Utrecht. De volgende onderwerpen staan op het programma: \n\n\n\nSamenspelen & inclusiviteitKlimaatbestendigVergroening van de openbare ruimte
URL:https://pretwerk.nl/evenement/interactieve-kennisdag-spelen/
LOCATION:Natuurspeeltuin de Hoef\, Utrecht
CATEGORIES:Congres
ATTACH;FMTTYPE=image/jpeg:https://pretwerk.nl/wp-content/uploads/speelplan_de-hoef-header.jpg
END:VEVENT
BEGIN:VEVENT
DTSTART;TZID=Europe/Amsterdam:20220919T110000
DTEND;TZID=Europe/Amsterdam:20220921T180000
DTSTAMP:20260423T165530
CREATED:20220907T155812Z
LAST-MODIFIED:20220907T155812Z
UID:76871-1663585200-1663783200@pretwerk.nl
SUMMARY:Gastvrij Rotterdam
DESCRIPTION:Gastvrij Rotterdam is dé horecavakbeurs voor ambitieuze horecaprofessionals en heeft zich tijdens vorige edities bewezen als hoogstaand gastronomisch platform voor de horecabranche. Het toonaangevende gastronomische platform voor de professionele horeca biedt bezoekers een overzichtelijk beeld van de laatste trends en ontwikkelingen in de sector en biedt daarnaast een compleet aanbod van food en non-food producten en diensten. Beursbezoekers kunnen genieten van 500 exposanten\, diverse workshops\, demonstraties\, masterclasses\, wedstrijden en proeverijen met sterrenchefs\, meesterkoks\, Masters of Wine en topgastronomen.
URL:https://pretwerk.nl/evenement/gastvrij-rotterdam/
LOCATION:ahoy Rotterdam\, Rotterdam
CATEGORIES:Vakbeurs
ATTACH;FMTTYPE=image/jpeg:https://pretwerk.nl/wp-content/uploads/gastvrij-rotterdam.jpg
END:VEVENT
BEGIN:VEVENT
DTSTART;TZID=Europe/Amsterdam:20220915T090000
DTEND;TZID=Europe/Amsterdam:20220916T180000
DTSTAMP:20260423T165530
CREATED:20220908T091920Z
LAST-MODIFIED:20220908T091920Z
UID:76885-1663232400-1663351200@pretwerk.nl
SUMMARY:Vacation Rental World Summit
DESCRIPTION:VRWS is an in-person live event gathering top industry experts and key players within the global vacation rental industry. Hosts\, property managers and professionals debate on what’s coming\, how to get more bookings\, streamline workflows and maximize rental income.
URL:https://pretwerk.nl/evenement/vacation-rental-world-summit/
LOCATION:Porto\, Porto\, Portugal
CATEGORIES:Congres,Internationaal
ATTACH;FMTTYPE=image/png:https://pretwerk.nl/wp-content/uploads/vacation-rental-conference.png
END:VEVENT
BEGIN:VEVENT
DTSTART;TZID=Europe/Amsterdam:20220915T000000
DTEND;TZID=Europe/Amsterdam:20220917T235959
DTSTAMP:20260423T165530
CREATED:20220701T205140Z
LAST-MODIFIED:20220701T205140Z
UID:76066-1663200000-1663459199@pretwerk.nl
SUMMARY:The Glamping Show
DESCRIPTION:Grote internationale vakbeurs voor glampingconcepten op een groot terrein in het Britse Stoneleigh. Je vindt hier niet alleen accommodaties\, maar ook alle onderdelen en kennis om je glampingconcept succesvol in te vullen
URL:https://pretwerk.nl/evenement/the-glamping-show-2/
LOCATION:Stoneleigh\, Stoneleigh\, Verenigd Koninkrijk
CATEGORIES:Internationaal,Vakbeurs
ATTACH;FMTTYPE=image/jpeg:https://pretwerk.nl/wp-content/uploads/the-glamping-show.jpg
END:VEVENT
END:VCALENDAR