BEGIN:VCALENDAR
VERSION:2.0
PRODID:-//Pretwerk - ECPv6.6.3//NONSGML v1.0//EN
CALSCALE:GREGORIAN
METHOD:PUBLISH
X-ORIGINAL-URL:https://pretwerk.nl
X-WR-CALDESC:Evenementen voor Pretwerk
REFRESH-INTERVAL;VALUE=DURATION:PT1H
X-Robots-Tag:noindex
X-PUBLISHED-TTL:PT1H
BEGIN:VTIMEZONE
TZID:Europe/Amsterdam
BEGIN:DAYLIGHT
TZOFFSETFROM:+0100
TZOFFSETTO:+0200
TZNAME:CEST
DTSTART:20230326T010000
END:DAYLIGHT
BEGIN:STANDARD
TZOFFSETFROM:+0200
TZOFFSETTO:+0100
TZNAME:CET
DTSTART:20231029T010000
END:STANDARD
END:VTIMEZONE
BEGIN:VEVENT
DTSTART;TZID=Europe/Amsterdam:20230503T000000
DTEND;TZID=Europe/Amsterdam:20230506T235959
DTSTAMP:20260423T121931
CREATED:20230329T154919Z
LAST-MODIFIED:20230329T154919Z
UID:79694-1683072000-1683417599@pretwerk.nl
SUMMARY:TEA SATE Europe (dagattracties)
DESCRIPTION:De Themed Entertainment Association (TEA) organiseert haar jaarlijkse grote Europese meeting onder de titel ‘Revolution’. Hier komen internationale specialisten samen op het gebied van ontwikkeling en management van attractieparken. Locatie is een inspirerend bedrijf: EuropaPark in Duitsland
URL:https://pretwerk.nl/evenement/tea-sate-europe-dagattracties/
LOCATION:Europa Park\, Rust\, Duitsland
CATEGORIES:Congres
ATTACH;FMTTYPE=image/jpeg:https://pretwerk.nl/wp-content/uploads/tea-sate-europe.jpg
END:VEVENT
BEGIN:VEVENT
DTSTART;TZID=Europe/Amsterdam:20230424T193000
DTEND;TZID=Europe/Amsterdam:20230424T220000
DTSTAMP:20260423T121931
CREATED:20230421T171050Z
LAST-MODIFIED:20230421T171050Z
UID:80062-1682364600-1682373600@pretwerk.nl
SUMMARY:Inspiratiesessie “Succesvol zijn in verbinden met je omgeving”
DESCRIPTION:Met de inspiratiesessie “Succesvol zijn in verbinden met je omgeving” ervaar je van succesvolle recreatiebedrijven en boeren hoe je kunt samenwerken met elkaar. Hoe ga jij als succesvol recreatie ondernemer jouw bedrijf verbinden met de omgeving en streekproducten producenten.
URL:https://pretwerk.nl/evenement/inspiratiesessie-succesvol-zijn-in-verbinden-met-je-omgeving/
LOCATION:Ommen\, Ommen\, Nederland
END:VEVENT
BEGIN:VEVENT
DTSTART;TZID=Europe/Amsterdam:20230420T120000
DTEND;TZID=Europe/Amsterdam:20230420T170000
DTSTAMP:20260423T121931
CREATED:20230327T143114Z
LAST-MODIFIED:20230327T143114Z
UID:79665-1681992000-1682010000@pretwerk.nl
SUMMARY:Trendcongres 2023: Tourism Futures
DESCRIPTION:Het jaarlijkse trendcongres dat wordt georganiseerd door NRIT Media in samenwerking met toeristisch recreatieve hogescholen in Nederland. Een van de keynote speakers is futuroloog Ian Yeoman.
URL:https://pretwerk.nl/evenement/trendcongres-2023-tourism-futures/
LOCATION:NHL Stenden\, Leeuwarden\, Nederland
CATEGORIES:Congres
ATTACH;FMTTYPE=image/jpeg:https://pretwerk.nl/wp-content/uploads/trendcongres.jpg
END:VEVENT
BEGIN:VEVENT
DTSTART;TZID=Europe/Amsterdam:20230415T150000
DTEND;TZID=Europe/Amsterdam:20230415T223000
DTSTAMP:20260423T121931
CREATED:20230323T121312Z
LAST-MODIFIED:20230323T121312Z
UID:79625-1681570800-1681597800@pretwerk.nl
SUMMARY:Scare Event
DESCRIPTION:De laatste jaren is de scare en Halloween industrie in Nederland groeiende. Om de groei van de industrie verder te stimuleren is het idee van het Scare Event ontstaan. Met het Scare Event wordt een platform geboden waar organisatoren van evenementen samen kunnen komen\, om door met lezingen en discussies de industrie naar een hoger niveau te tillen.
URL:https://pretwerk.nl/evenement/scare-event-2/
LOCATION:Avonturenpark Hellendoorn\, Hellendoorn\, Nederland
CATEGORIES:Congres
ATTACH;FMTTYPE=image/jpeg:https://pretwerk.nl/wp-content/uploads/scare-event.jpg
END:VEVENT
BEGIN:VEVENT
DTSTART;TZID=Europe/Amsterdam:20230403T100000
DTEND;TZID=Europe/Amsterdam:20230403T170000
DTSTAMP:20260423T121931
CREATED:20230322T164825Z
LAST-MODIFIED:20230322T164825Z
UID:79604-1680516000-1680541200@pretwerk.nl
SUMMARY:Nationaal Congres Evenementen
DESCRIPTION:Het thema van dit jaar is ‘de strijd om de evenementenkalender!’ Welke evenementen programmeer je als je rekening houdt met schaarse ruimte\, behoeften van bewoners en de wensen vanuit citymarketing perspectief? Maar ook\, hoe blijf je als evenement relevant en verdien je een plek op de kalender.
URL:https://pretwerk.nl/evenement/nationaal-congres-evenementen-3/
LOCATION:Alkmaar\, Alkmaar\, Nederland
CATEGORIES:Congres
ATTACH;FMTTYPE=image/png:https://pretwerk.nl/wp-content/uploads/nce.png
END:VEVENT
BEGIN:VEVENT
DTSTART;TZID=Europe/Amsterdam:20230401T000000
DTEND;TZID=Europe/Amsterdam:20230401T235959
DTSTAMP:20260423T121931
CREATED:20230314T090728Z
LAST-MODIFIED:20230314T090728Z
UID:79438-1680307200-1680393599@pretwerk.nl
SUMMARY:Open Camping Dag
DESCRIPTION:Op zaterdag 1 april 2023 stellen campings in Nederland hun deuren open voor enthousiaste kampeerders tijdens de I Love Kamperen Open Camping Dag 2023
URL:https://pretwerk.nl/evenement/open-camping-dag/
LOCATION:heel Nederland\, Nederland
CATEGORIES:Publieksbeurs
ATTACH;FMTTYPE=image/png:https://pretwerk.nl/wp-content/uploads/logo-ilovekamperen_461fe150.png
END:VEVENT
BEGIN:VEVENT
DTSTART;TZID=Europe/Amsterdam:20230331T100000
DTEND;TZID=Europe/Amsterdam:20230331T110000
DTSTAMP:20260423T121931
CREATED:20230327T142416Z
LAST-MODIFIED:20230327T142416Z
UID:79660-1680256800-1680260400@pretwerk.nl
SUMMARY:Webinar - 5 tips to ease the life of your staff
DESCRIPTION:Tijdens dit (Engelstalige) webinar kijken Adriaan van der Hek (technologie expert bij Convious) en Sebastian Bär (Digital Development manager bij Hannover Zoo) naar technologisch toepassingen die het werk van een medewerker in een attractiepark of dierentuin kunnen vereenvoudigen.
URL:https://pretwerk.nl/evenement/webinar-5-tips-to-ease-the-life-of-your-staff/
LOCATION:Online
CATEGORIES:webinar
ATTACH;FMTTYPE=image/png:https://pretwerk.nl/wp-content/uploads/convious.png
END:VEVENT
BEGIN:VEVENT
DTSTART;TZID=Europe/Amsterdam:20230329T100000
DTEND;TZID=Europe/Amsterdam:20230330T170000
DTSTAMP:20260423T121931
CREATED:20230125T145249Z
LAST-MODIFIED:20230125T145249Z
UID:78774-1680084000-1680195600@pretwerk.nl
SUMMARY:Webwinkel Vakdagen
DESCRIPTION:Wie online zaken doet heeft baat bij een bezoek aan de Webwinkel Vakdagen. Met 250 standhouders en ruim 200 lezingen is er een breed aanbod voor al je online vraagstukken.
URL:https://pretwerk.nl/evenement/webwinkel-vakdagen/
LOCATION:Jaarbeurs Utrecht
CATEGORIES:Vakbeurs
ATTACH;FMTTYPE=image/png:https://pretwerk.nl/wp-content/uploads/wwvd.png
END:VEVENT
BEGIN:VEVENT
DTSTART;TZID=Europe/Amsterdam:20230323T150000
DTEND;TZID=Europe/Amsterdam:20230323T190000
DTSTAMP:20260423T121931
CREATED:20230313T101714Z
LAST-MODIFIED:20230313T101714Z
UID:79381-1679583600-1679598000@pretwerk.nl
SUMMARY:Convious netwerk event dagrecreatie
DESCRIPTION:Van Medewerkers naar Ambassadeurs\n\n\n\nAls professional in de leisure branche ben je waarschijnlijk bekend met de uitdagingen van het aantrekken en behouden van gekwalificeerd personeel.Oud-Efteling directeur en consultant Coen Bertens\, en Funmania Directeur Wim Teunissen geven ons een kijkje in hoe zij deze uitdagingen aangaan\, geven waardevolle inzichten over hoe gasten fans worden en nemen je mee in mogelijke oplossingen over hoe jouw bestaande medewerkers om te zetten naar eigen recruiters.
URL:https://pretwerk.nl/evenement/convious-netwerk-event-dagrecreatie/
LOCATION:Funmania Aalsmeer\, Aalsmeer
CATEGORIES:Congres
ATTACH;FMTTYPE=image/jpeg:https://pretwerk.nl/wp-content/uploads/funmania-aalsmeer-1.jpg
END:VEVENT
BEGIN:VEVENT
DTSTART;TZID=Europe/Amsterdam:20230322T080000
DTEND;TZID=Europe/Amsterdam:20230322T170000
DTSTAMP:20260423T121931
CREATED:20230322T165327Z
LAST-MODIFIED:20230322T165327Z
UID:79607-1679472000-1679504400@pretwerk.nl
SUMMARY:Second Home Expo
DESCRIPTION:De Belgische versie van de Second Home beurs\, waar een breed internationaal aanbod van vakantiewoningen wordt gepresenteerd\, gecombineerd met een kennisprogramma voor de bezoekers.
URL:https://pretwerk.nl/evenement/second-home-expo-2/
LOCATION:Expo Antwerpen\, Antwerpen\, België
CATEGORIES:Publieksbeurs
ATTACH;FMTTYPE=image/png:https://pretwerk.nl/wp-content/uploads/second-home-expo.png
END:VEVENT
BEGIN:VEVENT
DTSTART;TZID=Europe/Amsterdam:20230322T070000
DTEND;TZID=Europe/Amsterdam:20230322T150000
DTSTAMP:20260423T121931
CREATED:20230126T123126Z
LAST-MODIFIED:20230126T123126Z
UID:78797-1679468400-1679497200@pretwerk.nl
SUMMARY:ZwembadBranche congres
DESCRIPTION:Het ZwembadBranche Congres is anders dan de meeste congressen in de zwembranche. Wij programmeren (bekende) sprekers die niet uit de zwembranche komen om je zo te laten inspireren met kennis en inzichten van buitenaf. Het keuzeprogramma is wel toegespitst op de zwembranche. Hier worden diverse actuele thema’s uit de zwembranche behandeld.
URL:https://pretwerk.nl/evenement/zwembad-branche-congres/
LOCATION:Apeldoorn
CATEGORIES:Congres
ATTACH;FMTTYPE=image/png:https://pretwerk.nl/wp-content/uploads/zbblogo.png
END:VEVENT
BEGIN:VEVENT
DTSTART;TZID=Europe/Amsterdam:20230317T100000
DTEND;TZID=Europe/Amsterdam:20230319T170000
DTSTAMP:20260423T121931
CREATED:20221228T153403Z
LAST-MODIFIED:20221228T153403Z
UID:78351-1679047200-1679245200@pretwerk.nl
SUMMARY:Second Home Beurs\, Utrecht
DESCRIPTION:Consumentenbeurs voor kopers / investeerders in vakantiewoningen van over de hele wereld. De laatste jaren ook met een redelijk groot segment van vakantiewoningen in Nederland. Naast stands met vooral aanbieders van vakantiehuizen\, is er ook een kennisprogramma.
URL:https://pretwerk.nl/evenement/second-home-beurs-utrecht-2/
LOCATION:Jaarbeurs Utrecht
CATEGORIES:Publieksbeurs
ATTACH;FMTTYPE=image/png:https://pretwerk.nl/wp-content/uploads/second-home.png
END:VEVENT
BEGIN:VEVENT
DTSTART;TZID=Europe/Amsterdam:20230314T100000
DTEND;TZID=Europe/Amsterdam:20230315T160000
DTSTAMP:20260423T121931
CREATED:20230215T111839Z
LAST-MODIFIED:20230215T111839Z
UID:79094-1678788000-1678896000@pretwerk.nl
SUMMARY:Independent Hotel Show
DESCRIPTION:De IHS presenteert een ruim aanbod van 200 innovatieve producten en diensten gericht op alle facetten binnen de hotel industrie. In het inspirerende lezingenprogramma delen deskundigen hun expertise en tijdens het event zijn er verschillende netwerkmogelijkheden.
URL:https://pretwerk.nl/evenement/independent-hotel-show/
LOCATION:RAI Amsterdam\, Amsterdam\, Nederland
CATEGORIES:Congres,Vakbeurs
ATTACH;FMTTYPE=image/jpeg:https://pretwerk.nl/wp-content/uploads/logo-ihs.jpg
END:VEVENT
BEGIN:VEVENT
DTSTART;TZID=Europe/Amsterdam:20230314T080000
DTEND;TZID=Europe/Amsterdam:20230316T170000
DTSTAMP:20260423T121931
CREATED:20221220T152644Z
LAST-MODIFIED:20221220T152644Z
UID:78279-1678780800-1678986000@pretwerk.nl
SUMMARY:Rimini Amusement Show
DESCRIPTION:Rimini Amusement Show\, scheduled 14-16 March 2023​ at Rimini Expo Centre (ITALY)\, is the reference b2b show for the operators of the world of amusements.
URL:https://pretwerk.nl/evenement/rimini-amusment-show/
LOCATION:Rimini\, Italië
CATEGORIES:Internationaal,Vakbeurs
ATTACH;FMTTYPE=image/jpeg:https://pretwerk.nl/wp-content/uploads/rimini-amusement-show.jpeg
END:VEVENT
BEGIN:VEVENT
DTSTART;TZID=Europe/Amsterdam:20230309T103000
DTEND;TZID=Europe/Amsterdam:20230309T170000
DTSTAMP:20260423T121931
CREATED:20221230T130616Z
LAST-MODIFIED:20221230T130616Z
UID:78410-1678357800-1678381200@pretwerk.nl
SUMMARY:Event Summit
DESCRIPTION:Een bijzondere dag voor  eventprofessionals. Dit jaar is de 15e editie en daar wil de organisatie wat moois van maken.
URL:https://pretwerk.nl/evenement/event-summit-2/
LOCATION:Jaarbeurs Utrecht
CATEGORIES:Vakbeurs
ATTACH;FMTTYPE=image/png:https://pretwerk.nl/wp-content/uploads/logo-eventsummit-600.png
END:VEVENT
BEGIN:VEVENT
DTSTART;TZID=Europe/Amsterdam:20230309T090000
DTEND;TZID=Europe/Amsterdam:20230309T160000
DTSTAMP:20260423T121931
CREATED:20221230T133602Z
LAST-MODIFIED:20221230T133602Z
UID:78420-1678352400-1678377600@pretwerk.nl
SUMMARY:Vakbeurs Sportaccommodaties
DESCRIPTION:Dit is de enige beurs in Nederland die “sportaccommodaties” centraal plaatst. Met een goede reden: het is nou eenmaal een complex onderwerp. Daarom steken we in Expo Houten ieder jaar de koppen bij elkaar. U vindt hier alles wat u als professional nodig hebt: van financiering en ontwerp tot beheer en onderhoud.
URL:https://pretwerk.nl/evenement/vakbeurs-sportaccommodaties-2/
LOCATION:Expo Houten\, Houten\, Nederland
CATEGORIES:Vakbeurs
ATTACH;FMTTYPE=image/jpeg:https://pretwerk.nl/wp-content/uploads/vakbeurs-sport-accommodaties.jpg
END:VEVENT
BEGIN:VEVENT
DTSTART;TZID=Europe/Amsterdam:20230308T100000
DTEND;TZID=Europe/Amsterdam:20230312T170000
DTSTAMP:20260423T121931
CREATED:20230116T154143Z
LAST-MODIFIED:20230116T154143Z
UID:78669-1678269600-1678640400@pretwerk.nl
SUMMARY:Boot Holland
DESCRIPTION:Nu de HISWA in de RAI Amsterdam is weggevallen blijft BOOT Holland over als de grootste (indoor) watersportbeurs van Nederland. De meeste standhouders bieden boten en producten voor op de boot. Nieuw dit jaar is het zeilpaviljoen en het verhuurplein. Ook speelt de beurs in op het personeelstekort in de sector met de carrière dagen.
URL:https://pretwerk.nl/evenement/boot-holland/
LOCATION:WTC Leeuwarden\, Leeuwarden
CATEGORIES:Publieksbeurs
ATTACH;FMTTYPE=image/jpeg:https://pretwerk.nl/wp-content/uploads/boot-holland.jpg
END:VEVENT
BEGIN:VEVENT
DTSTART;TZID=Europe/Amsterdam:20230307T100000
DTEND;TZID=Europe/Amsterdam:20230307T170000
DTSTAMP:20260423T121931
CREATED:20221207T165556Z
LAST-MODIFIED:20221207T165556Z
UID:78146-1678183200-1678208400@pretwerk.nl
SUMMARY:Stratech Leisure in Business
DESCRIPTION:Kennisdag voor de verblijfsrecreatie georganiseerd door Stratech (bekend van de reserveringssoftware voor vakantieparken en campings) Dit jaar met een record aantal sprekers en standhouders op de prachtige locatie van Mereveld te Utrecht.
URL:https://pretwerk.nl/evenement/stratech-leisure-in-business/
LOCATION:Mereveld\, Utrecht
CATEGORIES:Congres
ATTACH;FMTTYPE=image/jpeg:https://pretwerk.nl/wp-content/uploads/banner-leisure-in-business4.jpg
END:VEVENT
BEGIN:VEVENT
DTSTART;TZID=Europe/Amsterdam:20230307T000000
DTEND;TZID=Europe/Amsterdam:20230309T235959
DTSTAMP:20260423T121931
CREATED:20230131T200559Z
LAST-MODIFIED:20230131T200559Z
UID:78880-1678147200-1678406399@pretwerk.nl
SUMMARY:ITB Berlin
DESCRIPTION:Internationale Travel Trade Show\, waar ook veel Nederlandse vertegenwoordigers aanwezig zijn. De beurs is vooral bedoeld om te netwerken.
URL:https://pretwerk.nl/evenement/itb-berlin/
LOCATION:Messe Berlin\, Berlijn\, Duitsland
CATEGORIES:Congres,Vakbeurs
ATTACH;FMTTYPE=image/jpeg:https://pretwerk.nl/wp-content/uploads/itnb-berlin.jpg
END:VEVENT
BEGIN:VEVENT
DTSTART;TZID=Europe/Amsterdam:20230303T143000
DTEND;TZID=Europe/Amsterdam:20230303T173000
DTSTAMP:20260423T121931
CREATED:20230220T190331Z
LAST-MODIFIED:20230220T190331Z
UID:79158-1677853800-1677864600@pretwerk.nl
SUMMARY:Demo middag augmented reality
DESCRIPTION:Maak uitgebreid kennis met de unieke AR tour applicatie van Wintor. Met deze applicatie creëer je snel en eenvoudig je eigen tours. Probeer de AR-tour in Utrecht en maak er zelf een.
URL:https://pretwerk.nl/evenement/demo-middag-augmented-reality/
LOCATION:Utrecht\, Utrecht
CATEGORIES:Cursus
ATTACH;FMTTYPE=image/jpeg:https://pretwerk.nl/wp-content/uploads/wintor.jpg
END:VEVENT
BEGIN:VEVENT
DTSTART;TZID=Europe/Amsterdam:20230224T100000
DTEND;TZID=Europe/Amsterdam:20230226T170000
DTSTAMP:20260423T121931
CREATED:20221230T132116Z
LAST-MODIFIED:20221230T132116Z
UID:78414-1677232800-1677430800@pretwerk.nl
SUMMARY:Fiets en Wandelbeurs Utrecht
DESCRIPTION:Beurs voor fietsers en wandelaars met veel informatie over bestemmingen voor uitstapjes en vakanties. De laatste paar edities was er een vrij grote deelname van Nederlandse bestemmingen. (Meer dan op de Vakantiebeurs) “Na twee beursloze jaren staat de organisatie te trappelen om weer een nieuwe editie te organiseren.”
URL:https://pretwerk.nl/evenement/fiets-en-wandelbeurs-utrecht/
LOCATION:Jaarbeurs Utrecht
CATEGORIES:Publieksbeurs
ATTACH;FMTTYPE=image/png:https://pretwerk.nl/wp-content/uploads/logo-fenw.png
END:VEVENT
BEGIN:VEVENT
DTSTART;TZID=Europe/Amsterdam:20230218T100000
DTEND;TZID=Europe/Amsterdam:20230219T170000
DTSTAMP:20260423T121931
CREATED:20221230T132646Z
LAST-MODIFIED:20221230T132646Z
UID:78418-1676714400-1676826000@pretwerk.nl
SUMMARY:Fiets en Wandelbeurs Gent
DESCRIPTION:Beurs voor fietsers en wandelaars met veel informatie over bestemmingen voor uitstapjes\, routes en vakanties. “Na twee beursloze jaren staat de organisatie te trappelen om weer een nieuwe editie te organiseren.”
URL:https://pretwerk.nl/evenement/fiets-en-wandelbeurs-gent/
LOCATION:Flanders Expo\, Gent\, Gent\, België
CATEGORIES:Publieksbeurs
ATTACH;FMTTYPE=image/png:https://pretwerk.nl/wp-content/uploads/logo-fenw.png
END:VEVENT
BEGIN:VEVENT
DTSTART;TZID=Europe/Amsterdam:20230216T130000
DTEND;TZID=Europe/Amsterdam:20230216T170000
DTSTAMP:20260423T121931
CREATED:20230126T123917Z
LAST-MODIFIED:20230126T123917Z
UID:78800-1676552400-1676566800@pretwerk.nl
SUMMARY:Kennisupdate Live (toerisme in Zeeland)
DESCRIPTION:Het inwonersonderzoek\, het vaste gastenonderzoek\, het bezoekersonderzoek\, de aanboddatabase vrijetijdsaanbod\, Toerisme in Balans en Toerist van de Toekomst. Het zijn enkele van de onderwerpen die aan bod komen op deze bijeenkomst voor de Zeeuwse toeristische sector.
URL:https://pretwerk.nl/evenement/kennisupdate-live-toerisme-in-zeeland/
LOCATION:Vlissingen\, Vlissingen\, Nederland
CATEGORIES:Congres
ATTACH;FMTTYPE=image/png:https://pretwerk.nl/wp-content/uploads/kckusttoerisme.png
END:VEVENT
BEGIN:VEVENT
DTSTART;TZID=Europe/Amsterdam:20230201T090000
DTEND;TZID=Europe/Amsterdam:20230205T180000
DTSTAMP:20260423T121931
CREATED:20221230T130020Z
LAST-MODIFIED:20221230T130020Z
UID:78406-1675242000-1675620000@pretwerk.nl
SUMMARY:Spielwarenmesse
DESCRIPTION:Een beurs voor de brede speelindustrie. Naast het traditionele speelgoed is er ook veel aandacht voor games en nieuwe speelvormen\, die ook relevant (kunnen) zijn voor recreatiebedrijven.
URL:https://pretwerk.nl/evenement/spielwarenmesse/
LOCATION:Messezentrum Nürnberg\, Nürnberg\, Duitsland
CATEGORIES:Vakbeurs
ATTACH;FMTTYPE=image/jpeg:https://pretwerk.nl/wp-content/uploads/spielwarenmess.jpg
END:VEVENT
BEGIN:VEVENT
DTSTART;TZID=Europe/Amsterdam:20230128T100000
DTEND;TZID=Europe/Amsterdam:20230129T170000
DTSTAMP:20260423T121931
CREATED:20221228T152843Z
LAST-MODIFIED:20221228T152843Z
UID:78348-1674900000-1675011600@pretwerk.nl
SUMMARY:Second Home Beurs\, Maastricht
DESCRIPTION:Consumentenbeurs voor kopers / investeerders in vakantiewoningen van over de hele wereld. De laatste jaren ook met een redelijk groot segment van vakantiewoningen in Nederland. Naast stands met vooral aanbieders van vakantiehuizen\, is er ook een kennisprogramma.
URL:https://pretwerk.nl/evenement/second-home-beurs-maastricht-2/
LOCATION:Mecc Maastricht\, Maastricht
CATEGORIES:Publieksbeurs
ATTACH;FMTTYPE=image/png:https://pretwerk.nl/wp-content/uploads/second-home.png
END:VEVENT
BEGIN:VEVENT
DTSTART;TZID=Europe/Amsterdam:20230127T100000
DTEND;TZID=Europe/Amsterdam:20230129T180000
DTSTAMP:20260423T121931
CREATED:20221230T124629Z
LAST-MODIFIED:20221230T124629Z
UID:78402-1674813600-1675015200@pretwerk.nl
SUMMARY:Vakantie Expo Antwerpen
DESCRIPTION:De beurs zelf  speelt in op het veranderde reisgedrag : “Anno 2022 is de manier van reizen drastisch veranderd en geëvolueerd. Een evolutie dat voor een groot stuk gevoed wordt door high tech invloeden en in het bijzonder de verschillende sociale media platformen. En dus draagt ook de vernieuwde Vakantie Expo beurs haar steentje bij in the new way of travel!”
URL:https://pretwerk.nl/evenement/vakantie-expo-antwerpen-2/
LOCATION:Antwerp Expo\, Antwerpen\, België
CATEGORIES:Publieksbeurs
ATTACH;FMTTYPE=image/jpeg:https://pretwerk.nl/wp-content/uploads/vakantieexpo-banner-300x250-1.jpg
END:VEVENT
BEGIN:VEVENT
DTSTART;TZID=Europe/Amsterdam:20230125T100000
DTEND;TZID=Europe/Amsterdam:20230129T170000
DTSTAMP:20260423T121931
CREATED:20221229T151854Z
LAST-MODIFIED:20221229T151854Z
UID:78385-1674640800-1675011600@pretwerk.nl
SUMMARY:Caravana\, Leeuwarden
DESCRIPTION:Naast vertrouwde camper- en caravanmerken vind je op de aankomende editie van Caravana o.a. camperverhuurbedrijven\, een lange campingstraat met bestemmingen voor alle soorten kampeerders en verschillende offroad kampeermiddelen voor de avontuurlijke kampeerder. Fietsen kunnen getest worden op het fietsparcours.
URL:https://pretwerk.nl/evenement/caravana-leeuwarden/
LOCATION:WTC Leeuwarden\, Leeuwarden
CATEGORIES:Publieksbeurs
ATTACH;FMTTYPE=image/png:https://pretwerk.nl/wp-content/uploads/caravana-logo.png
END:VEVENT
BEGIN:VEVENT
DTSTART;TZID=Europe/Amsterdam:20230120T100000
DTEND;TZID=Europe/Amsterdam:20230122T170000
DTSTAMP:20260423T121931
CREATED:20221229T153037Z
LAST-MODIFIED:20221229T153037Z
UID:78389-1674208800-1674406800@pretwerk.nl
SUMMARY:Velofollies
DESCRIPTION:VELOFOLLIES is een totaalbeurs en presenteert een compleet aanbod van wat de volledige fietsmarkt biedt. Ook fietsvakanties en fietsbestemmingen vinden hier een plekje.
URL:https://pretwerk.nl/evenement/velofollies/
LOCATION:Kortrijk Xpo\, Kortrijk\, België
CATEGORIES:Publieksbeurs
ATTACH;FMTTYPE=image/jpeg:https://pretwerk.nl/wp-content/uploads/Velofollies-Logo.jpg
END:VEVENT
BEGIN:VEVENT
DTSTART;TZID=Europe/Amsterdam:20230119T120000
DTEND;TZID=Europe/Amsterdam:20230119T130000
DTSTAMP:20260423T121931
CREATED:20221228T151354Z
LAST-MODIFIED:20221228T151354Z
UID:78344-1674129600-1674133200@pretwerk.nl
SUMMARY:Webinar: Stedelijk toerisme
DESCRIPTION:Stedelijk toerisme kreeg een enorme dreun tijdens de coronacrisis. De gevolgen zijn nog steeds merkbaar. Het aantal overnachtingen ligt ongeveer 20% achter bij 2019. De zakelijke bezoekersmarkt zakte in elkaar en nu na de crisis zijn hotels\, eventlocaties\, gemeenten en destinatie management organisaties hard bezig met de wederopbouw. De wereld is getransformeerd en vraagt om nieuwe oplossingen. Uitzending: 19 januari 12.00 – 13.00.
URL:https://pretwerk.nl/evenement/webinar-stedelijk-toerisme/
LOCATION:online
CATEGORIES:webinar
ATTACH;FMTTYPE=image/jpeg:https://pretwerk.nl/wp-content/uploads/nrit-stedelijk-toerisme.jpg
END:VEVENT
BEGIN:VEVENT
DTSTART;TZID=Europe/Amsterdam:20230118T080000
DTEND;TZID=Europe/Amsterdam:20230122T170000
DTSTAMP:20260423T121932
CREATED:20221222T123412Z
LAST-MODIFIED:20221222T123412Z
UID:78295-1674028800-1674406800@pretwerk.nl
SUMMARY:Fitur - Tourism Trade Fair
DESCRIPTION:Vakbeurs voor toerismeprofessionals\, vooral gericht op de Spaanstalige markten. Een bijzonder onderdeel is FiturTechy (18 – 20 januari)\, waarin een beeld wordt geschets van de toerismesector in de toekomst. (zie ook de foto van de futuristische hotelkamer)
URL:https://pretwerk.nl/evenement/fitur-tourism-trade-fair/
LOCATION:Madrid\, Spanje
CATEGORIES:Vakbeurs
ATTACH;FMTTYPE=image/jpeg:https://pretwerk.nl/wp-content/uploads/techYhotel-FITURTECHY.jpg
END:VEVENT
END:VCALENDAR