BEGIN:VCALENDAR
VERSION:2.0
PRODID:-//Pretwerk - ECPv6.6.3//NONSGML v1.0//EN
CALSCALE:GREGORIAN
METHOD:PUBLISH
X-WR-CALNAME:Pretwerk
X-ORIGINAL-URL:https://pretwerk.nl
X-WR-CALDESC:Evenementen voor Pretwerk
REFRESH-INTERVAL;VALUE=DURATION:PT1H
X-Robots-Tag:noindex
X-PUBLISHED-TTL:PT1H
BEGIN:VTIMEZONE
TZID:Europe/Amsterdam
BEGIN:DAYLIGHT
TZOFFSETFROM:+0100
TZOFFSETTO:+0200
TZNAME:CEST
DTSTART:20230326T010000
END:DAYLIGHT
BEGIN:STANDARD
TZOFFSETFROM:+0200
TZOFFSETTO:+0100
TZNAME:CET
DTSTART:20231029T010000
END:STANDARD
END:VTIMEZONE
BEGIN:VEVENT
DTSTART;TZID=Europe/Amsterdam:20231003T000000
DTEND;TZID=Europe/Amsterdam:20231003T235959
DTSTAMP:20260421T195611
CREATED:20230518T094454Z
LAST-MODIFIED:20230616T114824Z
UID:80359-1696291200-1696377599@pretwerk.nl
SUMMARY:Countus Recreatiecongres 2023
DESCRIPTION:Ook deze editie zullen er gerenommeerde sprekers zijn en kun je je aanmelden voor 2 kennissessies. De inhoud hiervan is nog niet definitief\, maar zullen waarschijnlijk ingaan op energie-transitie in de recreatie en robotisering en automatisering. In juni wordt het programma definitief gemaakt.
URL:https://pretwerk.nl/evenement/countus-recreatiecongres-2023/
CATEGORIES:Congres
ATTACH;FMTTYPE=image/jpeg:https://pretwerk.nl/wp-content/uploads/logo-countus.jpg
END:VEVENT
BEGIN:VEVENT
DTSTART;TZID=Europe/Amsterdam:20230929T100000
DTEND;TZID=Europe/Amsterdam:20231001T170000
DTSTAMP:20260421T195611
CREATED:20230713T122524Z
LAST-MODIFIED:20230714T093217Z
UID:82538-1695981600-1696179600@pretwerk.nl
SUMMARY:Second Home beurs
DESCRIPTION:Publieksbeurs voor de verkoop van vakantiewoningen. Het aanbod is zeer internationaal\, maar er is een groot segment van Nederlands en Belgisch aanbod aanwezig. Mede daardoor is deze beurs ook een netwerkmoment voor vele betrokkenen bij de verblijfsrecreatie in Nederland.
URL:https://pretwerk.nl/evenement/second-home-beurs-3/
LOCATION:Jaarbeurs Utrecht
CATEGORIES:Publieksbeurs
ATTACH;FMTTYPE=image/png:https://pretwerk.nl/wp-content/uploads/second-home.png
END:VEVENT
BEGIN:VEVENT
DTSTART;TZID=Europe/Amsterdam:20230927T090000
DTEND;TZID=Europe/Amsterdam:20230928T160000
DTSTAMP:20260421T195611
CREATED:20230529T143828Z
LAST-MODIFIED:20230616T114826Z
UID:80497-1695805200-1695916800@pretwerk.nl
SUMMARY:Vakbeurs Openbare Ruimte
DESCRIPTION:Jaarlijkse vakbeurs waar van alles te vinden is voor de inrichting van de publieke buitenruimte. Voor recreatiebedrijven met een omvangrijke buitenruimte is deze beurs zeker ook interessant. Standhouders voor deze doelgroep zijn o.a. aanbieders van groeninrichting\, sport- en speeltoestellen\, aanleg van wegen en paden\, openbare verlichting en straatmeubilair.
URL:https://pretwerk.nl/evenement/vakbeurs-openbare-ruimte-4/
LOCATION:Jaarbeurs Utrecht\, Utrecht
CATEGORIES:Vakbeurs
ATTACH;FMTTYPE=image/jpeg:https://pretwerk.nl/wp-content/uploads/VORNL2021.jpg
END:VEVENT
BEGIN:VEVENT
DTSTART;TZID=Europe/Amsterdam:20230926T000000
DTEND;TZID=Europe/Amsterdam:20230928T235959
DTSTAMP:20260421T195611
CREATED:20230526T143935Z
LAST-MODIFIED:20230616T114828Z
UID:80472-1695686400-1695945599@pretwerk.nl
SUMMARY:IAAPA Expo Europe
DESCRIPTION:De Jaarlijkse expo voor de Europese sector van attracties (pretparken\, dierentuinen\, kermissen\, fecs\, indoor speelparken\, e.v.a.)
URL:https://pretwerk.nl/evenement/iaapa-expo-europe-3/
CATEGORIES:Congres,Vakbeurs
ATTACH;FMTTYPE=image/jpeg:https://pretwerk.nl/wp-content/uploads/iaapa-expo-europe-1.jpg
END:VEVENT
BEGIN:VEVENT
DTSTART;TZID=Europe/Amsterdam:20230925T110000
DTEND;TZID=Europe/Amsterdam:20230925T190000
DTSTAMP:20260421T195611
CREATED:20230814T133056Z
LAST-MODIFIED:20230814T133336Z
UID:82991-1695639600-1695668400@pretwerk.nl
SUMMARY:TravDay
DESCRIPTION:TravDay is dé ontmoetingsplaats voor Nederlandse reisprofessionals\, waar je in één dag kunt netwerken\, leren en geïnspireerd kunt raken door de nieuwste producten en ontwikkelingen. Het evenement brengt  toonaangevende mensen en bedrijven uit de reisbranche samen
URL:https://pretwerk.nl/evenement/travday-2/
LOCATION:Rijtuigenloods\, Amersfoort\, Nederland
CATEGORIES:Congres
ATTACH;FMTTYPE=image/jpeg:https://pretwerk.nl/wp-content/uploads/2023/08/travday-logo.jpg
END:VEVENT
BEGIN:VEVENT
DTSTART;TZID=Europe/Amsterdam:20230925T000000
DTEND;TZID=Europe/Amsterdam:20230925T235959
DTSTAMP:20260421T195611
CREATED:20230609T130722Z
LAST-MODIFIED:20230816T101444Z
UID:80705-1695600000-1695686399@pretwerk.nl
SUMMARY:Nationale Toerisme Top
DESCRIPTION:De Toerisme Top is bedoeld om als sector gezamenlijk te werken aan een duurzame ontwikkeling van de bestemming Nederland\, zoals geschetst in Perspectief 2030. Deze lange termijn visie voor de bestemming Nederland wordt jaarlijks als uitgangspunt voor inhoud en programma genomen. Ook de voortgang van de actieagenda die voortkomt uit Perspectief 2030 staat jaarlijks op de top geagendeerd. Daarnaast is het event een belangrijk jaarlijks netwerkmoment voor de gehele sector.
URL:https://pretwerk.nl/evenement/nationale-toerisme-top-2/
CATEGORIES:Congres
ATTACH;FMTTYPE=image/jpeg:https://pretwerk.nl/wp-content/uploads/buitensport-drenthe.jpg
END:VEVENT
BEGIN:VEVENT
DTSTART;TZID=Europe/Amsterdam:20230918T110000
DTEND;TZID=Europe/Amsterdam:20230920T180000
DTSTAMP:20260421T195611
CREATED:20230728T152915Z
LAST-MODIFIED:20230728T152916Z
UID:82761-1695034800-1695232800@pretwerk.nl
SUMMARY:Gastvrij Rotterdam
DESCRIPTION:Gastvrij Rotterdam is dé horecavakbeurs voor ambitieuze horecaprofessionals in Rotterdam Ahoy.
URL:https://pretwerk.nl/evenement/gastvrij-rotterdam-2/
LOCATION:ahoy Rotterdam\, Rotterdam
CATEGORIES:Vakbeurs
ATTACH;FMTTYPE=image/jpeg:https://pretwerk.nl/wp-content/uploads/2023/07/gastvrij-rotterdam.jpg
END:VEVENT
BEGIN:VEVENT
DTSTART;TZID=Europe/Amsterdam:20230914T000000
DTEND;TZID=Europe/Amsterdam:20230916T235959
DTSTAMP:20260421T195611
CREATED:20230815T134601Z
LAST-MODIFIED:20230816T095026Z
UID:83022-1694649600-1694908799@pretwerk.nl
SUMMARY:The Glamping Show
DESCRIPTION:Een grote en gezellige vakbeurs voor glamping-professionals in ’the British Countryside’. Staat al jarenlang bekend om sfeervolle en innovatieve concepten.
URL:https://pretwerk.nl/evenement/the-glamping-show-3/
LOCATION:Stoneleigh\, Stoneleigh\, Verenigd Koninkrijk
CATEGORIES:Internationaal,Vakbeurs
ATTACH;FMTTYPE=image/png:https://pretwerk.nl/wp-content/uploads/2023/08/the-glamping-show.png
END:VEVENT
BEGIN:VEVENT
DTSTART;TZID=Europe/Amsterdam:20230912T143000
DTEND;TZID=Europe/Amsterdam:20230912T170000
DTSTAMP:20260421T195611
CREATED:20230904T090252Z
LAST-MODIFIED:20230904T090253Z
UID:83251-1694529000-1694538000@pretwerk.nl
SUMMARY:Horwath HTL hotel event
DESCRIPTION:Deze editie van het Horwath HTL event staat in het teken van de zakelijke markt. De zakelijke markt\, en met name het internationale zakelijk verkeer\, hebben wat langer tijd nodig gehad om van de coronacrisis te herstellen. Inmiddels lijkt ook de vergadermarkt sterk in opkomst. Deze kennismiddag wordt ondersteund door ABN AMRO.
URL:https://pretwerk.nl/evenement/horwath-htl-hotel-event/
LOCATION:Amsterdam
CATEGORIES:Congres
ATTACH;FMTTYPE=image/jpeg:https://pretwerk.nl/wp-content/uploads/congres-horwath.jpg
END:VEVENT
BEGIN:VEVENT
DTSTART;TZID=Europe/Amsterdam:20230912T100000
DTEND;TZID=Europe/Amsterdam:20230916T170000
DTSTAMP:20260421T195611
CREATED:20230816T092852Z
LAST-MODIFIED:20230816T094915Z
UID:83052-1694512800-1694883600@pretwerk.nl
SUMMARY:50PlusBeurs
DESCRIPTION:Grote publieksbeurs\, gericht op de actieve 50plusser. Aandacht voor de categorieën vakantie\, vrije tijd\, wonen\, body & soul\, maatschappij\, welzijn & zorg\, creatief en lekker weg. Voor ondernemers uit de recreatiesector is deze beurs natuurlijk interessant om deel te nemen als standhouder. Daarnaast is er volop inspiratie voor activiteiten en onderwerpen (b.v. toegankelijkheid) die je op je bedrijf kunt introduceren.
URL:https://pretwerk.nl/evenement/50plusbeurs/
LOCATION:Jaarbeurs Utrecht
CATEGORIES:Publieksbeurs
ATTACH;FMTTYPE=image/jpeg:https://pretwerk.nl/wp-content/uploads/2023/08/50-plusbeurs.jpg
END:VEVENT
BEGIN:VEVENT
DTSTART;TZID=Europe/Amsterdam:20230830T100000
DTEND;TZID=Europe/Amsterdam:20230903T180000
DTSTAMP:20260421T195611
CREATED:20230529T142252Z
LAST-MODIFIED:20230616T114832Z
UID:82072-1693389600-1693764000@pretwerk.nl
SUMMARY:Hiswa te Water
DESCRIPTION:De 38ste editie van de Hiswa te Water zal in 2023 plaatsvinden in\, natuurlijk\, Batavia Haven Lelystad. De haven zal dan weer worden omgetoverd tot het walhalla voor ieder type watersporter.
URL:https://pretwerk.nl/evenement/hiswa-te-water-2/
LOCATION:Lelystad\, Lelystad\, Nederland
CATEGORIES:Publieksbeurs
ATTACH;FMTTYPE=image/png:https://pretwerk.nl/wp-content/uploads/2023/05/logo-hiswa-2023.png
END:VEVENT
BEGIN:VEVENT
DTSTART;TZID=Europe/Amsterdam:20230826T000000
DTEND;TZID=Europe/Amsterdam:20230903T235959
DTSTAMP:20260421T195611
CREATED:20230615T130511Z
LAST-MODIFIED:20230720T112708Z
UID:80775-1693008000-1693785599@pretwerk.nl
SUMMARY:Caravan Salon Düsseldorf
DESCRIPTION:Naast campers\, caravans\, kampeerwagens en accessoires\, is er ook veel ruimte voor passend toeristische aanbod.
URL:https://pretwerk.nl/evenement/caravan-salon-dusseldorf-3/
LOCATION:Düsseldorf\, Düsseldorf\, Duitsland
CATEGORIES:Publieksbeurs
ATTACH;FMTTYPE=image/jpeg:https://pretwerk.nl/wp-content/uploads/2023/06/Caravan-salon-2.jpg
END:VEVENT
BEGIN:VEVENT
DTSTART;TZID=Europe/Amsterdam:20230801T080000
DTEND;TZID=Europe/Amsterdam:20230801T170000
DTSTAMP:20260421T195611
CREATED:20230801T132454Z
LAST-MODIFIED:20230801T132455Z
UID:82818-1690876800-1690909200@pretwerk.nl
SUMMARY:Travel Trade Day (Vakdag Vakantiebeurs)
DESCRIPTION:Hét netwerkevent voor de toeristisch recreatieve sector waar kennisdeling\, inspiratie en elkaar weer live ontmoeten centraal staat. In de verschillende theaters op de beursvloer worden interessante en kwalitatieve sessies gegeven over o.a. de laatste trends in vrije tijd en toerisme.
URL:https://pretwerk.nl/evenement/travel-trade-day-vakdag-vakantiebeurs/
LOCATION:Jaarbeurs Utrecht
CATEGORIES:Congres
ATTACH;FMTTYPE=image/jpeg:https://pretwerk.nl/wp-content/uploads/2023/08/travel-trade-day.jpg
END:VEVENT
BEGIN:VEVENT
DTSTART;TZID=Europe/Amsterdam:20230627T123000
DTEND;TZID=Europe/Amsterdam:20230627T180000
DTSTAMP:20260421T195611
CREATED:20230518T094114Z
LAST-MODIFIED:20230616T115019Z
UID:80355-1687869000-1687888800@pretwerk.nl
SUMMARY:Embrace
DESCRIPTION:Booking Experts organiseert op dinsdag 27 juni 2023 de eerste editie van het kennisevent Embrace: voor en door professionals die dagelijks te maken hebben met de nieuwste vraagstukken in de verblijfsrecreatie.
URL:https://pretwerk.nl/evenement/embrace/
CATEGORIES:Congres
ATTACH;FMTTYPE=image/jpeg:https://pretwerk.nl/wp-content/uploads/2023/05/embrace2.jpg
END:VEVENT
BEGIN:VEVENT
DTSTART;TZID=Europe/Amsterdam:20230622T000000
DTEND;TZID=Europe/Amsterdam:20230622T235959
DTSTAMP:20260421T195611
CREATED:20230302T124353Z
LAST-MODIFIED:20230616T115119Z
UID:79279-1687392000-1687478399@pretwerk.nl
SUMMARY:Nationaal Fietscongres
DESCRIPTION:Het thema van het Nationaal Fietscongres 2023 is ‘Natuurlijk Innovatief’. Op 21 juni is er ook nog een pré congres dag.
URL:https://pretwerk.nl/evenement/nationaal-fietscongres/
LOCATION:Dieren\, Rheden\, Nederland
CATEGORIES:Congres
ATTACH;FMTTYPE=image/jpeg:https://pretwerk.nl/wp-content/uploads/fietscongres.jpg
END:VEVENT
BEGIN:VEVENT
DTSTART;TZID=Europe/Amsterdam:20230615T083000
DTEND;TZID=Europe/Amsterdam:20230615T173000
DTSTAMP:20260421T195611
CREATED:20230323T120948Z
LAST-MODIFIED:20230616T090849Z
UID:79621-1686817800-1686850200@pretwerk.nl
SUMMARY:NIMA Marketing Day
DESCRIPTION:Jaarlijks event voor marketingprofessionals. Wij zagen in het programma o.a. een presentatie van Center Parcs over hun nieuwe merkidentiteit en marketingstrategie.
URL:https://pretwerk.nl/evenement/nima-marketing-day/
LOCATION:De Fabrique\, Utrecht\, Nederland
CATEGORIES:Congres
ATTACH;FMTTYPE=image/jpeg:https://pretwerk.nl/wp-content/uploads/nima-marketing-day.jpg
END:VEVENT
BEGIN:VEVENT
DTSTART;TZID=Europe/Amsterdam:20230615T000000
DTEND;TZID=Europe/Amsterdam:20230617T235959
DTSTAMP:20260421T195611
CREATED:20230529T141508Z
LAST-MODIFIED:20230529T141508Z
UID:80488-1686787200-1687046399@pretwerk.nl
SUMMARY:Ecsite conference (science centers)
DESCRIPTION:Europese conferentie voor de deelsector van science centers en andere wetenschapsgerelateerde attracties. Een zeer levendige bijeenkomst met meer dan 70 kennissessies.
URL:https://pretwerk.nl/evenement/ecsite-conference-science-centers/
CATEGORIES:Congres
ATTACH;FMTTYPE=image/png:https://pretwerk.nl/wp-content/uploads/2023/05/escite2.png
END:VEVENT
BEGIN:VEVENT
DTSTART;TZID=Europe/Amsterdam:20230613T100000
DTEND;TZID=Europe/Amsterdam:20230615T190000
DTSTAMP:20260421T195611
CREATED:20230529T140712Z
LAST-MODIFIED:20230529T140712Z
UID:80486-1686650400-1686855600@pretwerk.nl
SUMMARY:Provada (vastgoedbeurs)
DESCRIPTION:Vastgoedbeurs Provada in de Amsterdamse RAI organiseert ook enkele bijeenkomsten voor de sector leisure. enkele voorbeelden: De NVM presenteert de jaarcijfers over de markt van van vakantiewoningen en Horwath geeft een presentatie over trends in de hotelsector. zie ook: www.pretwerk.nl/productnieuws/ook-leisurevastgoed-heeft-een-plekje-op-de-vastgoedbeurs-provada/80373
URL:https://pretwerk.nl/evenement/provada-vastgoedbeurs/
LOCATION:RAI Amsterdam\, Amsterdam\, Nederland
CATEGORIES:Vakbeurs
ATTACH;FMTTYPE=:
END:VEVENT
BEGIN:VEVENT
DTSTART;TZID=Europe/Amsterdam:20230612T000000
DTEND;TZID=Europe/Amsterdam:20230613T235959
DTSTAMP:20260421T195611
CREATED:20230606T140706Z
LAST-MODIFIED:20230606T140706Z
UID:80636-1686528000-1686700799@pretwerk.nl
SUMMARY:Seli Show (indoor entertainment)
DESCRIPTION:De Franse branchevereniging voor indoor recreatie (Space) organiseert een middelgrote beurs voor Indoor Entertainment in Lyon. Er is o.a. een bescheiden beursvloer (62 stadhouders) en er worden 6 lezingen georganiseerd (in het Frans)
URL:https://pretwerk.nl/evenement/seli-show-indoor-entertainment/
CATEGORIES:Vakbeurs
ATTACH;FMTTYPE=image/jpeg:https://pretwerk.nl/wp-content/uploads/2023/06/bandeau_seli_site3.jpg
END:VEVENT
BEGIN:VEVENT
DTSTART;TZID=Europe/Amsterdam:20230608T000000
DTEND;TZID=Europe/Amsterdam:20230608T235959
DTSTAMP:20260421T195611
CREATED:20230530T082318Z
LAST-MODIFIED:20230530T082318Z
UID:80506-1686182400-1686268799@pretwerk.nl
SUMMARY:Gras Innovatie Dag
DESCRIPTION:Op 8 juni organiseert de groene uitgever NWST de ‘Gras Innovatie Dag’ op Sportpark Zuilen in Utrecht. Op deze dag worden fieldmanagers en greenkeepers  \, groenbeheerders\, aannemers en hoveniers (en ook beheerders van campings en recreatieparken) weer helemaal bijgepraat over de nieuwste machines\, de laatste ontwikkelingen en innovaties op grasgebied.
URL:https://pretwerk.nl/evenement/gras-innovatie-dag/
LOCATION:Utrecht\, Utrecht
CATEGORIES:Congres
ATTACH;FMTTYPE=image/jpeg:https://pretwerk.nl/wp-content/uploads/2023/05/gras-innovatie-dag.jpg
END:VEVENT
BEGIN:VEVENT
DTSTART;TZID=Europe/Amsterdam:20230606T103000
DTEND;TZID=Europe/Amsterdam:20230606T170000
DTSTAMP:20260421T195611
CREATED:20230529T150247Z
LAST-MODIFIED:20230529T150247Z
UID:80499-1686047400-1686070800@pretwerk.nl
SUMMARY:Landelijke Data Alliantie kennisdag
DESCRIPTION:Deze dag\, sterk gericht op toeristische regio’s\, staat in het teken van kennis delen en uitwisselen over toerisme van\, naar en in ons land. Er worden onder andere nieuwe resultaten gedeeld over het onderzoek inkomend (dag)toerisme en updates gegeven over de Nationale Datastrategie.
URL:https://pretwerk.nl/evenement/lnadelijke-data-alliantie-kennisdag/
LOCATION:Jaarbeurs Utrecht\, Utrecht
CATEGORIES:Congres
ATTACH;FMTTYPE=image/jpeg:https://pretwerk.nl/wp-content/uploads/2023/05/logo-lda1.jpg
END:VEVENT
BEGIN:VEVENT
DTSTART;TZID=Europe/Amsterdam:20230603T100000
DTEND;TZID=Europe/Amsterdam:20230604T170000
DTSTAMP:20260421T195611
CREATED:20230526T145237Z
LAST-MODIFIED:20230526T145237Z
UID:80475-1685786400-1685898000@pretwerk.nl
SUMMARY:Second Home Expo\, Antwerpen
DESCRIPTION:Beurs voor consumenten die een vakantiewoning willen kopen – als investering of voor eigen gebruik. Traditioneel is de Second Home Expo ook een netwerkbijeenkomst voor partijen uit het recreatief onroerend goed.
URL:https://pretwerk.nl/evenement/second-home-expo-antwerpen/
CATEGORIES:Publieksbeurs
ATTACH;FMTTYPE=image/png:https://pretwerk.nl/wp-content/uploads/second-home-expo.png
END:VEVENT
BEGIN:VEVENT
DTSTART;TZID=Europe/Amsterdam:20230602T090000
DTEND;TZID=Europe/Amsterdam:20230602T170000
DTSTAMP:20260421T195611
CREATED:20230418T085756Z
LAST-MODIFIED:20230418T085756Z
UID:79945-1685696400-1685725200@pretwerk.nl
SUMMARY:Consumer Behaviour in Tourism Symposium Industry Day
DESCRIPTION:Tijdens de CBTS 2023 Industry Day komen internationale thoughtleaders\, onderzoekers en de toerisme sector samen om ideeën en resultaten\, ontwikkelingen en innovaties die van invloed zijn op de toekomst van consumentengedrag in het toerisme\, te bespreken en uit te wisselen. Dit congres is onderdeel van een meerdaags evenement over consumentengedrag.
URL:https://pretwerk.nl/evenement/consumer-behaviour-in-tourism-symposium-industry-day/
LOCATION:Breda University\, Breda\, Nederland
CATEGORIES:Congres
ATTACH;FMTTYPE=image/jpeg:https://pretwerk.nl/wp-content/uploads/cbts2.jpg
END:VEVENT
BEGIN:VEVENT
DTSTART;TZID=Europe/Amsterdam:20230515T100000
DTEND;TZID=Europe/Amsterdam:20230515T170000
DTSTAMP:20260421T195611
CREATED:20230414T112653Z
LAST-MODIFIED:20230414T112653Z
UID:79913-1684144800-1684170000@pretwerk.nl
SUMMARY:Nationaal Congres Citymarketing
DESCRIPTION:Het Nationaal Congres Citymarketing is dé plek waar toonaangevende sprekers uit binnen- en buitenland het publiek inspireren en waar de ontwikkelingen van de toekomst worden geagendeerd. Thema van dit jaar: De stad en het water.
URL:https://pretwerk.nl/evenement/nationaal-congres-citymarketing-2/
LOCATION:Kampen\, Kampen\, Nederland
CATEGORIES:Congres
ATTACH;FMTTYPE=image/jpeg:https://pretwerk.nl/wp-content/uploads/nationaal-congres-citymarketing-2023.jpg
END:VEVENT
BEGIN:VEVENT
DTSTART;TZID=Europe/Amsterdam:20230503T000000
DTEND;TZID=Europe/Amsterdam:20230506T235959
DTSTAMP:20260421T195611
CREATED:20230329T154919Z
LAST-MODIFIED:20230329T154919Z
UID:79694-1683072000-1683417599@pretwerk.nl
SUMMARY:TEA SATE Europe (dagattracties)
DESCRIPTION:De Themed Entertainment Association (TEA) organiseert haar jaarlijkse grote Europese meeting onder de titel ‘Revolution’. Hier komen internationale specialisten samen op het gebied van ontwikkeling en management van attractieparken. Locatie is een inspirerend bedrijf: EuropaPark in Duitsland
URL:https://pretwerk.nl/evenement/tea-sate-europe-dagattracties/
LOCATION:Europa Park\, Rust\, Duitsland
CATEGORIES:Congres
ATTACH;FMTTYPE=image/jpeg:https://pretwerk.nl/wp-content/uploads/tea-sate-europe.jpg
END:VEVENT
BEGIN:VEVENT
DTSTART;TZID=Europe/Amsterdam:20230424T193000
DTEND;TZID=Europe/Amsterdam:20230424T220000
DTSTAMP:20260421T195611
CREATED:20230421T171050Z
LAST-MODIFIED:20230421T171050Z
UID:80062-1682364600-1682373600@pretwerk.nl
SUMMARY:Inspiratiesessie “Succesvol zijn in verbinden met je omgeving”
DESCRIPTION:Met de inspiratiesessie “Succesvol zijn in verbinden met je omgeving” ervaar je van succesvolle recreatiebedrijven en boeren hoe je kunt samenwerken met elkaar. Hoe ga jij als succesvol recreatie ondernemer jouw bedrijf verbinden met de omgeving en streekproducten producenten.
URL:https://pretwerk.nl/evenement/inspiratiesessie-succesvol-zijn-in-verbinden-met-je-omgeving/
LOCATION:Ommen\, Ommen\, Nederland
END:VEVENT
BEGIN:VEVENT
DTSTART;TZID=Europe/Amsterdam:20230420T120000
DTEND;TZID=Europe/Amsterdam:20230420T170000
DTSTAMP:20260421T195611
CREATED:20230327T143114Z
LAST-MODIFIED:20230327T143114Z
UID:79665-1681992000-1682010000@pretwerk.nl
SUMMARY:Trendcongres 2023: Tourism Futures
DESCRIPTION:Het jaarlijkse trendcongres dat wordt georganiseerd door NRIT Media in samenwerking met toeristisch recreatieve hogescholen in Nederland. Een van de keynote speakers is futuroloog Ian Yeoman.
URL:https://pretwerk.nl/evenement/trendcongres-2023-tourism-futures/
LOCATION:NHL Stenden\, Leeuwarden\, Nederland
CATEGORIES:Congres
ATTACH;FMTTYPE=image/jpeg:https://pretwerk.nl/wp-content/uploads/trendcongres.jpg
END:VEVENT
BEGIN:VEVENT
DTSTART;TZID=Europe/Amsterdam:20230415T150000
DTEND;TZID=Europe/Amsterdam:20230415T223000
DTSTAMP:20260421T195611
CREATED:20230323T121312Z
LAST-MODIFIED:20230323T121312Z
UID:79625-1681570800-1681597800@pretwerk.nl
SUMMARY:Scare Event
DESCRIPTION:De laatste jaren is de scare en Halloween industrie in Nederland groeiende. Om de groei van de industrie verder te stimuleren is het idee van het Scare Event ontstaan. Met het Scare Event wordt een platform geboden waar organisatoren van evenementen samen kunnen komen\, om door met lezingen en discussies de industrie naar een hoger niveau te tillen.
URL:https://pretwerk.nl/evenement/scare-event-2/
LOCATION:Avonturenpark Hellendoorn\, Hellendoorn\, Nederland
CATEGORIES:Congres
ATTACH;FMTTYPE=image/jpeg:https://pretwerk.nl/wp-content/uploads/scare-event.jpg
END:VEVENT
BEGIN:VEVENT
DTSTART;TZID=Europe/Amsterdam:20230403T100000
DTEND;TZID=Europe/Amsterdam:20230403T170000
DTSTAMP:20260421T195611
CREATED:20230322T164825Z
LAST-MODIFIED:20230322T164825Z
UID:79604-1680516000-1680541200@pretwerk.nl
SUMMARY:Nationaal Congres Evenementen
DESCRIPTION:Het thema van dit jaar is ‘de strijd om de evenementenkalender!’ Welke evenementen programmeer je als je rekening houdt met schaarse ruimte\, behoeften van bewoners en de wensen vanuit citymarketing perspectief? Maar ook\, hoe blijf je als evenement relevant en verdien je een plek op de kalender.
URL:https://pretwerk.nl/evenement/nationaal-congres-evenementen-3/
LOCATION:Alkmaar\, Alkmaar\, Nederland
CATEGORIES:Congres
ATTACH;FMTTYPE=image/png:https://pretwerk.nl/wp-content/uploads/nce.png
END:VEVENT
BEGIN:VEVENT
DTSTART;TZID=Europe/Amsterdam:20230401T000000
DTEND;TZID=Europe/Amsterdam:20230401T235959
DTSTAMP:20260421T195611
CREATED:20230314T090728Z
LAST-MODIFIED:20230314T090728Z
UID:79438-1680307200-1680393599@pretwerk.nl
SUMMARY:Open Camping Dag
DESCRIPTION:Op zaterdag 1 april 2023 stellen campings in Nederland hun deuren open voor enthousiaste kampeerders tijdens de I Love Kamperen Open Camping Dag 2023
URL:https://pretwerk.nl/evenement/open-camping-dag/
LOCATION:heel Nederland\, Nederland
CATEGORIES:Publieksbeurs
ATTACH;FMTTYPE=image/png:https://pretwerk.nl/wp-content/uploads/logo-ilovekamperen_461fe150.png
END:VEVENT
END:VCALENDAR