BEGIN:VCALENDAR
VERSION:2.0
PRODID:-//Pretwerk - ECPv6.6.3//NONSGML v1.0//EN
CALSCALE:GREGORIAN
METHOD:PUBLISH
X-WR-CALNAME:Pretwerk
X-ORIGINAL-URL:https://pretwerk.nl
X-WR-CALDESC:Evenementen voor Pretwerk
REFRESH-INTERVAL;VALUE=DURATION:PT1H
X-Robots-Tag:noindex
X-PUBLISHED-TTL:PT1H
BEGIN:VTIMEZONE
TZID:Europe/Amsterdam
BEGIN:DAYLIGHT
TZOFFSETFROM:+0100
TZOFFSETTO:+0200
TZNAME:CEST
DTSTART:20260329T010000
END:DAYLIGHT
BEGIN:STANDARD
TZOFFSETFROM:+0200
TZOFFSETTO:+0100
TZNAME:CET
DTSTART:20261025T010000
END:STANDARD
END:VTIMEZONE
BEGIN:VEVENT
DTSTART;TZID=Europe/Amsterdam:20261117T100000
DTEND;TZID=Europe/Amsterdam:20261119T170000
DTSTAMP:20260420T152601
CREATED:20260413T123712Z
LAST-MODIFIED:20260413T123713Z
UID:99647-1794909600-1795107600@pretwerk.nl
SUMMARY:Recreatie Vakbeurs Hardenberg
DESCRIPTION:Recreatie Vakbeurs is hét jaarlijkse ontmoetingsmoment voor de recreatiebranche in de Benelux. Raak in één dag op de hoogte van de nieuwste ontwikkelingen\, ontdek innovaties van 360+ deelnemers en versterk je netwerk met bestaande én nieuwe leveranciers!
URL:https://pretwerk.nl/evenement/recreatie-vakbeurs-hardenberg-4/
LOCATION:evenementenhal Hardenberg\, Hardenberg\, Nederland
ATTACH;FMTTYPE=image/jpeg:https://pretwerk.nl/wp-content/uploads/2024/06/recreatie-vakbeurs-hardenberg.jpg
END:VEVENT
END:VCALENDAR