BEGIN:VCALENDAR
VERSION:2.0
PRODID:-//Pretwerk - ECPv6.6.3//NONSGML v1.0//EN
CALSCALE:GREGORIAN
METHOD:PUBLISH
X-ORIGINAL-URL:https://pretwerk.nl
X-WR-CALDESC:Evenementen voor Pretwerk
REFRESH-INTERVAL;VALUE=DURATION:PT1H
X-Robots-Tag:noindex
X-PUBLISHED-TTL:PT1H
BEGIN:VTIMEZONE
TZID:Europe/Amsterdam
BEGIN:DAYLIGHT
TZOFFSETFROM:+0100
TZOFFSETTO:+0200
TZNAME:CEST
DTSTART:20240331T010000
END:DAYLIGHT
BEGIN:STANDARD
TZOFFSETFROM:+0200
TZOFFSETTO:+0100
TZNAME:CET
DTSTART:20241027T010000
END:STANDARD
END:VTIMEZONE
BEGIN:VEVENT
DTSTART;TZID=Europe/Amsterdam:20240925T090000
DTEND;TZID=Europe/Amsterdam:20240926T160000
DTSTAMP:20260421T083303
CREATED:20240516T085019Z
LAST-MODIFIED:20240516T085021Z
UID:87676-1727254800-1727366400@pretwerk.nl
SUMMARY:Vakbeurs Openbare Ruimte
DESCRIPTION:Alles over inrichting en beheer van duurzame en circulaire openbare en semi-openbare ruimte.
URL:https://pretwerk.nl/evenement/vakbeurs-openbare-ruimte-5/
LOCATION:Jaarbeurs Utrecht
CATEGORIES:Vakbeurs
ATTACH;FMTTYPE=image/jpeg:https://pretwerk.nl/wp-content/uploads/2024/05/VORNL2019-logo-NL.jpg
END:VEVENT
BEGIN:VEVENT
DTSTART;TZID=Europe/Amsterdam:20240924T000000
DTEND;TZID=Europe/Amsterdam:20240926T235959
DTSTAMP:20260421T083303
CREATED:20240131T144348Z
LAST-MODIFIED:20240305T102242Z
UID:85724-1727136000-1727395199@pretwerk.nl
SUMMARY:IAAPA Expo Europe
DESCRIPTION:De grootste attractievakbeurs van Europa\, georganiseerd door IAAPA. De vakbeurs wordt elk jaar in een ander land gehouden. Dit jaar is Nederland aan de beurt. Het is een uitgelezen kans om kennis en inspiratie op te doen op het gebied van attracties en recreatieve beleving. Het kennisprogramma start al een dagje eerder.
URL:https://pretwerk.nl/evenement/iaapa-expo-europe-4/
LOCATION:RAI Amsterdam\, Amsterdam\, Nederland
CATEGORIES:Congres,Vakbeurs
ATTACH;FMTTYPE=image/jpeg:https://pretwerk.nl/wp-content/uploads/2023/08/iaapa-expo.jpg
END:VEVENT
BEGIN:VEVENT
DTSTART;TZID=Europe/Amsterdam:20240923T110000
DTEND;TZID=Europe/Amsterdam:20240925T180000
DTSTAMP:20260421T083303
CREATED:20240717T153411Z
LAST-MODIFIED:20240718T125615Z
UID:88611-1727089200-1727287200@pretwerk.nl
SUMMARY:Gastvrij Rotterdam
DESCRIPTION:Gastvrij Rotterdam biedt een overzichtelijk beeld van de laatste trends en ontwikkelingen in de sector horeca\, en heeft daarnaast een compleet aanbod van food en non-food producten en diensten. “Ook managers en inkopers uit de recreatiesector kunnen op de horecavakbeurs inspiratie opdoen.”
URL:https://pretwerk.nl/evenement/gastvrij-rotterdam-3/
LOCATION:ahoy Rotterdam\, Rotterdam
CATEGORIES:Vakbeurs
ATTACH;FMTTYPE=image/jpeg:https://pretwerk.nl/wp-content/uploads/2024/07/gastvrij-rotterdam.jpg
END:VEVENT
BEGIN:VEVENT
DTSTART;TZID=Europe/Amsterdam:20240923T000000
DTEND;TZID=Europe/Amsterdam:20240923T235959
DTSTAMP:20260421T083303
CREATED:20240625T131554Z
LAST-MODIFIED:20240625T131640Z
UID:88256-1727049600-1727135999@pretwerk.nl
SUMMARY:Nationale Toerisme Top
DESCRIPTION:Op de Toerisme Top 2024 gaan we in veel verschillende sessies én op verschillende locaties met elkaar in gesprek over wat digitalisering voor het gastvrijheidsdomein betekent. We schetsen een beeld van onze digitale toekomst en bekijken hoe de digitale transformatie een gunstige uitwerking kan hebben op bezoekers\, beleidsmakers én ondernemers.
URL:https://pretwerk.nl/evenement/nationale-toerisme-top-3/
LOCATION:Venlo\, Venlo\, Nederland
CATEGORIES:Congres
ATTACH;FMTTYPE=image/jpeg:https://pretwerk.nl/wp-content/uploads/2024/06/toerisme-top.jpg
END:VEVENT
BEGIN:VEVENT
DTSTART;TZID=Europe/Amsterdam:20240920T100000
DTEND;TZID=Europe/Amsterdam:20240922T170000
DTSTAMP:20260421T083303
CREATED:20240722T091317Z
LAST-MODIFIED:20240722T091319Z
UID:88683-1726826400-1727024400@pretwerk.nl
SUMMARY:Camperbeurs Hardenberg
DESCRIPTION:Afgelopen editie kwamen meer dan 13.000 camperliefhebbers bijeen om hun eerste camper aan te schaffen of inspiratie op te doen voor hun volgende camperreis. Kansen voor campings\, regio’s en verkopers van campers om in contact te komen met een aantrekkelijke doelgroep.
URL:https://pretwerk.nl/evenement/camperbeurs-hardenberg-2/
LOCATION:evenementenhal Hardenberg\, Hardenberg\, Nederland
CATEGORIES:Publieksbeurs
ATTACH;FMTTYPE=image/jpeg:https://pretwerk.nl/wp-content/uploads/2024/07/camperbeurs.jpg
END:VEVENT
BEGIN:VEVENT
DTSTART;TZID=Europe/Amsterdam:20240919T000000
DTEND;TZID=Europe/Amsterdam:20240921T235959
DTSTAMP:20260421T083303
CREATED:20240704T123922Z
LAST-MODIFIED:20240704T123924Z
UID:88473-1726704000-1726963199@pretwerk.nl
SUMMARY:The Glamping Show
DESCRIPTION:Een mooie en gezellige outdoor beurs op het gebied van glamping en outdoor recreatie.
URL:https://pretwerk.nl/evenement/the-glamping-show-4/
LOCATION:Stoneleigh\, Stoneleigh\, Verenigd Koninkrijk
CATEGORIES:Vakbeurs
ATTACH;FMTTYPE=image/png:https://pretwerk.nl/wp-content/uploads/2023/08/the-glamping-show.png
END:VEVENT
BEGIN:VEVENT
DTSTART;TZID=Europe/Amsterdam:20240911T100000
DTEND;TZID=Europe/Amsterdam:20240914T170000
DTSTAMP:20260421T083303
CREATED:20240722T095151Z
LAST-MODIFIED:20240819T085153Z
UID:88686-1726048800-1726333200@pretwerk.nl
SUMMARY:GroenTechniek Holland
DESCRIPTION:De beurzen AgroTechniek en GroenTechniek worden elke twee jaar naast elkaar georganiseerd. Met tweejaarlijks zo’n 18.000 gerichte vakbezoekers (voor GroenTechniek) die werkzaam zijn in de groene\, openbare ruimte kunnen we spreken van een hele grote groene vakbeurs in Nederland.
URL:https://pretwerk.nl/evenement/groentechniek-holland/
LOCATION:Walibi Holland\, Biddinghuizen\, Nederland
CATEGORIES:Vakbeurs
ATTACH;FMTTYPE=image/jpeg:https://pretwerk.nl/wp-content/uploads/2024/07/groentechniek-holland.jpg
END:VEVENT
BEGIN:VEVENT
DTSTART;TZID=Europe/Amsterdam:20240910T143000
DTEND;TZID=Europe/Amsterdam:20240910T170000
DTSTAMP:20260421T083303
CREATED:20240806T124820Z
LAST-MODIFIED:20240806T134720Z
UID:88892-1725978600-1725987600@pretwerk.nl
SUMMARY:Horwath HTL hotel event
DESCRIPTION:De jaarlijkse update over de hotelsector. Thema van dit jaar: Winstmarges. Maar ook de toepassingen van a.i. voor de hotelsector komen aan bod. Sprekers zijn o.a. Stef Driessen (ABN AMRO) Ewout Hoogendoorn (Horwath HTL) en
URL:https://pretwerk.nl/evenement/horwath-htl-hotel-event-2/
LOCATION:Hotel Casa\, Amsterdam\, Nederland
CATEGORIES:Congres
ATTACH;FMTTYPE=image/jpeg:https://pretwerk.nl/wp-content/uploads/2024/08/horwath-htl.jpg
END:VEVENT
BEGIN:VEVENT
DTSTART;TZID=Europe/Amsterdam:20240910T100000
DTEND;TZID=Europe/Amsterdam:20240914T170000
DTSTAMP:20260421T083303
CREATED:20240717T145329Z
LAST-MODIFIED:20240717T145331Z
UID:88603-1725962400-1726333200@pretwerk.nl
SUMMARY:Be!eef\, de vernieuwde 50PlusBeurs
DESCRIPTION:De grootste 50PlusBeurs van Europa viert dit jaar haar 30-jarig jubileum en verandert daarom haar naam in Be!eef. Be!eef biedt een unieke ervaring vol entertainment\, gezelligheid en inspiratie. Ook vrijetijd komt ruimschoots aan bod\, o.a. in de ‘Reisarena’
URL:https://pretwerk.nl/evenement/beeef-de-vernieuwde-50plusbeurs/
LOCATION:Jaarbeurs Utrecht
CATEGORIES:Publieksbeurs
ATTACH;FMTTYPE=image/jpeg:https://pretwerk.nl/wp-content/uploads/2024/07/beleef.jpg
END:VEVENT
BEGIN:VEVENT
DTSTART;TZID=Europe/Amsterdam:20240910T000000
DTEND;TZID=Europe/Amsterdam:20240911T235959
DTSTAMP:20260421T083303
CREATED:20240722T085831Z
LAST-MODIFIED:20240722T085913Z
UID:88676-1725926400-1726099199@pretwerk.nl
SUMMARY:VIEWW - Luxury Glamping Event
DESCRIPTION:Tijdens het VIEWW Glamping Event in Hatten willen Crossover Lodge\, De Waard Tenten en CampSolutions je inspireren met de nieuwste glamping trends\, ontwikkelingen en tenten die aansluiten op jouw specifieke behoeften.
URL:https://pretwerk.nl/evenement/vieww-luxury-glamping-event/
LOCATION:De Waard hoofdkantoor\, Hattem\, Nederland
CATEGORIES:Vakbeurs
ATTACH;FMTTYPE=image/jpeg:https://pretwerk.nl/wp-content/uploads/2024/07/vieww.jpg
END:VEVENT
BEGIN:VEVENT
DTSTART;TZID=Europe/Amsterdam:20240830T000000
DTEND;TZID=Europe/Amsterdam:20240908T235959
DTSTAMP:20260421T083303
CREATED:20240625T125717Z
LAST-MODIFIED:20240625T134112Z
UID:88247-1724976000-1725839999@pretwerk.nl
SUMMARY:Caravan Salon Düsseldorf
DESCRIPTION:CARAVAN SALON is tien dagen lang hét belangrijkste internationale platform voor mobiel reizen en het hoogtepunt van het jaar voor alle caravaning-fans. Naast het brede scala aan producten en een groot aantal diensten rond caravaning\, biedt de toonaangevende beurs ook een gevarieerd programma\, dat perfect op de interesses en behoeftes rond de mobiele vrije tijd is afgestemd.
URL:https://pretwerk.nl/evenement/caravan-salon-dusseldorf-4/
LOCATION:Messe Düsseldorf\, Düsseldorf\, Duitsland
CATEGORIES:Publieksbeurs
ATTACH;FMTTYPE=image/png:https://pretwerk.nl/wp-content/uploads/caravan-salon-dusseldorf-1.png
END:VEVENT
BEGIN:VEVENT
DTSTART;TZID=Europe/Amsterdam:20240828T100000
DTEND;TZID=Europe/Amsterdam:20240901T180000
DTSTAMP:20260421T083303
CREATED:20240625T130339Z
LAST-MODIFIED:20240625T130341Z
UID:88250-1724839200-1725213600@pretwerk.nl
SUMMARY:HISWA te Water
DESCRIPTION:Deze watersportbeurs in de open lucht is niet alleen een plek om te kijken en te kopen\, je kunt er ook culinair genieten en informatie vinden over alle aspecten van de watersport. Zoals over jachthavens\, verzekeringen\, onderdelen\, accessoires\, onderhoudsproducten en mooie nieuwe vaargebieden.
URL:https://pretwerk.nl/evenement/hiswa-te-water-3/
LOCATION:Bataviahaven Lelystad\, Lelystad
CATEGORIES:Publieksbeurs
ATTACH;FMTTYPE=image/png:https://pretwerk.nl/wp-content/uploads/2024/06/hiswa-logo-2024.png
END:VEVENT
BEGIN:VEVENT
DTSTART;TZID=Europe/Amsterdam:20240628T090000
DTEND;TZID=Europe/Amsterdam:20240628T160000
DTSTAMP:20260421T083303
CREATED:20240607T122640Z
LAST-MODIFIED:20240607T122642Z
UID:87977-1719565200-1719590400@pretwerk.nl
SUMMARY:De Fitnessorganisatie van de toekomst
DESCRIPTION:Tijdens het NL Actief symposium nemen we je mee op een reis naar ‘de fitnessorganisatie van de toekomst’. Samen met vooraanstaande sprekers\, waaronder futurist Richard van Hooijdonk\, dagvoorzitter Gerrit Heijkoop\, Bouchra Talidi en Erik Wegewijs\, staan we stil bij belangrijke thema’s zoals diversiteit\, inclusie en gelijkwaardigheid. We delen waardevolle inzichten over leiderschap en teamdynamiek\, essentieel in een wereld van constante verandering. Mis deze kans niet om te leren van experts en jezelf te inspireren voor de toekomst van fitness
URL:https://pretwerk.nl/evenement/de-fitnessorganisatie-van-de-toekomst/
LOCATION:Papendal\, Arnhem\, Nederland
CATEGORIES:Congres
ATTACH;FMTTYPE=image/jpeg:https://pretwerk.nl/wp-content/uploads/2024/06/fitness-Symposium-28062024-5.jpg
END:VEVENT
BEGIN:VEVENT
DTSTART;TZID=Europe/Amsterdam:20240611T140000
DTEND;TZID=Europe/Amsterdam:20240611T143000
DTSTAMP:20260421T083303
CREATED:20240528T130356Z
LAST-MODIFIED:20240528T130358Z
UID:87835-1718114400-1718116200@pretwerk.nl
SUMMARY:Investeren in hotelvastgoed (Provada)
DESCRIPTION:Wat zijn de meest aantrekkelijke hotelsteden om in te beleggen? Loopt de vraag naar hotelovernachtingen nog in de pas bij de ontwikkeling van het aantal kamers? En welke impact heeft het coalitieakkoord op uw rendement? Ewout Hoogendoorn van Horwath HTL en Stef Driessen van ABN AMRO geven antwoord.
URL:https://pretwerk.nl/evenement/investeren-in-hotelvastgoed-provada/
LOCATION:RAI Amsterdam\, Amsterdam\, Nederland
CATEGORIES:Congres
ATTACH;FMTTYPE=image/jpeg:https://pretwerk.nl/wp-content/uploads/Provada-2021.jpg
END:VEVENT
BEGIN:VEVENT
DTSTART;TZID=Europe/Amsterdam:20240611T000000
DTEND;TZID=Europe/Amsterdam:20240611T235959
DTSTAMP:20260421T083303
CREATED:20240223T140752Z
LAST-MODIFIED:20240516T041606Z
UID:86023-1718064000-1718150399@pretwerk.nl
SUMMARY:Open Huis fec Posta7
DESCRIPTION:Grootschaligheid gaat gepaard met gastvrijheid en laagdrempeligheid bij FEC Posta7. Bijzonder zijn ondermeer de Jail Challenge en dé Formule 1-ervaring. Beide topactiviteiten zijn zelf ontwikkeld\, door de eigen mensen van initiatiefnemer Oetze Mulder. Ook heeft Mulder een volautomatisch curlingscoresysteem en -terugschuifsysteem in eigen beheer uitgerold. Tijdens de volgende vakdag van Pleisureworld vertelt Oetze meer over de ongekende ontwikkelingen.
URL:https://pretwerk.nl/evenement/open-huis-fec-posta7/
LOCATION:Posta7\, Tolbert\, Nederland
CATEGORIES:Congres
ATTACH;FMTTYPE=image/jpeg:https://pretwerk.nl/wp-content/uploads/2024/02/posta7-logo.jpg
END:VEVENT
BEGIN:VEVENT
DTSTART;TZID=Europe/Amsterdam:20240606T123000
DTEND;TZID=Europe/Amsterdam:20240606T173000
DTSTAMP:20260421T083303
CREATED:20240508T082716Z
LAST-MODIFIED:20240516T041823Z
UID:87522-1717677000-1717695000@pretwerk.nl
SUMMARY:Leerkring Ondermijning op vakantieparken
DESCRIPTION:Uitbuiting kan in allerlei sectoren spelen. Ook in de recreatiesector. Het gaat dan om gedwongen werken onder zulke slechte arbeidsvoorwaarden en –omstandigheden\, dat mensenrechten in het geding zijn.Vakantieparken zijn geschikt om slachtoffers van uitbuiting te huisvesten vanwege de privacy\, weinig controle en mogelijkheid om met de auto bij het huisje of de caravan te komen.
URL:https://pretwerk.nl/evenement/leerkring-ondermijning-op-vakantieparken/
LOCATION:Amersfoort
CATEGORIES:Cursus
ATTACH;FMTTYPE=image/jpeg:https://pretwerk.nl/wp-content/uploads/2024/05/ccv.jpg
END:VEVENT
BEGIN:VEVENT
DTSTART;TZID=Europe/Amsterdam:20240606T093000
DTEND;TZID=Europe/Amsterdam:20240606T173000
DTSTAMP:20260421T083303
CREATED:20240409T140039Z
LAST-MODIFIED:20240516T041803Z
UID:87028-1717666200-1717695000@pretwerk.nl
SUMMARY:Nationaal Congres Citymarketing
DESCRIPTION:Het vinden en binden van talent is een cruciale taak voor elke stad en regio. Talent is niet alleen op zoek naar kansen\, maar wil ook impact maken. De aanwezigheid of het gebrek aan talent heeft aanzienlijke gevolgen voor de ontwikkeling van je stad en regio. Op het Nationaal Congres Citymarketing wordt dieper ingegaan op deze kwesties. Diverse sprekers uit de stad\, regio\, onderwijs en bedrijfsleven delen hun inzichten over welk talent er nodig is voor de toekomst en wat voor hen belangrijk is.
URL:https://pretwerk.nl/evenement/nationaal-congres-citymarketing-3/
LOCATION:Universiteit Tilburg\, Tilburg\, Nederland
CATEGORIES:Congres
ATTACH;FMTTYPE=image/jpeg:https://pretwerk.nl/wp-content/uploads/2024/04/citymarketing2-1.jpg
END:VEVENT
BEGIN:VEVENT
DTSTART;TZID=Europe/Amsterdam:20240606T000000
DTEND;TZID=Europe/Amsterdam:20240606T235959
DTSTAMP:20260421T083303
CREATED:20240304T153703Z
LAST-MODIFIED:20240516T041943Z
UID:86319-1717632000-1717718399@pretwerk.nl
SUMMARY:Nationaal Fietscongres
DESCRIPTION:Het Nationaal Fietscongres is er om te leren\, te ontmoeten\, oplossingen en vraagstukken te bespreken maar vooral elkaar te inspireren. Het thema is ‘Fiets en voel je vrij’. Bij de aanwezige doelgroepen (in 2023) lag de nadruk sterk op overheden en adviesbureaus.
URL:https://pretwerk.nl/evenement/nationaal-fietscongres-2/
LOCATION:New Babylon\, Den Haag\, Nederland
CATEGORIES:Congres
ATTACH;FMTTYPE=image/jpeg:https://pretwerk.nl/wp-content/uploads/2024/03/nationaal-fietscongres.jpg
END:VEVENT
BEGIN:VEVENT
DTSTART;TZID=Europe/Amsterdam:20240527T090000
DTEND;TZID=Europe/Amsterdam:20240528T120000
DTSTAMP:20260421T083303
CREATED:20240513T132140Z
LAST-MODIFIED:20240516T042024Z
UID:87591-1716800400-1716897600@pretwerk.nl
SUMMARY:Sustainable Tourism Mobility Forum
DESCRIPTION:Op dit forum worden de belangrijkste aanjagers en knelpunten voor (inter)nationale duurzame toeristische mobiliteit besproken. U raakt geïnspireerd door de verhalen van koplopers op dit gebied en Breda University of Applied Sciences (BUAS)\, Maakt een begin met het opstellen van een stappenplan voor duurzame toeristische mobiliteit (in Nederland).
URL:https://pretwerk.nl/evenement/sustainable-tourism-mobility-forum/
LOCATION:Green Campus Buas\, Breda\, Nederland
CATEGORIES:Congres
ATTACH;FMTTYPE=image/jpeg:https://pretwerk.nl/wp-content/uploads/2024/05/logo-buas.jpg
END:VEVENT
BEGIN:VEVENT
DTSTART;TZID=Europe/Amsterdam:20240523T153000
DTEND;TZID=Europe/Amsterdam:20240523T180000
DTSTAMP:20260421T083303
CREATED:20240506T102502Z
LAST-MODIFIED:20240516T042109Z
UID:87491-1716478200-1716487200@pretwerk.nl
SUMMARY:Kenniscafé XXL vrijetijdseconomie Groningen
DESCRIPTION:Thema van deze meeting is: Werken met Generatie Z. De nieuwe generatie werknemers staat klaar om de arbeidsmarkt op te gaan. In de vrijetijdssector staan ze te springen om enthousiaste medewerkers. Hoe word je als werkgever in de vrijetijdssector aantrekkelijk voor Gen Z? Welke behoeftes hebben zij? Waar maak je hen enthousiast mee? En hoe bereik je deze generatie in de leeftijd van 16 tot 25 jaar?
URL:https://pretwerk.nl/evenement/kenniscafe-xxl-vrijetijdseconomie-groningen/
LOCATION:Euroborg\, Groningen\, Nederland
CATEGORIES:Congres
ATTACH;FMTTYPE=image/jpeg:https://pretwerk.nl/wp-content/uploads/2024/05/kenniscafe-groningen.jpg
END:VEVENT
BEGIN:VEVENT
DTSTART;TZID=Europe/Amsterdam:20240521T193000
DTEND;TZID=Europe/Amsterdam:20240521T213000
DTSTAMP:20260421T083303
CREATED:20240505T095634Z
LAST-MODIFIED:20240516T042130Z
UID:87454-1716319800-1716327000@pretwerk.nl
SUMMARY:AI in Actie
DESCRIPTION:Op dinsdag 21 mei organiseert All Video Solutions\, in samenwerking met Pretwerk.nl en Green Offices een kennisavond over AI in de recreatiesector. Tijdens deze avond maak je praktisch kennis met diverse toepassingen die nu al mogelijk zijn. Ondernemers gaan hier in gesprek met ontwikkelaars.
URL:https://pretwerk.nl/evenement/ai-in-actie/
LOCATION:Harderwijk\, Harderwijk\, Nederland
CATEGORIES:Congres
ATTACH;FMTTYPE=image/jpeg:https://pretwerk.nl/wp-content/uploads/2024/05/ai-in-actie.jpg
END:VEVENT
BEGIN:VEVENT
DTSTART;TZID=Europe/Amsterdam:20240518T103000
DTEND;TZID=Europe/Amsterdam:20240518T233000
DTSTAMP:20260421T083303
CREATED:20240506T092250Z
LAST-MODIFIED:20240516T042148Z
UID:87480-1716028200-1716075000@pretwerk.nl
SUMMARY:Scare Event
DESCRIPTION:Dit jaar vindt al weer de 4e editie van de Scare Awards en het Scare Event plaats in Avonturenpark Hellendoorn. Dit jaar belooft het een buitengewone ervaring te worden\, een ode aan de Scare en Halloween industrie\, vol spanning\, sensatie en verrassingen voor alle liefhebbers van het macabere en het mysterieuze.
URL:https://pretwerk.nl/evenement/scare-event-3/
LOCATION:Avonturenpark Hellendoorn\, Hellendoorn\, Nederland
CATEGORIES:Congres
ATTACH;FMTTYPE=image/jpeg:https://pretwerk.nl/wp-content/uploads/2024/05/scare-award2.jpg
END:VEVENT
BEGIN:VEVENT
DTSTART;TZID=Europe/Amsterdam:20240514T133000
DTEND;TZID=Europe/Amsterdam:20240514T170000
DTSTAMP:20260421T083303
CREATED:20240306T152514Z
LAST-MODIFIED:20240516T042204Z
UID:86381-1715693400-1715706000@pretwerk.nl
SUMMARY:Bekendmaking ‘Top 10 Meest Innovatieve Vakantieparken van de Benelux’
DESCRIPTION:Op dinsdag 14 mei 2024 wordt bekend gemaakt welke tien vakantieparken zijn geselecteerd voor de eindronde van ‘Meest Innovatieve Vakantieparken van de Benelux’. Afgelopen periode heeft een deskundige vakjury de longlist van 39 parken bezocht. Uit de top 10 wordt eind 2024 de overall winnaar gekozen en certificaten uitgereikt voor bijzondere prestaties op specifieke onderdelen.
URL:https://pretwerk.nl/evenement/bekendmaking-top-10-meest-innovatieve-vakantieparken-van-de-benelux/
LOCATION:Showroom Yala\, Emmeloord\, Nederland
CATEGORIES:Congres
ATTACH;FMTTYPE=image/jpeg:https://pretwerk.nl/wp-content/uploads/YALA-I-luxury-canvas-lodges_onthulling_nieuwe_logo.jpg
END:VEVENT
BEGIN:VEVENT
DTSTART;TZID=Europe/Amsterdam:20240514T000000
DTEND;TZID=Europe/Amsterdam:20240517T235959
DTSTAMP:20260421T083303
CREATED:20240506T094026Z
LAST-MODIFIED:20240506T094118Z
UID:87483-1715644800-1715990399@pretwerk.nl
SUMMARY:TEA SATE Europa 2024
DESCRIPTION:SATE Europe\, georganiseerd door de Themed Entertainment Association (TEA) staat voor Storytelling\, Architecture\, en Technology (S+A+T=E). Ontwikkelaars en exploitanten van diverse attractievormen komen hier bij elkaar om te leren van elkaars expertise.
URL:https://pretwerk.nl/evenement/tea-sate-europa-2024/
LOCATION:Gardaland\, Verona\, Italië
CATEGORIES:Congres,Internationaal
ATTACH;FMTTYPE=image/jpeg:https://pretwerk.nl/wp-content/uploads/2024/05/tea-sate-2024.jpg
END:VEVENT
BEGIN:VEVENT
DTSTART;TZID=Europe/Amsterdam:20240418T000000
DTEND;TZID=Europe/Amsterdam:20240418T235959
DTSTAMP:20260421T083303
CREATED:20240306T153139Z
LAST-MODIFIED:20240306T153141Z
UID:86385-1713398400-1713484799@pretwerk.nl
SUMMARY:Trendcongres Toerisme en Vrijetijd 2024
DESCRIPTION:Trendcongres\, georganiseerd door NRIT met onder andere key note spreker Peter de Wilde (CEO Toerisme Vlaanderen) en meer dan 10 workshops.
URL:https://pretwerk.nl/evenement/trendcongres-toerisme-en-vrijetijd-2024/
LOCATION:Vlissingen\, Vlissingen\, Nederland
CATEGORIES:Congres
ATTACH;FMTTYPE=image/jpeg:https://pretwerk.nl/wp-content/uploads/2024/03/trendcongres-2024.jpg
END:VEVENT
BEGIN:VEVENT
DTSTART;TZID=Europe/Amsterdam:20240416T120000
DTEND;TZID=Europe/Amsterdam:20240416T180000
DTSTAMP:20260421T083303
CREATED:20240305T150726Z
LAST-MODIFIED:20240305T150727Z
UID:86358-1713268800-1713290400@pretwerk.nl
SUMMARY:Kennissessie netwerk natuur(recreatie)gebieden en bezoekersmanagement
DESCRIPTION:Sprekers delen hun kennis op het gebied van bezoekersmanagement aan de hand van verschillende praktijkverhalen die direct inspiratie bieden: hoe is het netwerk in de Biesbosch georganiseerd en hoe monitoren ze bezoek? Ook het meten van bezoekersstromen met Resono binnen de provincie Overijssel komt aan bod. Daarnaast bespreken we de ecologische impact van internationale bezoeken.
URL:https://pretwerk.nl/evenement/kennissessie-netwerk-natuurrecreatiegebieden-en-bezoekersmanagement/
LOCATION:Biesbosch museumeiland\, Werkendam\, Nederland
CATEGORIES:Congres
ATTACH;FMTTYPE=image/jpeg:https://pretwerk.nl/wp-content/uploads/nbtc-logo-1.jpg
END:VEVENT
BEGIN:VEVENT
DTSTART;TZID=Europe/Amsterdam:20240416T100000
DTEND;TZID=Europe/Amsterdam:20240416T110000
DTSTAMP:20260421T083303
CREATED:20240408T080324Z
LAST-MODIFIED:20240408T080325Z
UID:86933-1713261600-1713265200@pretwerk.nl
SUMMARY:Online masterclass Chatbot bouwen in Copilot Studio
DESCRIPTION:Chris van Vleuten heeft inmiddels enkele DMO’s geholpen om een chatbot op te zetten met behulp van a.i. (Microsoft Copilot Studio.) Op 16 april om 10.00 uur wordt een online masterclass gegeven van een uur waarin je op weg wordt geholpen om je eigen chatbot te bouwen. Tijdens deze sessie geeft Chris praktische uitleg. Er is ook mogelijkheid om vragen te stellen. Deelname aan de masterclass kost € 35\,- (ex btw).
URL:https://pretwerk.nl/evenement/online-masterclass-chatbot-bouwen-in-copilot-studio/
LOCATION:online
CATEGORIES:webinar
ATTACH;FMTTYPE=image/jpeg:https://pretwerk.nl/wp-content/uploads/2024/01/chris-van-vleuten-ai.jpg
END:VEVENT
BEGIN:VEVENT
DTSTART;TZID=Europe/Amsterdam:20240411T103000
DTEND;TZID=Europe/Amsterdam:20240411T160000
DTSTAMP:20260421T083303
CREATED:20240312T144042Z
LAST-MODIFIED:20240318T145839Z
UID:86450-1712831400-1712851200@pretwerk.nl
SUMMARY:Gezond Uit kennisbijeenkomst (besloten event)
DESCRIPTION:Hoe zorgt WILDLANDS voor een gezonder én duurzamer voedingsaanbod in het park? Dat wordt duidelijk tijdens de Gezond Uit bijeenkomst op donderdag 11 april 2024. Tijdens de bijeenkomst wordt stilgestaan bij het inspireren\, informeren en netwerken. De bijeenkomst is bedoeld voor de 27 ondertekenaars van het convenant ‘Gezond Uit’. Heb je interesse om ook aan te haken\, neem dan contact op met Debby Stam van JOGG. debby.stam@jogg.nl
URL:https://pretwerk.nl/evenement/gezond-uit-kennisbijeenkomst-besloten-event/
LOCATION:Wildlands\, Emmen\, Nederland
CATEGORIES:Congres
ATTACH;FMTTYPE=image/jpeg:https://pretwerk.nl/wp-content/uploads/2024/03/jogg-gezond-uit.jpg
END:VEVENT
BEGIN:VEVENT
DTSTART;TZID=Europe/Amsterdam:20240411T093000
DTEND;TZID=Europe/Amsterdam:20240413T163000
DTSTAMP:20260421T083303
CREATED:20240315T095858Z
LAST-MODIFIED:20240315T095859Z
UID:86506-1712827800-1713025800@pretwerk.nl
SUMMARY:Veine Dagen (v.h. Supportbeurs)
DESCRIPTION:VeineDAGEN gaat samenwerken met de Jaarbeurs in Utrecht. Het doel is om gezamenlijk het grootste jaarlijkse event neer te zetten voor mensen met een beperking\, voor jong en oud. Supportbeurs verdwijnt\, het event gaat verder onder de naam VeineDAGEN en vindt plaats tijdens de Dutch Health Week in Koninklijke Jaarbeurs van donderdag 11 tot en met zaterdag 13 april.
URL:https://pretwerk.nl/evenement/veine-dagen-v-h-supportbeurs/
LOCATION:Jaarbeurs Utrecht
CATEGORIES:Vakbeurs
ATTACH;FMTTYPE=image/jpeg:https://pretwerk.nl/wp-content/uploads/2024/03/veine-dagen.jpg
END:VEVENT
BEGIN:VEVENT
DTSTART;TZID=Europe/Amsterdam:20240408T103000
DTEND;TZID=Europe/Amsterdam:20240408T173000
DTSTAMP:20260421T083303
CREATED:20240227T130826Z
LAST-MODIFIED:20240227T130827Z
UID:86124-1712572200-1712597400@pretwerk.nl
SUMMARY:Nationaal Congres Evenementen
DESCRIPTION:Uitdagingen in het evenementenlandschap zijn er volop; Hogere kosten\, terugtrekkende hulpdiensten\, personeelstekorten\, gebrek aan vrijwilligers\, strengere vergunnings- en veiligheidseisen en een hele trits aan maatschappelijk belangrijke thema’s zoals inclusie\, diversiteit\, milieu\, diervriendelijkheid\, lichtvervuiling etc. etc. Tijdens het congres worden ook de Evenementenprijzen 2024 uitgereikt.
URL:https://pretwerk.nl/evenement/nationaal-congres-evenementen-4/
LOCATION:Shimano Experience Center\, Valkenburg aan de Geul\, Nederland
CATEGORIES:Congres
ATTACH;FMTTYPE=image/jpeg:https://pretwerk.nl/wp-content/uploads/2024/02/nationaal-congres-evenementen.jpg
END:VEVENT
END:VCALENDAR