BEGIN:VCALENDAR
VERSION:2.0
PRODID:-//Pretwerk - ECPv6.6.3//NONSGML v1.0//EN
CALSCALE:GREGORIAN
METHOD:PUBLISH
X-WR-CALNAME:Pretwerk
X-ORIGINAL-URL:https://pretwerk.nl
X-WR-CALDESC:Evenementen voor Pretwerk
REFRESH-INTERVAL;VALUE=DURATION:PT1H
X-Robots-Tag:noindex
X-PUBLISHED-TTL:PT1H
BEGIN:VTIMEZONE
TZID:Europe/Amsterdam
BEGIN:DAYLIGHT
TZOFFSETFROM:+0100
TZOFFSETTO:+0200
TZNAME:CEST
DTSTART:20240331T010000
END:DAYLIGHT
BEGIN:STANDARD
TZOFFSETFROM:+0200
TZOFFSETTO:+0100
TZNAME:CET
DTSTART:20241027T010000
END:STANDARD
END:VTIMEZONE
BEGIN:VEVENT
DTSTART;TZID=Europe/Amsterdam:20241128T090000
DTEND;TZID=Europe/Amsterdam:20241128T160000
DTSTAMP:20260421T042143
CREATED:20241003T124059Z
LAST-MODIFIED:20241030T093349Z
UID:89573-1732784400-1732809600@pretwerk.nl
SUMMARY:Congres Natuurlijk; natuurinclusief bouwen
DESCRIPTION:Voor de 2024-editie van Congres Natuurlijk wordt extra nadruk gelegd op sociale kansen van natuur.  Natuur kan op haar eigen manier een bijzondere bijdrage kan leveren aan het verminderen van ongelijkheid\, bevorderen van gezondheid\, versterken van de sociale cohesie\, het leggen van verbindingen\, het gevoel aan mensen te geven echt mee te doen en eenzaamheid tegen te gaan.
URL:https://pretwerk.nl/evenement/congres-natuurlijk-natuurinclusief-bouwen/
LOCATION:provinciehuis Overijssel\, Zwolle\, Netherlands
CATEGORIES:Congres
ATTACH;FMTTYPE=image/jpeg:https://pretwerk.nl/wp-content/uploads/2024/10/congres-natuurlijk.jpg
END:VEVENT
BEGIN:VEVENT
DTSTART;TZID=Europe/Amsterdam:20241126T183000
DTEND;TZID=Europe/Amsterdam:20241126T220000
DTSTAMP:20260421T042143
CREATED:20241122T102727Z
LAST-MODIFIED:20241122T102809Z
UID:90529-1732645800-1732658400@pretwerk.nl
SUMMARY:De kracht van ons Groninger ambassadeurschap
DESCRIPTION:Inspiratiesessie ‘’De kracht van ons Groninger ambassadeurschap.’’ Tijdens deze bijeenkomst\, georganiseerd door Programma Vrijetijdseconomie en Marketing Eemsdelta\, staat het belang van het Groninger ambassadeurschap centraal. Hoe kunnen vrijetijdsondernemers samen het verhaal van Groningen krachtiger vertellen en meer bezoekers laten ervaren wat de regio bijzonder maakt? Gastspreker Marcel Hensema neemt het publiek mee in zijn persoonlijke verhaal ‘Puur Groningen’.
URL:https://pretwerk.nl/evenement/de-kracht-van-ons-groninger-ambassadeurschap/
LOCATION:Oosterwijtwerd\, Oosterwijtwerd\, Netherlands
CATEGORIES:Congres
ATTACH;FMTTYPE=image/jpeg:https://pretwerk.nl/wp-content/uploads/2024/11/vrijetijdseconomie-groningen.jpg
END:VEVENT
BEGIN:VEVENT
DTSTART;TZID=Europe/Amsterdam:20241126T083000
DTEND;TZID=Europe/Amsterdam:20241128T190000
DTSTAMP:20260421T042143
CREATED:20240829T102320Z
LAST-MODIFIED:20241030T093409Z
UID:89157-1732609800-1732820400@pretwerk.nl
SUMMARY:LeisurUp
DESCRIPTION:LeisurUp is verbonden aan de grootste Europese vastgoedbeurs Mapic en zoomt in op leisure-gerelateerde ontwikkelingen in o.a. winkelgebieden en vastgoedprojecten. Naast een uitgebreide beursvloer zijn er ook volop kennisbijeenkomsten waar de relatie tussen leisure en retail wordt belicht.
URL:https://pretwerk.nl/evenement/leisurup-2/
LOCATION:Cannes (Frankrijk)
CATEGORIES:Internationaal,Vakbeurs
ATTACH;FMTTYPE=image/png:https://pretwerk.nl/wp-content/uploads/leisurup-by-mapic-logo-370x125-1.png
END:VEVENT
BEGIN:VEVENT
DTSTART;TZID=Europe/Amsterdam:20241119T100000
DTEND;TZID=Europe/Amsterdam:20241122T170000
DTSTAMP:20260421T042143
CREATED:20241107T132208Z
LAST-MODIFIED:20241107T132210Z
UID:90243-1732010400-1732294800@pretwerk.nl
SUMMARY:Piscine Global
DESCRIPTION:Europese vakbeurs voor de zwembad en wellness sector. Er wordt veel aandacht besteed aan de uitdagingen waar de branche voor staat: watermanagement\, renovaties\, duurzaamheid & energie\, personeel en digitalisering.
URL:https://pretwerk.nl/evenement/piscine-global/
LOCATION:Eurexpo\, Lyon\, France
CATEGORIES:Internationaal,Vakbeurs
ATTACH;FMTTYPE=image/jpeg:https://pretwerk.nl/wp-content/uploads/2024/11/logo-piscine-global.jpg
END:VEVENT
BEGIN:VEVENT
DTSTART;TZID=Europe/Amsterdam:20241119T000000
DTEND;TZID=Europe/Amsterdam:20241121T235959
DTSTAMP:20260421T042143
CREATED:20240628T150639Z
LAST-MODIFIED:20241030T093434Z
UID:88349-1731974400-1732233599@pretwerk.nl
SUMMARY:IAAPA Expo Orlando
DESCRIPTION:De grootste en toonaangevende attractievakbeurs ter wereld vind jaarlijks plaats in Orlando (Florida – VS). Op de beursvloer vind je o.a. nieuwe attracties en in het kennisprogramma wordt je bijgepraat over de laatste trends. in de omgeving rond deze vakbeurs vindt je diverse mooie attractieparken en waterparken van o.a. Disney\, Universal en Six Flags. Combineer een trip dan ook vooral met een parkbezoek.
URL:https://pretwerk.nl/evenement/iaapa-expo-orlando-2/
LOCATION:Orlando\, Florida (VS)\, Orlando\, florida\, Verenigde Staten
CATEGORIES:Internationaal,Vakbeurs
ATTACH;FMTTYPE=image/jpeg:https://pretwerk.nl/wp-content/uploads/2024/06/iaapa-expo.jpg
END:VEVENT
BEGIN:VEVENT
DTSTART;TZID=Europe/Amsterdam:20241114T100000
DTEND;TZID=Europe/Amsterdam:20241114T220000
DTSTAMP:20260421T042143
CREATED:20241018T091040Z
LAST-MODIFIED:20241030T093509Z
UID:89836-1731578400-1731621600@pretwerk.nl
SUMMARY:Museumcongres
DESCRIPTION:Jaarlijkse kennisbijeenkomst voor de Nederlandse museumsector. Dit jaar speciaal aandacht voor de rol van ‘verbinding’ in musea. Daarnaast worden er diverse prijzen uitgereikt voor bijzondere prestaties in de museumwereld.
URL:https://pretwerk.nl/evenement/museumcongres-3/
LOCATION:Musis Sacrum\, Arnhem\, Netherlands
CATEGORIES:Congres
ATTACH;FMTTYPE=image/jpeg:https://pretwerk.nl/wp-content/uploads/2024/10/museumcongres2.jpg
END:VEVENT
BEGIN:VEVENT
DTSTART;TZID=Europe/Amsterdam:20241113T110000
DTEND;TZID=Europe/Amsterdam:20241114T210000
DTSTAMP:20260421T042143
CREATED:20240704T123220Z
LAST-MODIFIED:20241030T093525Z
UID:88469-1731495600-1731618000@pretwerk.nl
SUMMARY:Festivak
DESCRIPTION:Vakbeurs voor de evenementenbranche. Op diverse stands presenteren leveranciers hun meerwaarde op het gebied van afvalverwerking\, decor\, standbouw\, licht\, geluid\, podia\, techniek\, verhuur en catering. Maar ook over cashless betalen\, online media\, databases\, mobile- & emailmarketing\, websites en apps. Tijdens het lezingenprogramma wordt je bijgespijkerd over de laatste trends en ontwikkelingen.
URL:https://pretwerk.nl/evenement/festivak-3/
LOCATION:Brabanthallen\, 's Hertogenbosch
CATEGORIES:Vakbeurs
ATTACH;FMTTYPE=image/jpeg:https://pretwerk.nl/wp-content/uploads/festivak-2.jpg
END:VEVENT
BEGIN:VEVENT
DTSTART;TZID=Europe/Amsterdam:20241113T090000
DTEND;TZID=Europe/Amsterdam:20241115T180000
DTSTAMP:20260421T042143
CREATED:20240822T091922Z
LAST-MODIFIED:20241030T093541Z
UID:89075-1731488400-1731693600@pretwerk.nl
SUMMARY:International (boat) Charter Expo
DESCRIPTION:Een van de grootste b2b meetings op het gebied van verhuur van recreatiejachten. Dit is internationaal een enorm groeiend business-segment waarvan ook het waterrijke Nederland volop kan profiteren. Ruim 600 bedrijven presenteren hier hun zakelijke proposities. De organisatie is in handen van de Kroatische Yachtmaster Group
URL:https://pretwerk.nl/evenement/international-boat-charter-expo/
LOCATION:EXPO Greater Amsterdam\, Haarlemmermeer\, Nederland
CATEGORIES:Internationaal,Vakbeurs
ATTACH;FMTTYPE=image/jpeg:https://pretwerk.nl/wp-content/uploads/2024/08/yacht-charter-event2.jpg
END:VEVENT
BEGIN:VEVENT
DTSTART;TZID=Europe/Amsterdam:20241112T100000
DTEND;TZID=Europe/Amsterdam:20241114T180000
DTSTAMP:20260421T042143
CREATED:20240625T133740Z
LAST-MODIFIED:20240704T123448Z
UID:88263-1731405600-1731607200@pretwerk.nl
SUMMARY:Recreatie Vakbeurs Hardenberg
DESCRIPTION:Op 12\, 13 & 14 november 2024 vindt de jaarlijkse Recreatie Vakbeurs plaats in Evenementenhal Hardenberg. Recreatie Vakbeurs is dé vakbeurs voor een toekomstbestendige recreatiebranche die jij niet mag missen. Een nieuw onderdeel is het Recreatie Dorp en de Best Practice Lounge. Kom inspiratie opdoen voor jouw recreatiebedrijf!
URL:https://pretwerk.nl/evenement/recreatie-vakbeurs-hardenberg-2/
LOCATION:evenementenhal Hardenberg\, Hardenberg\, Nederland
CATEGORIES:Vakbeurs
ATTACH;FMTTYPE=image/png:https://pretwerk.nl/wp-content/uploads/2024/06/Logo-Recreatie-Vakbeurs-positief.png
END:VEVENT
BEGIN:VEVENT
DTSTART;TZID=Europe/Amsterdam:20241108T130000
DTEND;TZID=Europe/Amsterdam:20241108T170000
DTSTAMP:20260421T042143
CREATED:20241018T091507Z
LAST-MODIFIED:20241018T091533Z
UID:89841-1731070800-1731085200@pretwerk.nl
SUMMARY:Platform Kastelen en Buitenplaatsen
DESCRIPTION:Tijdens het 19de Platform Kastelen & Buitenplaatsen zal een zestal sprekers uit binnen- en buitenland hun onderzoeksresultaten met u delen\, elk vanuit een geheel ander perspectief. U kunt dit platform live of online bijwonen.
URL:https://pretwerk.nl/evenement/platform-kastelen-en-buitenplaatsen/
LOCATION:RCE\, Amersfoort\, Netherlands
CATEGORIES:Congres
ATTACH;FMTTYPE=image/jpeg:https://pretwerk.nl/wp-content/uploads/slot-loevestein.jpg
END:VEVENT
BEGIN:VEVENT
DTSTART;TZID=Europe/Amsterdam:20241107T100000
DTEND;TZID=Europe/Amsterdam:20241108T120000
DTSTAMP:20260421T042143
CREATED:20241106T143521Z
LAST-MODIFIED:20241106T145409Z
UID:90216-1730973600-1731067200@pretwerk.nl
SUMMARY:Landelijke Kustdagen
DESCRIPTION:De initiatiefnemers proberen zoveel mogelijk onderwerpen onder de aandacht te brengen die van invloed zijn op de Nederlandse kust. Er zal aandacht zijn voor de toeristische ontwikkelingen\, natuurinclusief ondernemen maar ook aandacht voor de gast van de toekomst.
URL:https://pretwerk.nl/evenement/landelijke-kustdagen/
LOCATION:Kamperland\, Kamperland\, Netherlands
CATEGORIES:Congres,studiereis
ATTACH;FMTTYPE=image/jpeg:https://pretwerk.nl/wp-content/uploads/2024/11/logo-lkd.jpg
END:VEVENT
BEGIN:VEVENT
DTSTART;TZID=Europe/Amsterdam:20241106T100000
DTEND;TZID=Europe/Amsterdam:20241106T180000
DTSTAMP:20260421T042143
CREATED:20241018T133049Z
LAST-MODIFIED:20241018T133315Z
UID:89872-1730887200-1730916000@pretwerk.nl
SUMMARY:Nationale Sport Vakbeurs
DESCRIPTION:De Nationale Sport Vakbeurs is de facilitaire sportbeurs van Nederland. Het unieke beursconcept waarbij sportambtenaren\, clubbestuurders\, exploitanten van sportaccommodaties samenkomen met dienstverleners & leveranciers uit de sportwereld. Er is ook een uitgebreid lezingenprogramma\, dat ingaat op diverse onderwerpen.
URL:https://pretwerk.nl/evenement/nationale-sport-vakbeurs-2/
LOCATION:Evenementenhal Gorinchem\, Gorinchem\, Nederland
CATEGORIES:Vakbeurs
ATTACH;FMTTYPE=image/jpeg:https://pretwerk.nl/wp-content/uploads/2024/10/nationale-sportvakbeurs.jpg
END:VEVENT
BEGIN:VEVENT
DTSTART;TZID=Europe/Amsterdam:20241106T080000
DTEND;TZID=Europe/Amsterdam:20241107T170000
DTSTAMP:20260421T042143
CREATED:20240628T151536Z
LAST-MODIFIED:20240628T151538Z
UID:88352-1730880000-1730998800@pretwerk.nl
SUMMARY:Land Leisure and Tourism Show
DESCRIPTION:Op deze grote recreatievakbeurs in Groot Britannië komen veel segmenten samen: Farm Business\, Holiday Park & Resorts\, Family Attraction Expo en de Leisure F&B Expo.
URL:https://pretwerk.nl/evenement/land-leisure-and-tourism-show/
LOCATION:NEC Birmingham\, Birmingham\, Verenigd Koninkrijk
CATEGORIES:Internationaal,Vakbeurs
ATTACH;FMTTYPE=image/jpeg:https://pretwerk.nl/wp-content/uploads/2024/06/land-leisure-tourism-show.jpg
END:VEVENT
BEGIN:VEVENT
DTSTART;TZID=Europe/Amsterdam:20241105T170000
DTEND;TZID=Europe/Amsterdam:20241105T220000
DTSTAMP:20260421T042143
CREATED:20241014T125021Z
LAST-MODIFIED:20241014T125022Z
UID:89768-1730826000-1730844000@pretwerk.nl
SUMMARY:Najaarbijeenkomst vrijetijdssector Noord-Oost Friesland
DESCRIPTION:Ieder jaar wordt de Najaarsbijeenkomst in Noordoost Friesland georganiseerd voor toeristische ondernemers\, organisaties en overheidsinstanties. De organisatie ligt in handen van de Vrijetijdsregio Noordoost Friesland\, waar tevens Stichting RegioMarketing Toerisme Noordoost Friesland deel van uit maakt. Met creatief directeur Rens den Hartog van Zwarte Cross festival bevat de bijeenkomst een grote naam als keynote speaker.
URL:https://pretwerk.nl/evenement/najaarbijeenkomst-vrijetijdssector-noord-oost-friesland/
LOCATION:De Dikke Draai\, Surhuisterveen\, Netherlands
CATEGORIES:Congres
ATTACH;FMTTYPE=image/jpeg:https://pretwerk.nl/wp-content/uploads/2024/10/zwarte-cross2.jpg
END:VEVENT
BEGIN:VEVENT
DTSTART;TZID=Europe/Amsterdam:20241105T093000
DTEND;TZID=Europe/Amsterdam:20241107T180000
DTSTAMP:20260421T042143
CREATED:20241029T093057Z
LAST-MODIFIED:20241029T093100Z
UID:90062-1730799000-1731002400@pretwerk.nl
SUMMARY:World Travel Market
DESCRIPTION:World Travel Market in Londen is een grote b2b beurs voor de reisindustrie (travel trade). Hier presenteren destinaties zich aan touroperators\, maar is er ook veel ruimte voor nieuwe concepten die de travelsector vooruit helpen.
URL:https://pretwerk.nl/evenement/world-travel-market/
LOCATION:Excel\, Londen\, Verenigd Koninkrijk
CATEGORIES:Congres,Internationaal,Vakbeurs
ATTACH;FMTTYPE=image/jpeg:https://pretwerk.nl/wp-content/uploads/2024/10/wtm-london.jpg
END:VEVENT
BEGIN:VEVENT
DTSTART;TZID=Europe/Amsterdam:20241105T000000
DTEND;TZID=Europe/Amsterdam:20241107T235959
DTSTAMP:20260421T042143
CREATED:20240628T152502Z
LAST-MODIFIED:20240628T152504Z
UID:88355-1730764800-1731023999@pretwerk.nl
SUMMARY:Salon Sett (vakbeurs camping / glamping)
DESCRIPTION:The Leading European Trade Fair for Professionals in Outdoor Hospitality
URL:https://pretwerk.nl/evenement/salon-sett-vakbeurs-camping-glamping/
LOCATION:Montpellier\, Montpellier\, Frankrijk
CATEGORIES:Vakbeurs
ATTACH;FMTTYPE=image/png:https://pretwerk.nl/wp-content/uploads/2023/10/salon-sett-hpa-camping-2022.png
END:VEVENT
BEGIN:VEVENT
DTSTART;TZID=Europe/Amsterdam:20241104T103000
DTEND;TZID=Europe/Amsterdam:20241104T163000
DTSTAMP:20260421T042143
CREATED:20241010T132627Z
LAST-MODIFIED:20241010T132629Z
UID:89676-1730716200-1730737800@pretwerk.nl
SUMMARY:HotelSummit
DESCRIPTION:HotelSummit is hét jaarcongres voor het hoge hotelmanagement met een inhoudelijk\, informatief en inspirerend programma. Het congres heeft ieder jaar een rode draad. De rode draad wordt jaarlijks vastgesteld in overleg met de Raad van Advies. Dit jaar is het thema: De ondernemende hotelier.
URL:https://pretwerk.nl/evenement/hotelsummit/
LOCATION:Postillion Hotel Utrecht\, Bunnik\, Netherlands
CATEGORIES:Congres
ATTACH;FMTTYPE=image/png:https://pretwerk.nl/wp-content/uploads/2024/10/HotelSummit-square-slogan-300x258-1.png
END:VEVENT
BEGIN:VEVENT
DTSTART;TZID=Europe/Amsterdam:20241030T093000
DTEND;TZID=Europe/Amsterdam:20241103T170000
DTSTAMP:20260421T042143
CREATED:20240717T144205Z
LAST-MODIFIED:20240717T144208Z
UID:88600-1730280600-1730653200@pretwerk.nl
SUMMARY:Kreadoe
DESCRIPTION:Heel veel mensen\, jong en oud\, vullen hun vrije tijd in met doe-het-zelf activiteiten; van breien tot schilderen en van sieraden maken tot boetseren. Op deze beurs staan ook diverse partijen die rondom deze hobby’s arrangementen en vakanties organiseren. Je kunt de beurs ook gebruiken om inspiratie op te doen voor je animatieteam.
URL:https://pretwerk.nl/evenement/kreadoe/
LOCATION:Jaarbeurs Utrecht
CATEGORIES:Publieksbeurs
ATTACH;FMTTYPE=image/jpeg:https://pretwerk.nl/wp-content/uploads/kreadoe-2018-10.jpg
END:VEVENT
BEGIN:VEVENT
DTSTART;TZID=Europe/Amsterdam:20241022T100000
DTEND;TZID=Europe/Amsterdam:20241024T170000
DTSTAMP:20260421T042143
CREATED:20240920T071833Z
LAST-MODIFIED:20240920T072721Z
UID:89399-1729591200-1729789200@pretwerk.nl
SUMMARY:Interbad
DESCRIPTION:Een brede internationale vakbeurs gericht op zwembaden en faciliteiten die aan zwembaden zijn gelieerd. Productcategorieën zijn o.a. zwembaden\, sauna’s\, recreatieve watervoorzieningen\, spa’s\, fitness\, wellness en medicinale toepassingen.
URL:https://pretwerk.nl/evenement/interbad/
LOCATION:Messe Stuttgart\, Stuttgart\, Duitsland
CATEGORIES:Congres,Internationaal,Vakbeurs
ATTACH;FMTTYPE=image/jpeg:https://pretwerk.nl/wp-content/uploads/2024/09/interbad.jpg
END:VEVENT
BEGIN:VEVENT
DTSTART;TZID=Europe/Amsterdam:20241019T100000
DTEND;TZID=Europe/Amsterdam:20241020T170000
DTSTAMP:20260421T042143
CREATED:20240528T131454Z
LAST-MODIFIED:20240529T075058Z
UID:87840-1729332000-1729443600@pretwerk.nl
SUMMARY:Second Home Expo
DESCRIPTION:Consumentenbeurs voor de verkoop van internationale vakantiewoningen. Naast een bijeenkomst voor consumenten is de Second Home ook altijd een mooi netwerkmoment voor professionals in de sector verblijfsrecreatie.
URL:https://pretwerk.nl/evenement/second-home-expo-5/
LOCATION:Flanders Expo\, Gent\, Gent\, België
CATEGORIES:Publieksbeurs
ATTACH;FMTTYPE=image/png:https://pretwerk.nl/wp-content/uploads/second-home-expo.png
END:VEVENT
BEGIN:VEVENT
DTSTART;TZID=Europe/Amsterdam:20241019T000000
DTEND;TZID=Europe/Amsterdam:20241027T235959
DTSTAMP:20260421T042144
CREATED:20240628T145016Z
LAST-MODIFIED:20240628T145019Z
UID:88343-1729296000-1730073599@pretwerk.nl
SUMMARY:Dutch Design Week
DESCRIPTION:Design is een heel breed begrip – in feite elk onderwerp dat een ontwerp nodig heeft. Op de Dutch Design Week vind je inspiratie over nieuwe concepten\, materiaalgebruik en trends. Ook de recreatiesector kan daarvan profiteren.
URL:https://pretwerk.nl/evenement/dutch-design-week-3/
LOCATION:Eindhoven\, Eindhoven\, Nederland
CATEGORIES:Vakbeurs
ATTACH;FMTTYPE=image/jpeg:https://pretwerk.nl/wp-content/uploads/logo-ddw.jpg
END:VEVENT
BEGIN:VEVENT
DTSTART;TZID=Europe/Amsterdam:20241017T110000
DTEND;TZID=Europe/Amsterdam:20241017T120000
DTSTAMP:20260421T042144
CREATED:20241009T115028Z
LAST-MODIFIED:20241009T115139Z
UID:89639-1729162800-1729166400@pretwerk.nl
SUMMARY:Insights to keep your visitor attraction on top
DESCRIPTION:Exclusief webinar waarin Blooloop en Convious ingaan op de trends die de toekomst van attracties zullen bepalen. Van innovatieve gastervaringen tot duurzame praktijken\, digitale transformatie en veranderende consumentenverwachtingen – deze sessie voorziet je van de kennis en strategieën die nodig zijn om jouw attractie in 2025 en daarna aan de top te houden.
URL:https://pretwerk.nl/evenement/insights-to-keep-your-visitor-attraction-on-top/
LOCATION:online
CATEGORIES:webinar
ATTACH;FMTTYPE=image/png:https://pretwerk.nl/wp-content/uploads/convious.png
END:VEVENT
BEGIN:VEVENT
DTSTART;TZID=Europe/Amsterdam:20241015T090000
DTEND;TZID=Europe/Amsterdam:20241015T160000
DTSTAMP:20260421T042144
CREATED:20240917T104251Z
LAST-MODIFIED:20240917T104351Z
UID:89365-1728982800-1729008000@pretwerk.nl
SUMMARY:Zwembad Branche Dag
DESCRIPTION:Vakbeurs voor professionals die te maken hebben met onderhoud en aanleg van zwembaden en waterspeelplaatsen.
URL:https://pretwerk.nl/evenement/zwembad-branche-dag-2/
LOCATION:Midden Nederland Hallen\, Barneveld\, Nederland
CATEGORIES:Vakbeurs
ATTACH;FMTTYPE=image/jpeg:https://pretwerk.nl/wp-content/uploads/zwembad-7.jpg
END:VEVENT
BEGIN:VEVENT
DTSTART;TZID=Europe/Amsterdam:20241014T093000
DTEND;TZID=Europe/Amsterdam:20241015T170000
DTSTAMP:20260421T042144
CREATED:20240807T101537Z
LAST-MODIFIED:20240807T101539Z
UID:88916-1728898200-1729011600@pretwerk.nl
SUMMARY:Food Inspiration Days
DESCRIPTION:De 15e editie van de Food Inspiration Days staat in het teken van New Dutch. Dit thema wordt eveneens omarmd door het Nederlands Bureau voor Toerisme. Het staat voor een nieuwe identiteit die Nederland wil uitstralen. Niet het eenzijdige beeld van het Nederland met tulpen\, molens en de VOC-tijd\, maar een toekomstbepalend beeld waarin we als land trots zijn op onze architectuur\, design\, technologie en open mind. Dat is de toekomst van de identiteit van ons land.
URL:https://pretwerk.nl/evenement/food-inspiration-days/
LOCATION:Cultuurhaven\, Veghel\, Nederland
CATEGORIES:Congres,Vakbeurs
ATTACH;FMTTYPE=image/jpeg:https://pretwerk.nl/wp-content/uploads/2024/08/food-inspiration-days.jpg
END:VEVENT
BEGIN:VEVENT
DTSTART;TZID=Europe/Amsterdam:20241010T090000
DTEND;TZID=Europe/Amsterdam:20241010T173000
DTSTAMP:20260421T042144
CREATED:20240717T160859Z
LAST-MODIFIED:20240717T160900Z
UID:88614-1728550800-1728581400@pretwerk.nl
SUMMARY:VAC2024 - Conference of Visitor Attractions
DESCRIPTION:Wil je leren van de goed georganiseerde Britse sector van dagattracties? Boek dan een vlucht of boot naar de overkant. Tijdens het congres wordt de dagrecreatie vanuit verschillende disciplines bekeken\, met o.a. aandacht voor personeel\, marketing\, een blik op de toekomst (2025)\, duurzaamheid en diverse discussies met mensen uit de praktijk.
URL:https://pretwerk.nl/evenement/vac2024-conference-of-visitor-attractions/
LOCATION:Queen Elizabeth II Center\, Londen\, Verenigd Koninkrijk
CATEGORIES:Congres
ATTACH;FMTTYPE=image/jpeg:https://pretwerk.nl/wp-content/uploads/2024/07/vac2024.jpg
END:VEVENT
BEGIN:VEVENT
DTSTART;TZID=Europe/Amsterdam:20241008T140000
DTEND;TZID=Europe/Amsterdam:20241008T170000
DTSTAMP:20260421T042144
CREATED:20240920T065914Z
LAST-MODIFIED:20240920T065916Z
UID:89394-1728396000-1728406800@pretwerk.nl
SUMMARY:Waterkwaliteit & Ervaringen Omgevingswet en Chloorvrij zwemmen
DESCRIPTION:De Expertgroep Zwembaden organiseert de tweede KennisRoadShow Handboek Zwembaden on Tour! Hoe belangrijk is een goede waterkwaliteit in een zwembad en wat zijn de ervaringen met de nieuwe omgevingswet? Hoe ver zijn de ontwikkelingen van een chloorvrij zwembad? De specialisten Ruud Dijkstra en Maarten Keuten nemen je tijdens deze kennissessie mee in alles wat je moet weten over waterkwaliteit in zwembaden en chloorvrij zwemmen.
URL:https://pretwerk.nl/evenement/waterkwaliteit-ervaringen-omgevingswet-en-chloorvrij-zwemmen/
LOCATION:Sportcentrum De Wiltsangh\, Nunspeet\, Netherlands
CATEGORIES:Congres
ATTACH;FMTTYPE=image/jpeg:https://pretwerk.nl/wp-content/uploads/2024/09/water-alliance2.jpg
END:VEVENT
BEGIN:VEVENT
DTSTART;TZID=Europe/Amsterdam:20241008T093000
DTEND;TZID=Europe/Amsterdam:20241008T160000
DTSTAMP:20260421T042144
CREATED:20240718T131117Z
LAST-MODIFIED:20240718T131118Z
UID:88636-1728379800-1728403200@pretwerk.nl
SUMMARY:Kennisevent Esports\, Gaming en Gamification
DESCRIPTION:De branche\, en daarmee ook de sport- en beweegprofessionals\, worden steeds volwassener op het gebied van esports\, gaming en gamification. Het Kennisevent groeit mee. Daarom ligt er in dit nieuwe concept\, naast inspireren en informeren\, een versterkte focus op transformeren.
URL:https://pretwerk.nl/evenement/kennisevent-esports-gaming-en-gamification-3/
LOCATION:H20 Esports Campus\, Purmerend\, Nederland
CATEGORIES:Congres
ATTACH;FMTTYPE=image/jpeg:https://pretwerk.nl/wp-content/uploads/2024/07/esports.jpg
END:VEVENT
BEGIN:VEVENT
DTSTART;TZID=Europe/Amsterdam:20241008T083000
DTEND;TZID=Europe/Amsterdam:20241008T180000
DTSTAMP:20260421T042144
CREATED:20240528T132643Z
LAST-MODIFIED:20241007T180257Z
UID:87845-1728376200-1728410400@pretwerk.nl
SUMMARY:Praktijkdag; Vakantiehuis van de toekomst
DESCRIPTION:Praktijkdag met volop inspiratie voor de professional in verblijfsrecreatie. Ook wordt deze dag de winnaar bekend gemaakt van de verkiezing ‘Meest innovatieve vakantiepark van de Benelux’.
URL:https://pretwerk.nl/evenement/praktijkdag-vakantiehuis-van-de-toekomst/
LOCATION:Bio Vakantieoord\, Arnhem\, Nederland
CATEGORIES:Congres
ATTACH;FMTTYPE=image/jpeg:https://pretwerk.nl/wp-content/uploads/2024/05/Brinckerduyn-Summer22-0750-3.jpg
END:VEVENT
BEGIN:VEVENT
DTSTART;TZID=Europe/Amsterdam:20241008T000000
DTEND;TZID=Europe/Amsterdam:20241010T235959
DTSTAMP:20260421T042144
CREATED:20240704T124933Z
LAST-MODIFIED:20240704T124934Z
UID:88475-1728345600-1728604799@pretwerk.nl
SUMMARY:Salon Atlantica
DESCRIPTION:Een bijzonder uitgebreide vakbeurs\, die verder reikt dan alleen glamping. Ook diverse buitenactiviteiten onder de blauwe hemel komen aan bod\, zoals buitensport\, wellness\, en foodservice.
URL:https://pretwerk.nl/evenement/salon-atlantica-2/
LOCATION:Niort\, Niort\, Frankrijk
CATEGORIES:Internationaal,Vakbeurs
ATTACH;FMTTYPE=image/png:https://pretwerk.nl/wp-content/uploads/2023/08/Atlantica-logo.png
END:VEVENT
BEGIN:VEVENT
DTSTART;TZID=Europe/Amsterdam:20241007T100000
DTEND;TZID=Europe/Amsterdam:20241009T170000
DTSTAMP:20260421T042144
CREATED:20240609T110828Z
LAST-MODIFIED:20240625T132133Z
UID:87986-1728295200-1728493200@pretwerk.nl
SUMMARY:Horecabeurs BBB Maastricht
DESCRIPTION:Een bezoek aan de horecavakbeurs BBB Maastricht levert een belangrijke bijdrage aan het succes van jouw horecaonderneming. BBB Maastricht onderscheidt zich door het persoonlijke en internationale karakter\, de met zorg aangeklede beursvloer en het kwalitatief hoogwaardige programma.
URL:https://pretwerk.nl/evenement/horecabeurs-bbb-maastricht/
LOCATION:Mecc Maastricht\, Maastricht
CATEGORIES:Vakbeurs
ATTACH;FMTTYPE=image/jpeg:https://pretwerk.nl/wp-content/uploads/bbb.jpg
END:VEVENT
END:VCALENDAR