BEGIN:VCALENDAR
VERSION:2.0
PRODID:-//Pretwerk - ECPv6.6.3//NONSGML v1.0//EN
CALSCALE:GREGORIAN
METHOD:PUBLISH
X-WR-CALNAME:Pretwerk
X-ORIGINAL-URL:https://pretwerk.nl
X-WR-CALDESC:Evenementen voor Pretwerk
REFRESH-INTERVAL;VALUE=DURATION:PT1H
X-Robots-Tag:noindex
X-PUBLISHED-TTL:PT1H
BEGIN:VTIMEZONE
TZID:Europe/Amsterdam
BEGIN:DAYLIGHT
TZOFFSETFROM:+0100
TZOFFSETTO:+0200
TZNAME:CEST
DTSTART:20240331T010000
END:DAYLIGHT
BEGIN:STANDARD
TZOFFSETFROM:+0200
TZOFFSETTO:+0100
TZNAME:CET
DTSTART:20241027T010000
END:STANDARD
BEGIN:DAYLIGHT
TZOFFSETFROM:+0100
TZOFFSETTO:+0200
TZNAME:CEST
DTSTART:20250330T010000
END:DAYLIGHT
BEGIN:STANDARD
TZOFFSETFROM:+0200
TZOFFSETTO:+0100
TZNAME:CET
DTSTART:20251026T010000
END:STANDARD
END:VTIMEZONE
BEGIN:VEVENT
DTSTART;TZID=Europe/Amsterdam:20250201T100000
DTEND;TZID=Europe/Amsterdam:20250201T160000
DTSTAMP:20260421T075151
CREATED:20241230T143647Z
LAST-MODIFIED:20241230T143649Z
UID:91168-1738404000-1738425600@pretwerk.nl
SUMMARY:SVR Vakantiebeurs (bij de boer)
DESCRIPTION:SVR vakantiebeurs (kamperen bij de boer) is al jaren een fenomeen in Nederland. Dit is de ontmoetingsplek van de trouwe donateurs en hun favoriete boerencampings.
URL:https://pretwerk.nl/evenement/svr-vakantiebeurs-bij-de-boer-2/
LOCATION:evenementenhal Hardenberg\, Hardenberg\, Nederland
ATTACH;FMTTYPE=image/jpeg:https://pretwerk.nl/wp-content/uploads/Sticker_SVRjpeg.jpg
END:VEVENT
BEGIN:VEVENT
DTSTART;TZID=Europe/Amsterdam:20250129T100000
DTEND;TZID=Europe/Amsterdam:20250202T170000
DTSTAMP:20260421T075151
CREATED:20241119T132704Z
LAST-MODIFIED:20241119T133659Z
UID:90475-1738144800-1738515600@pretwerk.nl
SUMMARY:Caravana
DESCRIPTION:Een mooie grote en groeiende kampeerbeurs in het Noorden van Nederland. Nieuw dit jaar is het Glampingplein\, dat inspeelt op de glampingtrend (met hulp van onze glampingexpert Richard Otten). De beursorganisatie is ook blij met de terugkeer van ACSI kampeerreizen.
URL:https://pretwerk.nl/evenement/caravana-2/
LOCATION:WTC Leeuwarden\, Leeuwarden
CATEGORIES:Publieksbeurs
ATTACH;FMTTYPE=image/png:https://pretwerk.nl/wp-content/uploads/caravana-logo.png
END:VEVENT
BEGIN:VEVENT
DTSTART;TZID=Europe/Amsterdam:20250128T100000
DTEND;TZID=Europe/Amsterdam:20250129T163000
DTSTAMP:20260421T075151
CREATED:20241216T153432Z
LAST-MODIFIED:20241216T153759Z
UID:90945-1738058400-1738168200@pretwerk.nl
SUMMARY:Brand Experience Center Conference
DESCRIPTION:Brand Experience Centers bieden een mix tussen retail en beleving. De ‘merkbeleving’ staat er centraal; vooral om klantloyaliteit te realiseren. Voor de consumenten is een Brand Experience Center vaak gewoon ‘een leuk dagje uit’ waarbij je ook nog wat kunt leren. Diverse specialisten buigen zich tijdens het congres over dit opkomende fenomeen.
URL:https://pretwerk.nl/evenement/brand-experience-center-conference/
LOCATION:Belgian Beer World Experience\, Brussel\, Belgium
CATEGORIES:Congres
ATTACH;FMTTYPE=image/jpeg:https://pretwerk.nl/wp-content/uploads/2024/12/brand-experience-Center.jpg
END:VEVENT
BEGIN:VEVENT
DTSTART;TZID=Europe/Amsterdam:20250128T090000
DTEND;TZID=Europe/Amsterdam:20250201T170000
DTSTAMP:20260421T075151
CREATED:20241129T130533Z
LAST-MODIFIED:20241129T130802Z
UID:90658-1738054800-1738429200@pretwerk.nl
SUMMARY:Spielwarenmesse
DESCRIPTION:Internationaleakbeurs voor de speelproductenmarkt. Voor de recreatiesector o.a. inspiratie voor de souvenirwinkel\, spellen\, sporten en kostuums voor animatieteams of spelletjes voor in het vakantiehuisje. Je kunt de beurs ook gebruiken om in contaxct te komen met aanbieders van populaire IP.
URL:https://pretwerk.nl/evenement/spielwarenmesse-2/
LOCATION:Messezentrum Nürnberg\, Nürnberg\, Duitsland
CATEGORIES:Internationaal,Vakbeurs
ATTACH;FMTTYPE=image/jpeg:https://pretwerk.nl/wp-content/uploads/2024/11/spielwarenmesse.jpg
END:VEVENT
BEGIN:VEVENT
DTSTART;TZID=Europe/Amsterdam:20250125T100000
DTEND;TZID=Europe/Amsterdam:20250126T170000
DTSTAMP:20260421T075151
CREATED:20241119T125315Z
LAST-MODIFIED:20241119T141425Z
UID:90462-1737799200-1737910800@pretwerk.nl
SUMMARY:Second Home Beurs
DESCRIPTION:Consumentenbeurs met groot aanbod (verkoop) van vakantiewoningen uit de hele wereld.
URL:https://pretwerk.nl/evenement/second-home-beurs-7/
LOCATION:Mecc Maastricht\, Maastricht
CATEGORIES:Publieksbeurs
ATTACH;FMTTYPE=image/png:https://pretwerk.nl/wp-content/uploads/second-home.png
END:VEVENT
BEGIN:VEVENT
DTSTART;TZID=Europe/Amsterdam:20250125T100000
DTEND;TZID=Europe/Amsterdam:20250125T160000
DTSTAMP:20260421T075151
CREATED:20241230T143514Z
LAST-MODIFIED:20241230T143516Z
UID:91164-1737799200-1737820800@pretwerk.nl
SUMMARY:SVR vakantiebeurs (bij de boer)
DESCRIPTION:SVR vakantiebeurs (kamperen bij de boer) is al jaren een fenomeen in Nederland. Dit is de ontmoetingsplek van de trouwe donateurs en hun favoriete boerencampings.
URL:https://pretwerk.nl/evenement/svr-vakantiebeurs-bij-de-boer/
LOCATION:Evenementenhal Gorinchem\, Gorinchem\, Nederland
ATTACH;FMTTYPE=image/jpeg:https://pretwerk.nl/wp-content/uploads/Sticker_SVRjpeg.jpg
END:VEVENT
BEGIN:VEVENT
DTSTART;TZID=Europe/Amsterdam:20250124T000000
DTEND;TZID=Europe/Amsterdam:20250126T235959
DTSTAMP:20260421T075151
CREATED:20241129T131901Z
LAST-MODIFIED:20241129T132109Z
UID:90665-1737676800-1737935999@pretwerk.nl
SUMMARY:Vakantie Expo Antwerpen
DESCRIPTION:Vakantiebeurs voor consumenten met diverse segmenten.
URL:https://pretwerk.nl/evenement/vakantie-expo-antwerpen-4/
LOCATION:Antwerp Expo\, Antwerpen\, België
CATEGORIES:Publieksbeurs
ATTACH;FMTTYPE=image/jpeg:https://pretwerk.nl/wp-content/uploads/2024/11/logo-vakantie-expo-antwerpen.jpg
END:VEVENT
BEGIN:VEVENT
DTSTART;TZID=Europe/Amsterdam:20250123T100000
DTEND;TZID=Europe/Amsterdam:20250123T113000
DTSTAMP:20260421T075151
CREATED:20241217T133618Z
LAST-MODIFIED:20241217T134957Z
UID:90991-1737626400-1737631800@pretwerk.nl
SUMMARY:Webinar: Kennis en onderzoek over recreatief fietsen
DESCRIPTION:CROW-Fietsberaad en Stichting Landelijk Fietsplatform organiseren een online kenniscafé Kennis en onderzoek over recreatief fietsen.Tijdens het kenniscafé nemen Eric Nijland en Monica Wagenaar van Fietsplatform je mee in: \n\n\n\n\nSpecifieke onderzoeksinitiatieven van Fietsplatform.\n\n\n\nDe belangrijkste cijfers en inzichten uit de Landelijke Kennisrapportage Recreatief Fietsen;\n\n\n\nOntwikkelingen in landelijk onderzoek binnen de vrijetijdssector en het recreatieve fietsen;\n\n\n\nDe plannen van Fietsplatform voor 2025 en verder;
URL:https://pretwerk.nl/evenement/webinar-kennis-en-onderzoek-over-recreatief-fietsen/
LOCATION:online
CATEGORIES:webinar
ATTACH;FMTTYPE=image/jpeg:https://pretwerk.nl/wp-content/uploads/2024/12/logo-fietsberaad-crow.jpg
END:VEVENT
BEGIN:VEVENT
DTSTART;TZID=Europe/Amsterdam:20250122T000000
DTEND;TZID=Europe/Amsterdam:20250126T235959
DTSTAMP:20260421T075151
CREATED:20241128T150736Z
LAST-MODIFIED:20241128T150738Z
UID:90643-1737504000-1737935999@pretwerk.nl
SUMMARY:Fitur
DESCRIPTION:Grote internationale vakbeurs met uitgebreid kennisprogramma\, met extra aandacht voor de Spaanstalige markt. Segmenten die afzonderlijk aan bod komen: Cruises\, taalreizen\, LGBT+\, filmlocaties\, vrouwenvakanties\, know how & export\, toegankelijkheid\, sport\, recruitment en technologie.
URL:https://pretwerk.nl/evenement/fitur-2/
LOCATION:Ifema\, Madrid\, Spanje
CATEGORIES:Internationaal,Vakbeurs
ATTACH;FMTTYPE=image/jpeg:https://pretwerk.nl/wp-content/uploads/2023/11/fitur.jpg
END:VEVENT
BEGIN:VEVENT
DTSTART;TZID=Europe/Amsterdam:20250117T100000
DTEND;TZID=Europe/Amsterdam:20250126T180000
DTSTAMP:20260421T075151
CREATED:20241122T093515Z
LAST-MODIFIED:20241122T100508Z
UID:90523-1737108000-1737914400@pretwerk.nl
SUMMARY:CMT - The Holiday Exhibition
DESCRIPTION:Een hele grote vakantiebeurs in Stuttgart (Du). In 2024 trok de beurs 234.000 bezoekers. Duitsland is voor de Nederlandse recreatiesector nog altijd de belangrijkste herkomstmarkt; en er zijn hier dan ook vele Nederlandse aanbieders vertegenwoordigd. De kampeersector neemt hier een belangrijke positie in. Ook is er een uitgebreid programma voor trade visitors (33.000 in 2024)\, .
URL:https://pretwerk.nl/evenement/cmt-the-holiday-exhibition/
LOCATION:Messe Stuttgart\, Stuttgart\, Duitsland
CATEGORIES:Congres,Publieksbeurs
ATTACH;FMTTYPE=image/jpeg:https://pretwerk.nl/wp-content/uploads/2024/01/cmt-urlaubsmesse.jpg
END:VEVENT
BEGIN:VEVENT
DTSTART;TZID=Europe/Amsterdam:20250118T100000
DTEND;TZID=Europe/Amsterdam:20250119T180000
DTSTAMP:20260421T075151
CREATED:20250115T124829Z
LAST-MODIFIED:20250115T124831Z
UID:91452-1737194400-1737309600@pretwerk.nl
SUMMARY:Camperbeurs
DESCRIPTION:Een regionale beurs voor camperliefhebbers met materialen en lezingen.
URL:https://pretwerk.nl/evenement/camperbeurs/
LOCATION:Autotron\, Rosmalen\, Netherlands
CATEGORIES:Publieksbeurs
ATTACH;FMTTYPE=image/png:https://pretwerk.nl/wp-content/uploads/2025/01/camperbeurs.png
END:VEVENT
BEGIN:VEVENT
DTSTART;TZID=Europe/Amsterdam:20250117T100000
DTEND;TZID=Europe/Amsterdam:20250119T180000
DTSTAMP:20260421T075151
CREATED:20241230T141017Z
LAST-MODIFIED:20241231T125420Z
UID:91156-1737108000-1737309600@pretwerk.nl
SUMMARY:Velofollies
DESCRIPTION:Een bezoek aan Velofollies is een must voor iedereen die fietst\, van gepassionneerde wielertoerist tot recreatieve fietser. Er is ook een sectie voor fietsreizen. Naast het uitgebreide en gevarieerde totaalaanbod bij de exposanten is Velofollies ook 3 dagen totaalbeleving. Zo zijn er boeiende workshops\, infosessies en gevarieerde presentaties over de meest uiteenlopende fiets topics.
URL:https://pretwerk.nl/evenement/velofollies-2/
LOCATION:Kortrijk Xpo\, Kortrijk\, België
CATEGORIES:Publieksbeurs
ATTACH;FMTTYPE=image/jpeg:https://pretwerk.nl/wp-content/uploads/2024/12/velofollies2.jpg
END:VEVENT
BEGIN:VEVENT
DTSTART;TZID=Europe/Amsterdam:20250116T120000
DTEND;TZID=Europe/Amsterdam:20250119T200000
DTSTAMP:20260421T075151
CREATED:20241217T153120Z
LAST-MODIFIED:20241217T153147Z
UID:91007-1737028800-1737316800@pretwerk.nl
SUMMARY:Sim Formula Europe
DESCRIPTION:Event voor all liefhebbers (vrije tijd en professioneel)  van simulatoren. Er worden wedstrijden gehouden tussen simracers en er zijn demonstraties van de nieuwste simulatoren; ook voor de recreatiesector.
URL:https://pretwerk.nl/evenement/sim-formula-europe/
LOCATION:Mecc Maastricht\, Maastricht
CATEGORIES:Publieksbeurs,Vakbeurs
ATTACH;FMTTYPE=image/jpeg:https://pretwerk.nl/wp-content/uploads/2024/12/sim-formula-europe.jpg
END:VEVENT
BEGIN:VEVENT
DTSTART;TZID=Europe/Amsterdam:20250115T100000
DTEND;TZID=Europe/Amsterdam:20250116T180000
DTSTAMP:20260421T075151
CREATED:20241231T114002Z
LAST-MODIFIED:20241231T125229Z
UID:91181-1736935200-1737050400@pretwerk.nl
SUMMARY:Blooloop Festival of Innovation (online)
DESCRIPTION:Online congres waarin diverse onderwerpen aan bod komen op het gebied van trends en innovatie in dagrecreatie. (o.a. attractieparken\, waterparken\, musea en visitor centres) In tijdsblokken van een uur worden er telkens nieuwe onderwerpen aangesneden. De voertaal is Engels. Je kunt van tevoren uitzoeken welke onderwerpen relevant zijn voor jouw business en daar op aanhaken. Organisatie is in handen van Blooloop\, een toonaangevend internationaal online platform voor de attractie-industrie.
URL:https://pretwerk.nl/evenement/blooloop-festival-of-innovation-online-2/
LOCATION:online
CATEGORIES:webinar
ATTACH;FMTTYPE=image/png:https://pretwerk.nl/wp-content/uploads/2024/12/blooloop-innovation-festival.png
END:VEVENT
BEGIN:VEVENT
DTSTART;TZID=Europe/Amsterdam:20250113T100000
DTEND;TZID=Europe/Amsterdam:20250116T180000
DTSTAMP:20260421T075151
CREATED:20241119T123456Z
LAST-MODIFIED:20241223T145319Z
UID:90454-1736762400-1737050400@pretwerk.nl
SUMMARY:Horecava
DESCRIPTION:Grootste Nederlandse vakbeurs voor de horecasector met de nadruk op F&B. Naast een groot aantal standhouders is er ook een uitgebreid kennisprogramma. Het belang van F&B voor de recreatiesector is duidelijk. Het is vaak het tweede verdienmodel van een onderneming. (na ticketing of overnachting). Donderdag 16 januari is er een symposium ‘Art & Leisure’. Neem zeker een kijkje in het Trendlab dat dit jaar in het teken staan van FoodFlex; “Maximaal flexibel zijn om nieuwe uitdagingen aan te gaan en aantrekkelijk te blijven voor je gasten.”
URL:https://pretwerk.nl/evenement/horecava-2/
LOCATION:RAI\, Amsterdam
CATEGORIES:Vakbeurs
ATTACH;FMTTYPE=image/png:https://pretwerk.nl/wp-content/uploads/2024/11/horecava-banner.png
END:VEVENT
BEGIN:VEVENT
DTSTART;TZID=Europe/Amsterdam:20250109T100000
DTEND;TZID=Europe/Amsterdam:20250109T160000
DTSTAMP:20260421T075151
CREATED:20241120T112457Z
LAST-MODIFIED:20241120T112459Z
UID:90501-1736416800-1736438400@pretwerk.nl
SUMMARY:Gezondheid en Vitaliteit met Natuur
DESCRIPTION:Gezondheid en Vitaliteit met Natuur; Nationale Parken als katalysator. Het spoor van ‘natuur en gezondheid’ is er ook één om de verbinding van het nationaal park met de omgeving en de samenleving te versterken. Tijdens deze dag worden naast de presentatie van de Handreiking ook diverse best practices gedeeld en met elkaar van gedachten gewisseld hoe je aan deze bredere verbinding wat betreft gezondheid vorm en inhoud kunt geven.
URL:https://pretwerk.nl/evenement/gezondheid-en-vitaliteit-met-natuur/
LOCATION:Midden Nederland\, Netherlands
CATEGORIES:Congres
ATTACH;FMTTYPE=image/jpeg:https://pretwerk.nl/wp-content/uploads/2024/11/Programmabureau-Natuurinclusief.jpg
END:VEVENT
BEGIN:VEVENT
DTSTART;TZID=Europe/Amsterdam:20250109T093000
DTEND;TZID=Europe/Amsterdam:20250112T170000
DTSTAMP:20260421T075151
CREATED:20241119T121718Z
LAST-MODIFIED:20241119T121719Z
UID:90449-1736415000-1736701200@pretwerk.nl
SUMMARY:Vakantiebeurs
DESCRIPTION:De Jaarlijkse Vakantiebeurs voor consumenten in Utrecht. Een overzicht van (vooral buitenlandse) bestemmingen voor vakanties. Op 8 en 9 januari vindt het b2b event Travel Trade Days (voorheen Vakdag Vakantiebeurs) plaats. Daarover hebben we een separaat agenda item gemaakt.
URL:https://pretwerk.nl/evenement/vakantiebeurs-3/
LOCATION:Jaarbeurs Utrecht
CATEGORIES:Publieksbeurs
ATTACH;FMTTYPE=image/jpeg:https://pretwerk.nl/wp-content/uploads/vakantiebeurs-logo.jpg
END:VEVENT
BEGIN:VEVENT
DTSTART;TZID=Europe/Amsterdam:20250108T100000
DTEND;TZID=Europe/Amsterdam:20250109T170000
DTSTAMP:20260421T075151
CREATED:20241119T122352Z
LAST-MODIFIED:20241231T125343Z
UID:90451-1736330400-1736442000@pretwerk.nl
SUMMARY:Travel Trade Days
DESCRIPTION:“Ontdek reistrends en netwerk met professionals uit de reisbranche.” Voorheen ging dit event door het leven als de Vakantiebeurs Vakdag. Het NBTC publiceert op deze dag altijd de uitkomsten uit het onderzoek ‘Vakantieplannen van Nederlanders’. Nieuw in 2025: Tijdens de tweede editie van Dutch Travel Week in 2025 vindt er een gloednieuw evenement plaats dat helemaal draait om de digitalisering van de reisindustrie: Travel & Tech.
URL:https://pretwerk.nl/evenement/travel-trade-days/
LOCATION:Jaarbeurs Utrecht
CATEGORIES:Congres
ATTACH;FMTTYPE=image/jpeg:https://pretwerk.nl/wp-content/uploads/2023/11/travel-trade-day.jpg
END:VEVENT
BEGIN:VEVENT
DTSTART;TZID=Europe/Amsterdam:20241211T000000
DTEND;TZID=Europe/Amsterdam:20241211T235959
DTSTAMP:20260421T075151
CREATED:20241002T121955Z
LAST-MODIFIED:20241030T093224Z
UID:89555-1733875200-1733961599@pretwerk.nl
SUMMARY:Dag van de Recreatie
DESCRIPTION:Jaarlijkse ontmoetingsdag over werkgever- en werknemerschap in de recreatiesector\, georganiseerd door Kikk recreatie met ondersteuning door FNV Recreatie en HISWA-RECRON
URL:https://pretwerk.nl/evenement/dag-van-de-recreatie/
LOCATION:Circuit Zandvoort\, Zandvoort\, Netherlands
ATTACH;FMTTYPE=image/jpeg:https://pretwerk.nl/wp-content/uploads/2024/10/dag-van-de-recreatie.jpg
END:VEVENT
BEGIN:VEVENT
DTSTART;TZID=Europe/Amsterdam:20241210T090000
DTEND;TZID=Europe/Amsterdam:20241210T190000
DTSTAMP:20260421T075151
CREATED:20241014T093846Z
LAST-MODIFIED:20241030T093243Z
UID:89747-1733821200-1733857200@pretwerk.nl
SUMMARY:Vakdag Family Entertainment Centers
DESCRIPTION:Deze kennisdag is opgebouwd rondom twee succesvolle Belgische Multi Entertainment Centra. De eerste is Sparkx\, waar sportieve activiteiten centraal staan. De tweede locatie is O’Learys in Gent\, dat een mooie mix heeft gemaakt van sportsbar en diverse spelvormen. De kennisdag wordt verder aangevuld met diverse presentaties van innovatieve activiteiten en businessmodellen voor FEC’s.
URL:https://pretwerk.nl/evenement/vakdag-family-entertainment-centers/
LOCATION:O’Leirys Gent\, Gent\, Belgium
CATEGORIES:Congres
ATTACH;FMTTYPE=image/jpeg:https://pretwerk.nl/wp-content/uploads/OLearys-Trend-Tour-Fun-Food-Eventcenter.jpg
END:VEVENT
BEGIN:VEVENT
DTSTART;TZID=Europe/Amsterdam:20241206T130000
DTEND;TZID=Europe/Amsterdam:20241206T170000
DTSTAMP:20260421T075151
CREATED:20241115T142534Z
LAST-MODIFIED:20241115T142535Z
UID:90413-1733490000-1733504400@pretwerk.nl
SUMMARY:Agrarisch landschap en erfgoed in transitie
DESCRIPTION:Door verduurzaming van de landbouw en herbestemming van agrarisch erfgoed\, zowel van de gebouwen als van de erven en het omliggende land\, ontstaat een nieuwe plattelandseconomie. Dit maakt\, naast bestaande\, eveneens nieuwe functies en grondgebruik mogelijk.
URL:https://pretwerk.nl/evenement/agrarisch-landschap-en-erfgoed-in-transitie/
LOCATION:RCE\, Amersfoort\, Netherlands
CATEGORIES:Congres
ATTACH;FMTTYPE=image/jpeg:https://pretwerk.nl/wp-content/uploads/molen-zuid-holland.jpg
END:VEVENT
BEGIN:VEVENT
DTSTART;TZID=Europe/Amsterdam:20241206T090000
DTEND;TZID=Europe/Amsterdam:20241206T160000
DTSTAMP:20260421T075151
CREATED:20241011T092947Z
LAST-MODIFIED:20241030T093259Z
UID:89712-1733475600-1733500800@pretwerk.nl
SUMMARY:Congres Gastvrije Randmeren
DESCRIPTION:Op 6 december 2024 vieren de 15 gemeenten van de gebiedscoöperatie Gastvrije Randmeren 10 jaar samenwerking met het Jubileumcongres ‘Samen de toekomst in’. 
URL:https://pretwerk.nl/evenement/congres-gastvrije-randmeren/
LOCATION:Congrescentrum B&I\, Harderwijk\, Netherlands
CATEGORIES:Congres
ATTACH;FMTTYPE=image/jpeg:https://pretwerk.nl/wp-content/uploads/2024/10/gastvrije-randmeren.jpg
END:VEVENT
BEGIN:VEVENT
DTSTART;TZID=Europe/Amsterdam:20241204T000000
DTEND;TZID=Europe/Amsterdam:20241206T235959
DTSTAMP:20260421T075151
CREATED:20240628T145943Z
LAST-MODIFIED:20241030T093320Z
UID:88345-1733270400-1733529599@pretwerk.nl
SUMMARY:Immersive Tech Week
DESCRIPTION:Drie dagen lang kennis en inspiratie over nieuwe technologieën. Er worden deze dagen diverse demonstraties georganiseerd en op de congressen krijg je duiding van de trends. Ook de recreatiesector ondergaat veranderingen onder invloed van nieuwe technologieën. Afgelopen jaren zagen we bijvoorbeeld de opkomst van VR\, AR\, XR\, de Metaverse\, en de internet of things. Wat kunnen we de komende jaren nog verwachten?
URL:https://pretwerk.nl/evenement/imersive-tech-week/
LOCATION:Rotterdam
CATEGORIES:Congres
ATTACH;FMTTYPE=image/jpeg:https://pretwerk.nl/wp-content/uploads/immersive-tech-week.jpg
END:VEVENT
BEGIN:VEVENT
DTSTART;TZID=Europe/Amsterdam:20241128T130000
DTEND;TZID=Europe/Amsterdam:20241128T170000
DTSTAMP:20260421T075151
CREATED:20241014T094557Z
LAST-MODIFIED:20241030T093336Z
UID:89751-1732798800-1732813200@pretwerk.nl
SUMMARY:Toeristische Ontmoetingsdag Zeeuwse vrijetijdssector
DESCRIPTION:Dit jaar staat ‘De gast van de toekomst’ centraal. Wie zijn deze gasten? En hoe kun jij jouw bedrijf optimaal voorbereiden op hun komst? Met als Keynote spreker trendanalyst en veranderpsycholoog Herman Konings. Hij staat bekend om zijn verhalen die je meenemen in de wereld van trends\, passies en toekomstverwachtingen.
URL:https://pretwerk.nl/evenement/toeristische-ontmoetingsdag-zeeuwse-vrijetijdssector/
LOCATION:Lasloods\, Vlissingen\, Netherlands
CATEGORIES:Congres
ATTACH;FMTTYPE=image/jpeg:https://pretwerk.nl/wp-content/uploads/2024/10/toeristische-ontmoetingsdag-zeeland.jpg
END:VEVENT
BEGIN:VEVENT
DTSTART;TZID=Europe/Amsterdam:20241128T090000
DTEND;TZID=Europe/Amsterdam:20241128T160000
DTSTAMP:20260421T075151
CREATED:20241003T124059Z
LAST-MODIFIED:20241030T093349Z
UID:89573-1732784400-1732809600@pretwerk.nl
SUMMARY:Congres Natuurlijk; natuurinclusief bouwen
DESCRIPTION:Voor de 2024-editie van Congres Natuurlijk wordt extra nadruk gelegd op sociale kansen van natuur.  Natuur kan op haar eigen manier een bijzondere bijdrage kan leveren aan het verminderen van ongelijkheid\, bevorderen van gezondheid\, versterken van de sociale cohesie\, het leggen van verbindingen\, het gevoel aan mensen te geven echt mee te doen en eenzaamheid tegen te gaan.
URL:https://pretwerk.nl/evenement/congres-natuurlijk-natuurinclusief-bouwen/
LOCATION:provinciehuis Overijssel\, Zwolle\, Netherlands
CATEGORIES:Congres
ATTACH;FMTTYPE=image/jpeg:https://pretwerk.nl/wp-content/uploads/2024/10/congres-natuurlijk.jpg
END:VEVENT
BEGIN:VEVENT
DTSTART;TZID=Europe/Amsterdam:20241126T183000
DTEND;TZID=Europe/Amsterdam:20241126T220000
DTSTAMP:20260421T075151
CREATED:20241122T102727Z
LAST-MODIFIED:20241122T102809Z
UID:90529-1732645800-1732658400@pretwerk.nl
SUMMARY:De kracht van ons Groninger ambassadeurschap
DESCRIPTION:Inspiratiesessie ‘’De kracht van ons Groninger ambassadeurschap.’’ Tijdens deze bijeenkomst\, georganiseerd door Programma Vrijetijdseconomie en Marketing Eemsdelta\, staat het belang van het Groninger ambassadeurschap centraal. Hoe kunnen vrijetijdsondernemers samen het verhaal van Groningen krachtiger vertellen en meer bezoekers laten ervaren wat de regio bijzonder maakt? Gastspreker Marcel Hensema neemt het publiek mee in zijn persoonlijke verhaal ‘Puur Groningen’.
URL:https://pretwerk.nl/evenement/de-kracht-van-ons-groninger-ambassadeurschap/
LOCATION:Oosterwijtwerd\, Oosterwijtwerd\, Netherlands
CATEGORIES:Congres
ATTACH;FMTTYPE=image/jpeg:https://pretwerk.nl/wp-content/uploads/2024/11/vrijetijdseconomie-groningen.jpg
END:VEVENT
BEGIN:VEVENT
DTSTART;TZID=Europe/Amsterdam:20241126T083000
DTEND;TZID=Europe/Amsterdam:20241128T190000
DTSTAMP:20260421T075151
CREATED:20240829T102320Z
LAST-MODIFIED:20241030T093409Z
UID:89157-1732609800-1732820400@pretwerk.nl
SUMMARY:LeisurUp
DESCRIPTION:LeisurUp is verbonden aan de grootste Europese vastgoedbeurs Mapic en zoomt in op leisure-gerelateerde ontwikkelingen in o.a. winkelgebieden en vastgoedprojecten. Naast een uitgebreide beursvloer zijn er ook volop kennisbijeenkomsten waar de relatie tussen leisure en retail wordt belicht.
URL:https://pretwerk.nl/evenement/leisurup-2/
LOCATION:Cannes (Frankrijk)
CATEGORIES:Internationaal,Vakbeurs
ATTACH;FMTTYPE=image/png:https://pretwerk.nl/wp-content/uploads/leisurup-by-mapic-logo-370x125-1.png
END:VEVENT
BEGIN:VEVENT
DTSTART;TZID=Europe/Amsterdam:20241119T100000
DTEND;TZID=Europe/Amsterdam:20241122T170000
DTSTAMP:20260421T075151
CREATED:20241107T132208Z
LAST-MODIFIED:20241107T132210Z
UID:90243-1732010400-1732294800@pretwerk.nl
SUMMARY:Piscine Global
DESCRIPTION:Europese vakbeurs voor de zwembad en wellness sector. Er wordt veel aandacht besteed aan de uitdagingen waar de branche voor staat: watermanagement\, renovaties\, duurzaamheid & energie\, personeel en digitalisering.
URL:https://pretwerk.nl/evenement/piscine-global/
LOCATION:Eurexpo\, Lyon\, France
CATEGORIES:Internationaal,Vakbeurs
ATTACH;FMTTYPE=image/jpeg:https://pretwerk.nl/wp-content/uploads/2024/11/logo-piscine-global.jpg
END:VEVENT
BEGIN:VEVENT
DTSTART;TZID=Europe/Amsterdam:20241119T000000
DTEND;TZID=Europe/Amsterdam:20241121T235959
DTSTAMP:20260421T075151
CREATED:20240628T150639Z
LAST-MODIFIED:20241030T093434Z
UID:88349-1731974400-1732233599@pretwerk.nl
SUMMARY:IAAPA Expo Orlando
DESCRIPTION:De grootste en toonaangevende attractievakbeurs ter wereld vind jaarlijks plaats in Orlando (Florida – VS). Op de beursvloer vind je o.a. nieuwe attracties en in het kennisprogramma wordt je bijgepraat over de laatste trends. in de omgeving rond deze vakbeurs vindt je diverse mooie attractieparken en waterparken van o.a. Disney\, Universal en Six Flags. Combineer een trip dan ook vooral met een parkbezoek.
URL:https://pretwerk.nl/evenement/iaapa-expo-orlando-2/
LOCATION:Orlando\, Florida (VS)\, Orlando\, florida\, Verenigde Staten
CATEGORIES:Internationaal,Vakbeurs
ATTACH;FMTTYPE=image/jpeg:https://pretwerk.nl/wp-content/uploads/2024/06/iaapa-expo.jpg
END:VEVENT
BEGIN:VEVENT
DTSTART;TZID=Europe/Amsterdam:20241114T100000
DTEND;TZID=Europe/Amsterdam:20241114T220000
DTSTAMP:20260421T075151
CREATED:20241018T091040Z
LAST-MODIFIED:20241030T093509Z
UID:89836-1731578400-1731621600@pretwerk.nl
SUMMARY:Museumcongres
DESCRIPTION:Jaarlijkse kennisbijeenkomst voor de Nederlandse museumsector. Dit jaar speciaal aandacht voor de rol van ‘verbinding’ in musea. Daarnaast worden er diverse prijzen uitgereikt voor bijzondere prestaties in de museumwereld.
URL:https://pretwerk.nl/evenement/museumcongres-3/
LOCATION:Musis Sacrum\, Arnhem\, Netherlands
CATEGORIES:Congres
ATTACH;FMTTYPE=image/jpeg:https://pretwerk.nl/wp-content/uploads/2024/10/museumcongres2.jpg
END:VEVENT
END:VCALENDAR