BEGIN:VCALENDAR
VERSION:2.0
PRODID:-//Pretwerk - ECPv6.6.3//NONSGML v1.0//EN
CALSCALE:GREGORIAN
METHOD:PUBLISH
X-WR-CALNAME:Pretwerk
X-ORIGINAL-URL:https://pretwerk.nl
X-WR-CALDESC:Evenementen voor Pretwerk
REFRESH-INTERVAL;VALUE=DURATION:PT1H
X-Robots-Tag:noindex
X-PUBLISHED-TTL:PT1H
BEGIN:VTIMEZONE
TZID:Europe/Amsterdam
BEGIN:DAYLIGHT
TZOFFSETFROM:+0100
TZOFFSETTO:+0200
TZNAME:CEST
DTSTART:20260329T010000
END:DAYLIGHT
BEGIN:STANDARD
TZOFFSETFROM:+0200
TZOFFSETTO:+0100
TZNAME:CET
DTSTART:20261025T010000
END:STANDARD
END:VTIMEZONE
BEGIN:VEVENT
DTSTART;TZID=Europe/Amsterdam:20260422T100000
DTEND;TZID=Europe/Amsterdam:20260423T170000
DTSTAMP:20260421T070755
CREATED:20260224T104722Z
LAST-MODIFIED:20260318T123856Z
UID:98673-1776852000-1776963600@pretwerk.nl
SUMMARY:Independent Hotel Show
DESCRIPTION:Een b2b event voor de sector van luxe en boutique hotels en accommodaties. Het is een combinatie van een vakbeurs met ruim 200 standhouders en een congresprogramma\, waarin actuele topics voor de sector hospitality worden besproken.
URL:https://pretwerk.nl/evenement/independent-hotel-show-4/
LOCATION:RAI Amsterdam\, Amsterdam\, Nederland
CATEGORIES:Congres,Vakbeurs
ATTACH;FMTTYPE=image/jpeg:https://pretwerk.nl/wp-content/uploads/2023/11/independent-hotel-show.jpg
END:VEVENT
BEGIN:VEVENT
DTSTART;TZID=Europe/Amsterdam:20260414T140000
DTEND;TZID=Europe/Amsterdam:20260414T190000
DTSTAMP:20260421T070755
CREATED:20251110T105818Z
LAST-MODIFIED:20260121T195907Z
UID:96739-1776175200-1776193200@pretwerk.nl
SUMMARY:Cursus Toolbox GPT voor de Recreatiemarketeer
DESCRIPTION:Kunstmatige intelligentie heeft ook de recreatiemarkt bereikt. Met de AI-Toolbox van Pleisureworld.nl krijgen recreatiemarketeers praktische handvatten om dát te doen waar hun hart ligt: hun creativiteit gebruiken. “Laat AI de repetitieve rest maar doen\,” zegt initiatiefnemer Hans van Leeuwen. \n\n\n\nSamen met Harold Stemkens (Libelnet) en Martin van Kranenburg (ChatGPT als tweede brein) ontwikkelde hij een zelf samen te stellen digitale gereedschapskist: de AI-Toolbox. Hierin vind je concrete GPT-prompts en instellingen die passen bij jouw organisatie – met de juiste tone of voice en kennis van de recreatiesector.
URL:https://pretwerk.nl/evenement/cursus-toolbox-gpt-voor-de-recreatiemarketeer/
LOCATION:Droom\, Elst\, Netherlands
CATEGORIES:Cursus
ATTACH;FMTTYPE=image/jpeg:https://pretwerk.nl/wp-content/uploads/2025/11/pleisureworld.jpg
END:VEVENT
BEGIN:VEVENT
DTSTART;TZID=Europe/Amsterdam:20260402T000000
DTEND;TZID=Europe/Amsterdam:20260402T235959
DTSTAMP:20260421T070755
CREATED:20260126T134405Z
LAST-MODIFIED:20260204T125502Z
UID:98168-1775088000-1775174399@pretwerk.nl
SUMMARY:Trendcongres Toerisme 2026
DESCRIPTION:Jaarlijks trendcongres – en ontmoetplek voor studenten\, bedrijven\, en stakeholders in het Nederlandse landschap van recreatie en toerisme. Het thema is ‘Ruimte voor Verbeelding’\, fysieke ruimte maar ook de ruimte voor innovatie\, onderzoek en best practices.
URL:https://pretwerk.nl/evenement/trendcongres-toerisme-2026/
LOCATION:Saxion Hogeschool Deventer\, Deventer\, Netherlands
CATEGORIES:Congres
ATTACH;FMTTYPE=image/jpeg:https://pretwerk.nl/wp-content/uploads/2026/01/nrit-trendcongres-ruimte-voor-verbeelding.jpg
END:VEVENT
BEGIN:VEVENT
DTSTART;TZID=Europe/Amsterdam:20260331T093000
DTEND;TZID=Europe/Amsterdam:20260331T133000
DTSTAMP:20260421T070755
CREATED:20260217T095220Z
LAST-MODIFIED:20260223T141112Z
UID:98573-1774949400-1774963800@pretwerk.nl
SUMMARY:Unwind – The Leisure & Hospitality Experience
DESCRIPTION:In leisure draait alles om één ding: een onvergetelijke beleving creëren. Maar hoe blijf je verrassen in een markt die continu in beweging is? Hoe maak je jouw locatie future-proof zónder in te leveren op kwaliteit of rendement? Dat ontdek je tijdens Unwind – hét zintuiglijke B2B-event waar je in één ochtend ziet\, voelt en ervaart hoe de toekomst van leisure\, entertainment en hospitality eruitziet. \n\n\n\nAanmelden is wel verplicht via de landingspagina op de website
URL:https://pretwerk.nl/evenement/unwind-the-leisure-hospitality-experience/
LOCATION:Inspirium\, Breda\, Netherlands
CATEGORIES:Congres
ATTACH;FMTTYPE=image/jpeg:https://pretwerk.nl/wp-content/uploads/2026/02/inspirium.jpg
END:VEVENT
BEGIN:VEVENT
DTSTART;TZID=Europe/Amsterdam:20260330T110000
DTEND;TZID=Europe/Amsterdam:20260331T180000
DTSTAMP:20260421T070755
CREATED:20260224T105611Z
LAST-MODIFIED:20260224T105613Z
UID:98675-1774868400-1774980000@pretwerk.nl
SUMMARY:Noord-Hollandse horecabeurs
DESCRIPTION:Horecaprofessionals uit regio Noord-Holland zijn op 30 en 31 maart weer van harte welkom op de Noord-Hollandse Horecabeurs. Dit evenement is de ontmoetingsplaats waar vakmanschap en culinaire trends samenkomen.
URL:https://pretwerk.nl/evenement/noord-hollandse-horecabeurs-2/
LOCATION:AFAS Stadion\, Alkmaar\, Nederland
CATEGORIES:Netwerkbijeenkomst,Vakbeurs
ATTACH;FMTTYPE=image/jpeg:https://pretwerk.nl/wp-content/uploads/2026/02/nhh-beurs.jpg
END:VEVENT
BEGIN:VEVENT
DTSTART;TZID=Europe/Amsterdam:20260330T000000
DTEND;TZID=Europe/Amsterdam:20260331T235959
DTSTAMP:20260421T070755
CREATED:20251210T140124Z
LAST-MODIFIED:20260318T123707Z
UID:97476-1774828800-1775001599@pretwerk.nl
SUMMARY:2-Daagse Glamping Inspiratie Tour
DESCRIPTION:Tijdens deze 2 daagse busreis krijgen recreatieondernemers\, projectontwikkelaars\, investeerders en ontwerpers een actueel en breed beeld van de ontwikkeling van glamping en outdoor hospitality. De groep bezoekt twaalf uiteenlopende locaties in Nederland en ziet hoe natuur\, conceptontwikkeling\, accommodatievormen\, horeca\, techniek en businessmodellen elkaar beïnvloeden.
URL:https://pretwerk.nl/evenement/2-daagse-glamping-inspiratie-tour/
CATEGORIES:studiereis
ATTACH;FMTTYPE=image/jpeg:https://pretwerk.nl/wp-content/uploads/cabin-anna.jpg
END:VEVENT
BEGIN:VEVENT
DTSTART;TZID=Europe/Amsterdam:20260328T000000
DTEND;TZID=Europe/Amsterdam:20260328T235959
DTSTAMP:20260421T070755
CREATED:20260324T112814Z
LAST-MODIFIED:20260324T112816Z
UID:99212-1774656000-1774742399@pretwerk.nl
SUMMARY:Open Camping Dag (Nederland)
DESCRIPTION:Tijdens Open Camping Dag vieren we landelijk de start van het kampeerseizoen. Maak kennis met de leukste campings en laat de kampeervoorpret beginnen!
URL:https://pretwerk.nl/evenement/open-camping-dag-nederland/
CATEGORIES:Publieksbeurs
ATTACH;FMTTYPE=image/jpeg:https://pretwerk.nl/wp-content/uploads/2026/03/logo-open-camping-dag-150x150-1.jpg
END:VEVENT
BEGIN:VEVENT
DTSTART;TZID=Europe/Amsterdam:20260327T100000
DTEND;TZID=Europe/Amsterdam:20260329T170000
DTSTAMP:20260421T070755
CREATED:20260224T130656Z
LAST-MODIFIED:20260224T135057Z
UID:98686-1774605600-1774803600@pretwerk.nl
SUMMARY:Second Home beurs
DESCRIPTION:Publieksbeurs voor de verkoop van vakantiewoningen. Ook de Nederlandse markt voor vakantieparken is meestal goed vertegenwoordigd. Het is vaak ook een plek waar de b2b sector elkaar ontmoet (netwerken). Voor het publiek zijn er diverse kennissessies over de aanschaf van een vakantiehuis in binnen- en buitenland.
URL:https://pretwerk.nl/evenement/second-home-beurs-11/
LOCATION:Jaarbeurs Utrecht
CATEGORIES:Publieksbeurs
ATTACH;FMTTYPE=image/jpeg:https://pretwerk.nl/wp-content/uploads/2025/12/second-home-beurs.jpg
END:VEVENT
BEGIN:VEVENT
DTSTART;TZID=Europe/Amsterdam:20260325T100000
DTEND;TZID=Europe/Amsterdam:20260325T160000
DTSTAMP:20260421T070755
CREATED:20260324T112533Z
LAST-MODIFIED:20260324T112535Z
UID:99206-1774432800-1774454400@pretwerk.nl
SUMMARY:Praktijkdag buitensportinstructeurs en -ondernemers
DESCRIPTION:Bied jij binnen- of buitensportactiviteiten? Of begeleid je deze activiteiten? Dan is deze praktijkdag speciaal voor jou! Ook voor campings\, vakantieparken en andere recreatiebedrijven die outdooractiviteiten aanbieden is dit een leerzame en leuke dag om aan deel te nemen.
URL:https://pretwerk.nl/evenement/praktijkdag-buitensportinstructeurs-en-ondernemers/
LOCATION:Outdoor Valley\, Bergschenhoek\, Netherlands
CATEGORIES:Cursus,Netwerkbijeenkomst
ATTACH;FMTTYPE=image/jpeg:https://pretwerk.nl/wp-content/uploads/hiswa-recron-logo.jpg
END:VEVENT
BEGIN:VEVENT
DTSTART;TZID=Europe/Amsterdam:20260321T100000
DTEND;TZID=Europe/Amsterdam:20260322T170000
DTSTAMP:20260421T070755
CREATED:20260315T125723Z
LAST-MODIFIED:20260315T125727Z
UID:99032-1774087200-1774198800@pretwerk.nl
SUMMARY:Flightsimweekend
DESCRIPTION:Een ontmoetingsdag voor liefhebbers van vliegsimulatoren. Hier zijn diverse leveranciers van deze producten aanwezig. Simulatoren zijn ook een onderdeel van diverse FECs.
URL:https://pretwerk.nl/evenement/flightsimweekend-2/
LOCATION:Aviodrome\, Lelystad\, Netherlands
CATEGORIES:Netwerkbijeenkomst,Publieksbeurs
ATTACH;FMTTYPE=image/jpeg:https://pretwerk.nl/wp-content/uploads/2026/03/flightsimweekend.jpg
END:VEVENT
BEGIN:VEVENT
DTSTART;TZID=Europe/Amsterdam:20260318T193000
DTEND;TZID=Europe/Amsterdam:20260318T203000
DTSTAMP:20260421T070755
CREATED:20260313T150313Z
LAST-MODIFIED:20260313T150401Z
UID:99028-1773862200-1773865800@pretwerk.nl
SUMMARY:Van chaos naar regie: AI in je dagelijkse ondernemerspraktijk
DESCRIPTION:Webinar over nieuw ontwikkelde AI agents die nuttig zijn voor recreatiebedrijven.
URL:https://pretwerk.nl/evenement/van-chaos-naar-regie-ai-in-je-dagelijkse-ondernemerspraktijk/
LOCATION:online
CATEGORIES:webinar
ATTACH;FMTTYPE=image/png:https://pretwerk.nl/wp-content/uploads/2026/03/AI-agents-voor-recreatiebedrijven-e1769762503572.png
END:VEVENT
BEGIN:VEVENT
DTSTART;TZID=Europe/Amsterdam:20260317T100000
DTEND;TZID=Europe/Amsterdam:20260317T180000
DTSTAMP:20260421T070755
CREATED:20251217T150622Z
LAST-MODIFIED:20260204T125437Z
UID:97608-1773741600-1773770400@pretwerk.nl
SUMMARY:Embrace (powered by Booking Experts)
DESCRIPTION:Embrace 2026\, hét event voor ondernemers\, managers en marketeers uit de recreatiebranche. Een dag vol kennisdeling\, inspiratie en nieuwe ontmoetingen met vakgenoten uit de hele branche. Het thema van dit jaar is: Level Up
URL:https://pretwerk.nl/evenement/embrace-powered-by-booking-experts/
LOCATION:Midden Nederland Hallen\, Barneveld\, Nederland
CATEGORIES:Congres,Netwerkbijeenkomst
ATTACH;FMTTYPE=image/jpeg:https://pretwerk.nl/wp-content/uploads/2024/03/embrace1.jpg
END:VEVENT
BEGIN:VEVENT
DTSTART;TZID=Europe/Amsterdam:20260310T100000
DTEND;TZID=Europe/Amsterdam:20260310T180000
DTSTAMP:20260421T070755
CREATED:20251110T102819Z
LAST-MODIFIED:20260204T124130Z
UID:96734-1773136800-1773165600@pretwerk.nl
SUMMARY:Opendeurdag Experience Factory Antwerpen (FEC)
DESCRIPTION:Meld je aan voor een kijkje achter de schermen bij het grootste FEC – Entertainment center van Europa – met een oppervlakte van bijna 20.000 m2. Daarnaast is er volop aandacht voor de opkomst van Family Entertainment Centers in Europa – en de snel veranderende marktomstandigheden voor dagattracties. (o.a. dankzij AI)
URL:https://pretwerk.nl/evenement/opendeurdag-experience-factory-antwerpen-fec/
LOCATION:Experience Factory Antwerp\, Antwerpen\, Belgium
CATEGORIES:Netwerkbijeenkomst,Vakbeurs
ATTACH;FMTTYPE=image/jpeg:https://pretwerk.nl/wp-content/uploads/2025/11/pleisureworld.jpg
END:VEVENT
BEGIN:VEVENT
DTSTART;TZID=Europe/Amsterdam:20260310T083000
DTEND;TZID=Europe/Amsterdam:20260310T233000
DTSTAMP:20260421T070755
CREATED:20260224T111344Z
LAST-MODIFIED:20260224T111345Z
UID:98679-1773131400-1773185400@pretwerk.nl
SUMMARY:InnovateX: Designing Tomorrow’s Experiences
DESCRIPTION:The Experience Economy Forum will feature a carefully curated programme of impactful sessions\, inspiring presentations\, and valuable networking opportunities. This year’s single-day agenda will explore the ideas\, innovations\, and technologies shaping tomorrow’s experiences\, with sessions focused on design\, storytelling\, sustainability\, and digital transformation.
URL:https://pretwerk.nl/evenement/innovatex-designing-tomorrows-experiences/
LOCATION:The Science Museum\, London\, United Kingdom
CATEGORIES:Congres
ATTACH;FMTTYPE=image/jpeg:https://pretwerk.nl/wp-content/uploads/2026/02/innovateX.jpg
END:VEVENT
BEGIN:VEVENT
DTSTART;TZID=Europe/Amsterdam:20260307T000000
DTEND;TZID=Europe/Amsterdam:20260308T235959
DTSTAMP:20260421T070755
CREATED:20260226T131641Z
LAST-MODIFIED:20260226T131900Z
UID:98750-1772841600-1773014399@pretwerk.nl
SUMMARY:Second Home Expo
DESCRIPTION:Publieksbeurs voor de verkoop van vakantiewoningen – met een internationale insteek. Ook in België en Nederland wordt recreatief vastgoed aangeboden. Naast de vele beursstands is er ook een begeleidend kennisprogramma voor investeerders in vakantiewoningen.
URL:https://pretwerk.nl/evenement/second-home-expo-6/
LOCATION:Antwerp Expo\, Antwerpen\, België
CATEGORIES:Publieksbeurs
ATTACH;FMTTYPE=image/png:https://pretwerk.nl/wp-content/uploads/second-home-expo.png
END:VEVENT
BEGIN:VEVENT
DTSTART;TZID=Europe/Amsterdam:20260305T090000
DTEND;TZID=Europe/Amsterdam:20260305T160000
DTSTAMP:20260421T070755
CREATED:20251204T114919Z
LAST-MODIFIED:20251204T114921Z
UID:97359-1772701200-1772726400@pretwerk.nl
SUMMARY:Vakbeurs Sportaccommodaties
DESCRIPTION:Laat je verrassen door de nieuwste oplossingen voor zowel binnen- als buitensport en andere beweegomgevingen. Sluit aan in lezingenzalen om alle ins- en outs te leren over beheer\, onderhoud en bouw. En kom in contact met vakgenoten die het wiel wellicht al voor je hebben uitgevonden. Van bouw en beheer tot onderhoud en techniek; de beurs omvat alle facetten van de sportinfrastructuur.
URL:https://pretwerk.nl/evenement/vakbeurs-sportaccommodaties-4/
LOCATION:Expo Houten\, Houten\, Nederland
CATEGORIES:Vakbeurs
ATTACH;FMTTYPE=image/jpeg:https://pretwerk.nl/wp-content/uploads/2025/12/vakbeurs-sportaccommodaties.jpg
END:VEVENT
BEGIN:VEVENT
DTSTART;TZID=Europe/Amsterdam:20260303T100000
DTEND;TZID=Europe/Amsterdam:20260305T170000
DTSTAMP:20260421T070755
CREATED:20251119T141035Z
LAST-MODIFIED:20251119T141038Z
UID:97027-1772532000-1772730000@pretwerk.nl
SUMMARY:ITB Berlin
DESCRIPTION:De grootste Internationale Toerisme Vakbeurs ter wereld. Ook vanuit Nederland zijn hier jaarlijks vele vertegenwoordigers te vinden. Het NBTC zegt over de ITB deelname: “Hoogtepunt is de jaarlijkse deelname aan ITB Berlin. ”
URL:https://pretwerk.nl/evenement/itb-berlin-3/
LOCATION:Messe Berlin\, Berlijn\, Duitsland
CATEGORIES:Congres,Netwerkbijeenkomst,Vakbeurs
ATTACH;FMTTYPE=image/jpeg:https://pretwerk.nl/wp-content/uploads/2024/02/itb-nederland.jpg
END:VEVENT
BEGIN:VEVENT
DTSTART;TZID=Europe/Amsterdam:20260228T100000
DTEND;TZID=Europe/Amsterdam:20260301T170000
DTSTAMP:20260421T070755
CREATED:20251230T110209Z
LAST-MODIFIED:20251230T110216Z
UID:97755-1772272800-1772384400@pretwerk.nl
SUMMARY:Fiets en Wandelbeurs België
DESCRIPTION:Ook België heeft een eigen Fiets en Wandelbeurs\, georganiseerd door Hicle / Holcus Buiten. Het is een mooie beurs met een mix van fiets- en wandelmaterialen\, maar ook leuke bestemmingen voor fiets- en wandelvakanties. De beurs trekt een gericht publiek van outdoorliefhebbers.
URL:https://pretwerk.nl/evenement/fiets-en-wandelbeurs-belgie-2/
LOCATION:Flanders Expo\, Gent\, Gent\, België
CATEGORIES:Publieksbeurs
ATTACH;FMTTYPE=image/png:https://pretwerk.nl/wp-content/uploads/logo-fenw.png
END:VEVENT
BEGIN:VEVENT
DTSTART;TZID=Europe/Amsterdam:20260213T100000
DTEND;TZID=Europe/Amsterdam:20260215T150000
DTSTAMP:20260421T070755
CREATED:20251230T080957Z
LAST-MODIFIED:20251230T090854Z
UID:97752-1770976800-1771167600@pretwerk.nl
SUMMARY:Fiets en Wandelbeurs Nederland
DESCRIPTION:Jaarlijkse beurs voor fiets- en wandelliefhebbers georganiseerd door Hicle / Holcus Buiten. Ook veel regio’s weten deze beurs te waarderen en zijn met een stand aanwezig. De aanwezigheid van Benelux vakantiebestemmingen is op deze beurs groter dan op de reguliere Vakantiebeurs. Voorafgaand aan de publieksbeurs is er ook nog de International Bike en Hike Conference (12 februari) voor professioneel betrokkenen bij de buitensport.
URL:https://pretwerk.nl/evenement/fiets-en-wandelbeurs-3/
LOCATION:Jaarbeurs Utrecht
CATEGORIES:Publieksbeurs
ATTACH;FMTTYPE=image/png:https://pretwerk.nl/wp-content/uploads/logo-fenw.png
END:VEVENT
BEGIN:VEVENT
DTSTART;TZID=Europe/Amsterdam:20260212T130000
DTEND;TZID=Europe/Amsterdam:20260212T180000
DTSTAMP:20260421T070755
CREATED:20251119T120418Z
LAST-MODIFIED:20260127T081659Z
UID:97013-1770901200-1770919200@pretwerk.nl
SUMMARY:Dagrecreatie Live
DESCRIPTION:Dagrecreatie Live: het nieuwe ontmoetingspunt voor ondernemers in de dagrecreatie \n\n\n\nNa twee edities van Recreatie Next Level is het op 12 februari in Evenementenhal Gorinchem tijd voor Dagrecreatie Live: een nieuw\, inspirerend en praktijkgericht middagprogramma dat volledig in het teken staat van de dagrecreatie. Een logisch en krachtig verlengstuk van Recreatie Vakbeurs\, speciaal ontwikkeld voor ondernemers en professionals die actief zijn in en/of nauw betrokken zijn bij deze dynamische sector. \n\n\n\nDagrecreatie Live richt zich op specifieke vraagstukken\, kansen en ontwikkelingen binnen de dagrecreatie. Denk aan attracties\, musea\, indoor- en outdoorlocaties\, dierentuinen\, leisureconcepten en andere dagattracties die dagelijks bezoekers willen verrassen met onderscheidende beleving\, gastvrijheid en innovatie. De uitdagingen in deze sector zijn uniek en vragen om een eigen podium. \n\n\n\nHet programma staat volledig in het teken van kennisdeling\, inspiratie en netwerken. Bezoekers krijgen de kans om zich te laten informeren over de laatste trends en ontwikkelingen\, van innovatieve attracties tot vernieuwende gastbelevingen. Daarnaast biedt het evenement volop mogelijkheden om ervaringen uit te wisselen en nieuwe zakelijke connecties te leggen. \n\n\n\nHet hoogtepunt van het programma is de feestelijke uitreiking van het Go-Kids Leukste Uitje van Nederland 2026 – hét moment waarop de meest gewaardeerde dagattracties van Nederland in de schijnwerpers staan! \n\n\n\nDirect ticket reserveren
URL:https://pretwerk.nl/evenement/dagrecreatie-live/
LOCATION:Evenementenhal Gorinchem\, Gorinchem\, Nederland
CATEGORIES:Congres,Netwerkbijeenkomst,Vakbeurs
ATTACH;FMTTYPE=image/jpeg:https://pretwerk.nl/wp-content/uploads/2025/11/dagrecreatie-live.jpg
END:VEVENT
BEGIN:VEVENT
DTSTART;TZID=Europe/Amsterdam:20260212T130000
DTEND;TZID=Europe/Amsterdam:20260212T173000
DTSTAMP:20260421T070755
CREATED:20260126T134950Z
LAST-MODIFIED:20260126T135043Z
UID:98173-1770901200-1770917400@pretwerk.nl
SUMMARY:Kennisupdate Live (Toerisme in Zeeland)
DESCRIPTION:Kennisupdate Live\, het evenement waarop onderzoek\, onderwijs\, ondernemers\, beleidsmakers\, overheden en brancheorganisaties samen kijken naar de toekomst van de vrijetijdssector in Zeeland
URL:https://pretwerk.nl/evenement/kennisupdate-live-toerisme-in-zeeland-2/
LOCATION:HZ University\, Vlissingen\, Netherlands
CATEGORIES:Congres,Netwerkbijeenkomst
ATTACH;FMTTYPE=image/jpeg:https://pretwerk.nl/wp-content/uploads/2025/02/kenniscentrum-kusttoerisme.jpg
END:VEVENT
BEGIN:VEVENT
DTSTART;TZID=Europe/Amsterdam:20260212T000000
DTEND;TZID=Europe/Amsterdam:20260212T235959
DTSTAMP:20260421T070755
CREATED:20251120T123122Z
LAST-MODIFIED:20251120T124121Z
UID:97049-1770854400-1770940799@pretwerk.nl
SUMMARY:IBTC: Rerouting Cycling & Hiking Tourism
DESCRIPTION:De International Bike & hike Tourism Conference (IBTC) heeft in 2026 als thema ‘Rerouting Cycling & Hiking Tourism’. Dit event brengt professionals uit heel Europa samen om na te denken over de toekomst van het fiets- en wandeltoerisme.
URL:https://pretwerk.nl/evenement/ibtc-rerouting-cycling-hiking-tourism/
LOCATION:Domstad vergadercentrum\, Utrecht\, Netherlands
CATEGORIES:Congres
ATTACH;FMTTYPE=image/jpeg:https://pretwerk.nl/wp-content/uploads/2025/11/itbc-fiets-en-wandel-conferentie.jpg
END:VEVENT
BEGIN:VEVENT
DTSTART;TZID=Europe/Amsterdam:20260210T120000
DTEND;TZID=Europe/Amsterdam:20260210T170000
DTSTAMP:20260421T070755
CREATED:20251110T112955Z
LAST-MODIFIED:20251110T112956Z
UID:96749-1770724800-1770742800@pretwerk.nl
SUMMARY:Landschapsontwerp als meerwaarde voor het vakantiepark
DESCRIPTION:Molecaten Park Ginkelduin is onlangs het eerste recreatiebedrijf in Nederland dat het certificaat Natuurinclusief Ondernemen heeft ontvangen. Een passende locatie voor deze kennistafel over landschapsontwerp. Er wordt gekeken naar praktische oplossingen\, maar ook de gevolgen voor de juridische status van je park komt aan bod.
URL:https://pretwerk.nl/evenement/landschapsontwerp-als-meerwaarde-voor-het-vakantiepark/
LOCATION:Molecaten Ginkelduin\, Leersum\, Netherlands
CATEGORIES:Congres,Netwerkbijeenkomst
ATTACH;FMTTYPE=image/png:https://pretwerk.nl/wp-content/uploads/2024/11/banner-Vakantiehuis-van-de-toekomst.png
END:VEVENT
BEGIN:VEVENT
DTSTART;TZID=Europe/Amsterdam:20260206T000000
DTEND;TZID=Europe/Amsterdam:20260210T235959
DTSTAMP:20260421T070755
CREATED:20251119T141532Z
LAST-MODIFIED:20251119T141558Z
UID:97029-1770336000-1770767999@pretwerk.nl
SUMMARY:Christmasworld
DESCRIPTION:Internationale vakbeurs waar van alles te vinden is over sfeerbeleving in de kerstperiode – en andere seizoensevenementen.
URL:https://pretwerk.nl/evenement/christmasworld-2/
LOCATION:Messe Frankfurt\, Frankfurt\, Germany
CATEGORIES:Internationaal,Vakbeurs
ATTACH;FMTTYPE=image/jpeg:https://pretwerk.nl/wp-content/uploads/2024/10/banner-christmasfair.jpg
END:VEVENT
BEGIN:VEVENT
DTSTART;TZID=Europe/Amsterdam:20260204T000000
DTEND;TZID=Europe/Amsterdam:20260204T235959
DTSTAMP:20260421T070755
CREATED:20251223T125717Z
LAST-MODIFIED:20251223T125720Z
UID:97683-1770163200-1770249599@pretwerk.nl
SUMMARY:Nationaal Buitensport Congres
DESCRIPTION:Kennisbijeenkomst over toekomstbestendige (buitensport) sportaccommodaties. Keynote speaker is Richard van Hooijdonk die een beeld schetst van de buitensportsector met invloeden van AI.
URL:https://pretwerk.nl/evenement/nationaal-buitensport-congres/
LOCATION:Papendal\, Arnhem\, Nederland
CATEGORIES:Congres
ATTACH;FMTTYPE=image/png:https://pretwerk.nl/wp-content/uploads/2025/12/nationaal-buitensport-congres.png
END:VEVENT
BEGIN:VEVENT
DTSTART;TZID=Europe/Amsterdam:20260202T130000
DTEND;TZID=Europe/Amsterdam:20260202T213000
DTSTAMP:20260421T070755
CREATED:20260120T125624Z
LAST-MODIFIED:20260120T125952Z
UID:98069-1770037200-1770067800@pretwerk.nl
SUMMARY:Hotel Leaders Network
DESCRIPTION:Onder het thema Leading Through Change brengt het event General Managers\, hoteleigenaren\, directieleden en senior managers uit de hotelsector samen voor een inhoudelijk programma rondom leiderschap\, innovatie en toekomstbestendig organiseren. \n\n\n\nHotel Leaders Network fungeert als jaarlijks platform waar ervaren leiders\, opkomend talent en vernieuwende start-ups elkaar ontmoeten. Het programma combineert reflectie en praktijk\, met ruimte voor dialoog\, inspiratie en concrete inzichten voor leiders die opereren in een sector die continu in beweging is.
URL:https://pretwerk.nl/evenement/hotel-leaders-network/
LOCATION:Beurs van Berlage\, Amsterdam\, Netherlands
CATEGORIES:Congres,Netwerkbijeenkomst
ATTACH;FMTTYPE=image/jpeg:https://pretwerk.nl/wp-content/uploads/2026/01/hln-logo-2.jpg
END:VEVENT
BEGIN:VEVENT
DTSTART;TZID=Europe/Amsterdam:20260130T100000
DTEND;TZID=Europe/Amsterdam:20260201T180000
DTSTAMP:20260421T070755
CREATED:20251119T140249Z
LAST-MODIFIED:20251119T150446Z
UID:97024-1769767200-1769968800@pretwerk.nl
SUMMARY:Vakantie Expo
DESCRIPTION:Consumentenbeurs voor vakantie-inspiratie in Antwerpen
URL:https://pretwerk.nl/evenement/vakantie-expo/
LOCATION:Antwerp Expo\, Antwerpen\, België
CATEGORIES:Publieksbeurs
ATTACH;FMTTYPE=image/jpeg:https://pretwerk.nl/wp-content/uploads/2025/11/vakantie-expo.jpg
END:VEVENT
BEGIN:VEVENT
DTSTART;TZID=Europe/Amsterdam:20260128T100000
DTEND;TZID=Europe/Amsterdam:20260201T170000
DTSTAMP:20260421T070755
CREATED:20260119T094302Z
LAST-MODIFIED:20260119T094304Z
UID:98017-1769594400-1769965200@pretwerk.nl
SUMMARY:Caravana
DESCRIPTION:De grootste kampeerbeurs van Noord-Nederland. Bezoekers ontdekken hier in één bezoek het volledige aanbod voor hun volgende kampeeravontuur: van campers en caravans tot tenten\, accessoires en campings uit binnen- en buitenland.
URL:https://pretwerk.nl/evenement/caravana-3/
LOCATION:WTC Leeuwarden\, Leeuwarden
CATEGORIES:Publieksbeurs
ATTACH;FMTTYPE=image/png:https://pretwerk.nl/wp-content/uploads/caravana-logo.png
END:VEVENT
BEGIN:VEVENT
DTSTART;TZID=Europe/Amsterdam:20260127T000000
DTEND;TZID=Europe/Amsterdam:20260130T235959
DTSTAMP:20260421T070755
CREATED:20251216T112358Z
LAST-MODIFIED:20251216T112400Z
UID:97572-1769472000-1769817599@pretwerk.nl
SUMMARY:ENTER26 eTourism conference
DESCRIPTION:Dit jaarlijkse internationale event wordt georganiseerd in samenwerking met de International Federation for IT and Travel & Tourism (IFITT) en trekt experts van over de hele wereld die zich bezighouden met digitalisering in toerisme\, leisure en hospitality.
URL:https://pretwerk.nl/evenement/enter26-etourism-conference/
LOCATION:Green Campus Buas\, Breda\, Nederland
CATEGORIES:Congres,Internationaal
ATTACH;FMTTYPE=image/jpeg:https://pretwerk.nl/wp-content/uploads/2025/12/ifitt.jpg
END:VEVENT
BEGIN:VEVENT
DTSTART;TZID=Europe/Amsterdam:20260126T000000
DTEND;TZID=Europe/Amsterdam:20260128T235959
DTSTAMP:20260421T070755
CREATED:20251204T121315Z
LAST-MODIFIED:20251204T121728Z
UID:97365-1769385600-1769644799@pretwerk.nl
SUMMARY:Brand Experience Conference
DESCRIPTION:Dit is het tweede jaar waarop de Brand Experience Conference wordt georganiseerd. Met dit event wil de organisatie bijdragen aan de ontwikkeling van het (recreatieve) marktsegment waar merk en beleving samen komen.
URL:https://pretwerk.nl/evenement/brand-experience-conference/
LOCATION:Dublin\, Ireland
CATEGORIES:Congres,Internationaal
ATTACH;FMTTYPE=image/jpeg:https://pretwerk.nl/wp-content/uploads/2025/12/brand-experience-center.jpg
END:VEVENT
END:VCALENDAR