BEGIN:VCALENDAR
VERSION:2.0
PRODID:-//Pretwerk - ECPv6.6.3//NONSGML v1.0//EN
CALSCALE:GREGORIAN
METHOD:PUBLISH
X-ORIGINAL-URL:https://pretwerk.nl
X-WR-CALDESC:Evenementen voor Pretwerk
REFRESH-INTERVAL;VALUE=DURATION:PT1H
X-Robots-Tag:noindex
X-PUBLISHED-TTL:PT1H
BEGIN:VTIMEZONE
TZID:Europe/Amsterdam
BEGIN:DAYLIGHT
TZOFFSETFROM:+0100
TZOFFSETTO:+0200
TZNAME:CEST
DTSTART:20230326T010000
END:DAYLIGHT
BEGIN:STANDARD
TZOFFSETFROM:+0200
TZOFFSETTO:+0100
TZNAME:CET
DTSTART:20231029T010000
END:STANDARD
BEGIN:DAYLIGHT
TZOFFSETFROM:+0100
TZOFFSETTO:+0200
TZNAME:CEST
DTSTART:20240331T010000
END:DAYLIGHT
BEGIN:STANDARD
TZOFFSETFROM:+0200
TZOFFSETTO:+0100
TZNAME:CET
DTSTART:20241027T010000
END:STANDARD
END:VTIMEZONE
BEGIN:VEVENT
DTSTART;TZID=Europe/Amsterdam:20240307T090000
DTEND;TZID=Europe/Amsterdam:20240307T160000
DTSTAMP:20260420T203758
CREATED:20240109T090516Z
LAST-MODIFIED:20240305T103436Z
UID:85234-1709802000-1709827200@pretwerk.nl
SUMMARY:Vakbeurs Sportacommodaties
DESCRIPTION:Sportieve recreatie wordt steeds vaker aangeboden door commerciële partijen; denk bijvoorbeeld aan de opkomst van de fitnesscentra – inmiddels de meest beoefende sport in Nederland. Dat is een enorme kentering in het Nederlandse sportlandschap dat van oudsher wordt gedomineerd door sportverenigingen. Ook op vakantieparken\, campings en hotels zijn sportvoorzieningen bijna een standaard onderdeel van de faciliteiten. Op de Vakbeurs Sportacocmmodaties vind je kennis en producten om je sportvoorziening veilig te realiseren; en volop inspiratie voor nieuwe activiteiten.
URL:https://pretwerk.nl/evenement/vakbeurs-sportacommodaties/
LOCATION:Expo Houten\, Houten\, Nederland
CATEGORIES:Vakbeurs
ATTACH;FMTTYPE=image/jpeg:https://pretwerk.nl/wp-content/uploads/sportaccom.jpg
END:VEVENT
BEGIN:VEVENT
DTSTART;TZID=Europe/Amsterdam:20240305T100000
DTEND;TZID=Europe/Amsterdam:20240307T180000
DTSTAMP:20260420T203758
CREATED:20240201T110851Z
LAST-MODIFIED:20240201T110950Z
UID:85739-1709632800-1709834400@pretwerk.nl
SUMMARY:ITB Berlin
DESCRIPTION:Internationale Travel Trade Show\, waarin ook Nederlandse bestemmingen goed vertegenwoordigd zijn. In 2023 was NBTC hier aanwezig\, samen met 44 partners die de Nederlandse stand samen vorm gaven.
URL:https://pretwerk.nl/evenement/itb-berlin-2/
LOCATION:Messe Berlin\, Berlijn\, Duitsland
CATEGORIES:Internationaal,Vakbeurs
ATTACH;FMTTYPE=image/jpeg:https://pretwerk.nl/wp-content/uploads/Logo_ITB_Berlin_with_claim_english.jpg
END:VEVENT
BEGIN:VEVENT
DTSTART;TZID=Europe/Amsterdam:20240305T100000
DTEND;TZID=Europe/Amsterdam:20240307T170000
DTSTAMP:20260420T203758
CREATED:20240227T133305Z
LAST-MODIFIED:20240227T133307Z
UID:86141-1709632800-1709830800@pretwerk.nl
SUMMARY:DEAL Dubai
DESCRIPTION:Internationale Attractie Vakbeurs in het Dubai; hét centrum van vele nieuwe attractie-ontwikkelingen.
URL:https://pretwerk.nl/evenement/deal-dubai/
LOCATION:Dubai World Trade Centre\, Dubai\, Verenigde Arabische Emiraten
CATEGORIES:Vakbeurs
ATTACH;FMTTYPE=image/jpeg:https://pretwerk.nl/wp-content/uploads/2024/02/deal-dubai.jpg
END:VEVENT
BEGIN:VEVENT
DTSTART;TZID=Europe/Amsterdam:20240304T110000
DTEND;TZID=Europe/Amsterdam:20240305T190000
DTSTAMP:20260420T203758
CREATED:20240227T131603Z
LAST-MODIFIED:20240402T124007Z
UID:86129-1709550000-1709665200@pretwerk.nl
SUMMARY:Horecabeurs Goes
DESCRIPTION:Horecabeurs Goes is dé vakbeurs van Zuidwest-Nederland en Vlaanderen met een beursoppervlakte van 10.000 m2 en zo’n 200 exposanten gericht op de branches: horeca\, recreatie en toerisme.
URL:https://pretwerk.nl/evenement/horecabeurs-goes/
LOCATION:Zeelandhallen\, Goes\, Nederland
CATEGORIES:Vakbeurs
ATTACH;FMTTYPE=image/jpeg:https://pretwerk.nl/wp-content/uploads/2024/02/logo-horecabeurs-goes.jpg
END:VEVENT
BEGIN:VEVENT
DTSTART;TZID=Europe/Amsterdam:20240130T090000
DTEND;TZID=Europe/Amsterdam:20240203T180000
DTSTAMP:20260420T203758
CREATED:20240115T135320Z
LAST-MODIFIED:20240115T135321Z
UID:85373-1706605200-1706983200@pretwerk.nl
SUMMARY:Spielwarenmesse Nürnberg (Du)
DESCRIPTION:Grote vakbeurs voor speelgoed en speelconcepten met ruim 2000 standhouders.
URL:https://pretwerk.nl/evenement/spielwarenmesse-nurnberg-du/
LOCATION:Messezentrum Nürnberg\, Nürnberg\, Duitsland
CATEGORIES:Vakbeurs
ATTACH;FMTTYPE=image/jpeg:https://pretwerk.nl/wp-content/uploads/2024/01/spielwarenmesse-2024.jpg
END:VEVENT
BEGIN:VEVENT
DTSTART;TZID=Europe/Amsterdam:20240124T080000
DTEND;TZID=Europe/Amsterdam:20240125T170000
DTSTAMP:20260420T203758
CREATED:20230628T062348Z
LAST-MODIFIED:20240111T082133Z
UID:82160-1706083200-1706202000@pretwerk.nl
SUMMARY:Recreatie Next Level
DESCRIPTION:Recreatie Vakbeurs organiseert een nieuw event voor de recreatiebranche: Recreatie Next Level. Dit is een extra toevoeging naast de Recreatie Vakbeurs in Hardenberg. Het tweedaagse B2B-event Recreatie Next Level vindt plaats in Evenementenhal Gorinchem\, centraal gelegen in de regio Zuid- en West-Nederland.
URL:https://pretwerk.nl/evenement/recreatie-next-level/
LOCATION:Evenementenhal Gorinchem\, Gorinchem\, Nederland
CATEGORIES:Congres,Vakbeurs
ATTACH;FMTTYPE=image/jpeg:https://pretwerk.nl/wp-content/uploads/2023/06/big-Logo_RecreatieVakbeurs_Next-Level-1.jpg
END:VEVENT
BEGIN:VEVENT
DTSTART;TZID=Europe/Amsterdam:20240124T000000
DTEND;TZID=Europe/Amsterdam:20240128T235959
DTSTAMP:20260420T203758
CREATED:20231130T164929Z
LAST-MODIFIED:20231221T170216Z
UID:84704-1706054400-1706486399@pretwerk.nl
SUMMARY:Fitur
DESCRIPTION:Event voor professionals in toerisme\, vooral gericht op de Spaanstalige landen.
URL:https://pretwerk.nl/evenement/fitur/
LOCATION:Ifema\, Madrid\, Spanje
CATEGORIES:Congres,Vakbeurs
ATTACH;FMTTYPE=image/jpeg:https://pretwerk.nl/wp-content/uploads/2023/11/fitur.jpg
END:VEVENT
BEGIN:VEVENT
DTSTART;TZID=Europe/Amsterdam:20240123T100000
DTEND;TZID=Europe/Amsterdam:20240124T170000
DTSTAMP:20260420T203758
CREATED:20240115T152417Z
LAST-MODIFIED:20240115T152419Z
UID:85376-1706004000-1706115600@pretwerk.nl
SUMMARY:Webwinkel Vakdagen
DESCRIPTION:Hét ontmoetingsplatform voor de gehele digital commerce branche met 250 exposanten en 200 lezingen. De WWV reiken jou de kennis\, inspiratie en externe expertise aan om het resultaat uit jouw digitale kanalen te maximaliseren.
URL:https://pretwerk.nl/evenement/webwinkel-vakdagen-2/
LOCATION:Jaarbeurs Utrecht
CATEGORIES:Congres,Vakbeurs
ATTACH;FMTTYPE=image/png:https://pretwerk.nl/wp-content/uploads/2024/01/webwinkel-vakdagen.png
END:VEVENT
BEGIN:VEVENT
DTSTART;TZID=Europe/Amsterdam:20240108T100000
DTEND;TZID=Europe/Amsterdam:20240111T180000
DTSTAMP:20260420T203758
CREATED:20230827T143420Z
LAST-MODIFIED:20230827T143422Z
UID:83170-1704708000-1704996000@pretwerk.nl
SUMMARY:Horecava (horecabeurs)
DESCRIPTION:Grootste horeca vakbeurs van Nederland. De bezoeker van Horecava is een professional in de horeca die blijft innoveren en altijd op zoek is naar de nieuwste trends op het gebied van food\, drinks\, design en techniek. Tijdens de Horecava worden ook diverse kennis-sessies georganiseerd.
URL:https://pretwerk.nl/evenement/horecava-horecabeurs/
LOCATION:RAI\, Amsterdam
CATEGORIES:Vakbeurs
ATTACH;FMTTYPE=image/jpeg:https://pretwerk.nl/wp-content/uploads/horecava-2.jpg
END:VEVENT
BEGIN:VEVENT
DTSTART;TZID=Europe/Amsterdam:20231130T080000
DTEND;TZID=Europe/Amsterdam:20231130T170000
DTSTAMP:20260420T203758
CREATED:20231130T162114Z
LAST-MODIFIED:20231130T162137Z
UID:84700-1701331200-1701363600@pretwerk.nl
SUMMARY:Independent Hotel Show
DESCRIPTION:Independent Hotel Show Amsterdam is hét jaarlijkse hospitality-evenement dat zich volledig richt op managers van luxe- en boetiekhotels en onafhankelijk denkende hoteliers uit heel Europa. Laat je inspireren door top-designers\, toonaangevende technologie en de allerlaatste hospitality-trends.
URL:https://pretwerk.nl/evenement/independent-hotel-show-2/
LOCATION:RAI\, Amsterdam
CATEGORIES:Congres,Vakbeurs
ATTACH;FMTTYPE=image/jpeg:https://pretwerk.nl/wp-content/uploads/2023/11/independent-hotel-show.jpg
END:VEVENT
BEGIN:VEVENT
DTSTART;TZID=Europe/Amsterdam:20231128T000000
DTEND;TZID=Europe/Amsterdam:20231201T235900
DTSTAMP:20260420T203758
CREATED:20230811T165314Z
LAST-MODIFIED:20230815T143457Z
UID:82972-1701129600-1701475140@pretwerk.nl
SUMMARY:Immersive Tech Week
DESCRIPTION:Dit event is ooit begonnen als de VR Days. Maar de techniek schrijdt voort en er worden steeds meer technologieën ontwikkeld die bijdragen aan een nieuwe belevingswaarde of praktische ondersteuning. Ook AR\, mixed reality of de cyberspace komen ruimschoots aan bod.
URL:https://pretwerk.nl/evenement/immersive-tech-week/
LOCATION:Rotterdam
CATEGORIES:Congres,Vakbeurs
ATTACH;FMTTYPE=image/jpeg:https://pretwerk.nl/wp-content/uploads/immersive-tech-week.jpg
END:VEVENT
BEGIN:VEVENT
DTSTART;TZID=Europe/Amsterdam:20231128T000000
DTEND;TZID=Europe/Amsterdam:20231130T235959
DTSTAMP:20260420T203758
CREATED:20230811T143934Z
LAST-MODIFIED:20231002T073703Z
UID:82970-1701129600-1701388799@pretwerk.nl
SUMMARY:LeisurUp
DESCRIPTION:LeisureUp is de toonaangevende b2b bijeenkomst waar retail en leisure elkaar ontmoeten. De beurs vindt tegelijkertijd plaats met de internationale vastgoedbeurs Mapic. Er is volop inspiratie te vinden voor leisure\, retail en foodconcepten.
URL:https://pretwerk.nl/evenement/leisurup/
LOCATION:Cannes (Frankrijk)
CATEGORIES:Vakbeurs
ATTACH;FMTTYPE=image/png:https://pretwerk.nl/wp-content/uploads/leisurup-by-mapic-logo-370x125-1.png
END:VEVENT
BEGIN:VEVENT
DTSTART;TZID=Europe/Amsterdam:20231122T100000
DTEND;TZID=Europe/Amsterdam:20231123T170000
DTSTAMP:20260420T203758
CREATED:20230713T124045Z
LAST-MODIFIED:20230714T092700Z
UID:82542-1700647200-1700758800@pretwerk.nl
SUMMARY:Festivak
DESCRIPTION:Vakbeurs voor iedereen die met grootschalige evenementen en festivals te maken heeft. Naast een zeer uitgebreide beursvloer worden er ook diverse interessante lezingen gegeven. De beurs wordt afwisselend\, om het jaar\, in Nederland en België georganiseerd. Dit jaar is België aan de beurt. Maar Nederlandse vakbezoekers zijn natuurlijk ook meer dan welkom.
URL:https://pretwerk.nl/evenement/festivak-2/
LOCATION:Nekkerhal\, Mechelen\, België
CATEGORIES:Vakbeurs
ATTACH;FMTTYPE=image/jpeg:https://pretwerk.nl/wp-content/uploads/festivak-1.jpg
END:VEVENT
BEGIN:VEVENT
DTSTART;TZID=Europe/Amsterdam:20231115T100000
DTEND;TZID=Europe/Amsterdam:20231115T170000
DTSTAMP:20260420T203758
CREATED:20231107T110204Z
LAST-MODIFIED:20231107T110205Z
UID:84212-1700042400-1700067600@pretwerk.nl
SUMMARY:Nationale Sport Vakbeurs
DESCRIPTION:De Nationale Sport Vakbeurs is de facilitaire sportbeurs van Nederland.
URL:https://pretwerk.nl/evenement/nationale-sport-vakbeurs/
LOCATION:Evenementenhal Gorinchem\, Gorinchem\, Nederland
CATEGORIES:Vakbeurs
ATTACH;FMTTYPE=image/jpeg:https://pretwerk.nl/wp-content/uploads/2023/11/nationale-sport-vakbeurs.jpg
END:VEVENT
BEGIN:VEVENT
DTSTART;TZID=Europe/Amsterdam:20231115T090000
DTEND;TZID=Europe/Amsterdam:20231116T170000
DTSTAMP:20260420T203758
CREATED:20230815T142848Z
LAST-MODIFIED:20230816T095950Z
UID:83035-1700038800-1700154000@pretwerk.nl
SUMMARY:Family Attraction Expo & More...
DESCRIPTION:In Birmingham worden enkele vakbeurzen in de recreatiesector tegelijkertijd georganiseerd. De Family Attraction Expo richt zich op Family Entertainment Centra en kleinschaliger attracties (grote pretparken gaan eerder naar de IAAPA Expo); Holiday Park & Resort richt zich op campings en vakantieparken; Farm Business Innovation is interessant voor recreatie en toerisme op het platteland; en dan is er nog de Leisure F&B expo voor foodservice in de recreatiesector.
URL:https://pretwerk.nl/evenement/family-attraction-expo-more/
LOCATION:NEC Birmingham\, Birmingham\, Verenigd Koninkrijk
CATEGORIES:Internationaal,Vakbeurs
ATTACH;FMTTYPE=image/jpeg:https://pretwerk.nl/wp-content/uploads/2023/08/Family-Attraction-Expo.jpg
END:VEVENT
BEGIN:VEVENT
DTSTART;TZID=Europe/Amsterdam:20231114T100000
DTEND;TZID=Europe/Amsterdam:20231117T180000
DTSTAMP:20260420T203758
CREATED:20230815T144426Z
LAST-MODIFIED:20230831T155755Z
UID:83041-1699956000-1700244000@pretwerk.nl
SUMMARY:IAAPA Expo
DESCRIPTION:De grootste vakbeurs ter wereld voor de attractiesector\, georganiseerd door IAAPA in Orlando\, Florida. Naast een zeer uitgebreide expo zijn er ook diverse interessante lezingen en presentaties over trends en ontwikkelingen in de attractiesector. De beurs richt zich niet alleen op attractieparken\, maar ook op waterparken\,  kermissen\, visitor centers\, fec’s\, gaming en indoor entertainment. Het kennisprogramma begint al een dagje eerder.
URL:https://pretwerk.nl/evenement/iaapa-expo-2/
LOCATION:Orange County Convention Center\, Orlando\, Florida\, Verenigde Staten
CATEGORIES:Internationaal,Vakbeurs
ATTACH;FMTTYPE=image/jpeg:https://pretwerk.nl/wp-content/uploads/2023/08/iaapa-expo.jpg
END:VEVENT
BEGIN:VEVENT
DTSTART;TZID=Europe/Amsterdam:20231114T100000
DTEND;TZID=Europe/Amsterdam:20231116T180000
DTSTAMP:20260420T203758
CREATED:20230421T170524Z
LAST-MODIFIED:20230616T114737Z
UID:80059-1699956000-1700157600@pretwerk.nl
SUMMARY:Recreatie Vakbeurs Hardenberg
DESCRIPTION:Dé vakbeurs voor een toekomstbestendige recreatiebranche \n\n\n\nOp 14\, 15 en 16 november 2023 vindt de jaarlijkse Recreatie Vakbeurs plaats. Ontmoet meer dan 300 vooraanstaande bedrijven uit de recreatiesector en raak in één dag(deel) op de hoogte van de laatste trends en ontwikkelingen uit de sector!
URL:https://pretwerk.nl/evenement/recreartie-vakbeurs-hardenberg/
LOCATION:evenementenhal Hardenberg\, Hardenberg\, Nederland
CATEGORIES:Vakbeurs
ATTACH;FMTTYPE=image/jpeg:https://pretwerk.nl/wp-content/uploads/rvk-20232.jpg
END:VEVENT
BEGIN:VEVENT
DTSTART;TZID=Europe/Amsterdam:20231107T100000
DTEND;TZID=Europe/Amsterdam:20231109T190000
DTSTAMP:20260420T203758
CREATED:20231025T111319Z
LAST-MODIFIED:20231025T111342Z
UID:84005-1699351200-1699556400@pretwerk.nl
SUMMARY:SETT Montpellier
DESCRIPTION:Grote vakbeurs in Frankrijk voor outdoor hospitality (o.a. camping\, glamping\, outdoor activiteiten)
URL:https://pretwerk.nl/evenement/sett-montpellier/
LOCATION:Montpelier
CATEGORIES:Vakbeurs
ATTACH;FMTTYPE=image/png:https://pretwerk.nl/wp-content/uploads/2023/10/salon-sett-hpa-camping-2022.png
END:VEVENT
BEGIN:VEVENT
DTSTART;TZID=Europe/Amsterdam:20231024T100000
DTEND;TZID=Europe/Amsterdam:20231027T180000
DTSTAMP:20260420T203758
CREATED:20230815T125843Z
LAST-MODIFIED:20230816T100158Z
UID:83017-1698141600-1698429600@pretwerk.nl
SUMMARY:Aquanale (zwembaden en sauna)
DESCRIPTION:Internationale vakbeurs voor zwembaden en sauna’s
URL:https://pretwerk.nl/evenement/aquanale-zwembaden-en-sauna/
LOCATION:Messe Köln\, Keulen\, Duitsland
CATEGORIES:Vakbeurs
ATTACH;FMTTYPE=image/jpeg:https://pretwerk.nl/wp-content/uploads/2023/08/aquanale_logo_235x235.jpg
END:VEVENT
BEGIN:VEVENT
DTSTART;TZID=Europe/Amsterdam:20231024T100000
DTEND;TZID=Europe/Amsterdam:20231027T180000
DTSTAMP:20260420T203758
CREATED:20230815T124338Z
LAST-MODIFIED:20230816T100225Z
UID:83012-1698141600-1698429600@pretwerk.nl
SUMMARY:FSB (sport en recreatie)
DESCRIPTION:Internationale vakbeurs voor recreatie- en sportfaciliteiten
URL:https://pretwerk.nl/evenement/fsb-sport-en-recreatie/
LOCATION:Messe Köln\, Keulen\, Duitsland
CATEGORIES:Vakbeurs
ATTACH;FMTTYPE=image/png:https://pretwerk.nl/wp-content/uploads/2023/08/fsb_logo_500x500.png
END:VEVENT
BEGIN:VEVENT
DTSTART;TZID=Europe/Amsterdam:20231021T000000
DTEND;TZID=Europe/Amsterdam:20231029T235959
DTSTAMP:20260420T203758
CREATED:20230810T095130Z
LAST-MODIFIED:20230816T100718Z
UID:82920-1697846400-1698623999@pretwerk.nl
SUMMARY:Dutch Design Week
DESCRIPTION:De Dutch Design week biedt een overzicht van nieuwe producten en concepten. Het event is niet specifiek gericht op de recreatiesector\, maar kan wel veel inspiratie bieden voor nieuwe ontwikkelingen. De eerste Tiny offices op vakantieparken werden bijvoorbeeld ook als concept getoond op de DDW. Bezoekers hebben de mogelijkheid om nieuwe concepten te bekijken en in gesprek te gaan met de ontwikkelaars. Er zijn ook diverse lezingen die een link hebben met ‘ontwerpen voor de toekomst.’
URL:https://pretwerk.nl/evenement/dutch-design-week-2/
LOCATION:Eindhoven\, Eindhoven\, Nederland
CATEGORIES:Vakbeurs
ATTACH;FMTTYPE=image/jpeg:https://pretwerk.nl/wp-content/uploads/logo-ddw.jpg
END:VEVENT
BEGIN:VEVENT
DTSTART;TZID=Europe/Amsterdam:20231010T000000
DTEND;TZID=Europe/Amsterdam:20231012T235959
DTSTAMP:20260420T203758
CREATED:20230815T135929Z
LAST-MODIFIED:20230921T110135Z
UID:83025-1696896000-1697155199@pretwerk.nl
SUMMARY:Salon Atlantica
DESCRIPTION:Internationale vakbeurs voor glamping en outdoor activiteiten.
URL:https://pretwerk.nl/evenement/salon-atlantica-la-rochelle/
CATEGORIES:Internationaal,Vakbeurs
ATTACH;FMTTYPE=image/png:https://pretwerk.nl/wp-content/uploads/2023/08/Atlantica-logo.png
END:VEVENT
BEGIN:VEVENT
DTSTART;TZID=Europe/Amsterdam:20231010T000000
DTEND;TZID=Europe/Amsterdam:20231010T235959
DTSTAMP:20260420T203758
CREATED:20230713T121915Z
LAST-MODIFIED:20230714T092904Z
UID:82536-1696896000-1696982399@pretwerk.nl
SUMMARY:Zwembad Branchedag
DESCRIPTION:Vakbeurs voor iedereen die met zwembaden te maken heeft. Vooral veel informatie over zwembadtechniek.
URL:https://pretwerk.nl/evenement/zwembad-branchedag/
LOCATION:Barneveld\, Barneveld\, Nederland
CATEGORIES:Vakbeurs
ATTACH;FMTTYPE=image/jpeg:https://pretwerk.nl/wp-content/uploads/zwembadbranche-2022-05.jpg
END:VEVENT
BEGIN:VEVENT
DTSTART;TZID=Europe/Amsterdam:20231009T110000
DTEND;TZID=Europe/Amsterdam:20231010T180000
DTSTAMP:20260420T203758
CREATED:20230816T094015Z
LAST-MODIFIED:20230831T155623Z
UID:83059-1696849200-1696960800@pretwerk.nl
SUMMARY:BBB Maastricht (horeca)
DESCRIPTION:Op BBB Maastricht vind je een breed assortiment aan horecaproducten en diensten vanuit alle segmenten om voor jouw onderneming nog meer omzet te genereren. Laat je inspireren en informeren door mede-horecaprofessionals en breid je klanten en leverancierskring uit. (laatste dag sluit de beurs om 17.00 uur)
URL:https://pretwerk.nl/evenement/bbb-maastricht-horeca/
LOCATION:Mecc Maastricht\, Maastricht
CATEGORIES:Vakbeurs
ATTACH;FMTTYPE=image/jpeg:https://pretwerk.nl/wp-content/uploads/bbb.jpg
END:VEVENT
BEGIN:VEVENT
DTSTART;TZID=Europe/Amsterdam:20230927T090000
DTEND;TZID=Europe/Amsterdam:20230928T160000
DTSTAMP:20260420T203758
CREATED:20230529T143828Z
LAST-MODIFIED:20230616T114826Z
UID:80497-1695805200-1695916800@pretwerk.nl
SUMMARY:Vakbeurs Openbare Ruimte
DESCRIPTION:Jaarlijkse vakbeurs waar van alles te vinden is voor de inrichting van de publieke buitenruimte. Voor recreatiebedrijven met een omvangrijke buitenruimte is deze beurs zeker ook interessant. Standhouders voor deze doelgroep zijn o.a. aanbieders van groeninrichting\, sport- en speeltoestellen\, aanleg van wegen en paden\, openbare verlichting en straatmeubilair.
URL:https://pretwerk.nl/evenement/vakbeurs-openbare-ruimte-4/
LOCATION:Jaarbeurs Utrecht\, Utrecht
CATEGORIES:Vakbeurs
ATTACH;FMTTYPE=image/jpeg:https://pretwerk.nl/wp-content/uploads/VORNL2021.jpg
END:VEVENT
BEGIN:VEVENT
DTSTART;TZID=Europe/Amsterdam:20230926T000000
DTEND;TZID=Europe/Amsterdam:20230928T235959
DTSTAMP:20260420T203758
CREATED:20230526T143935Z
LAST-MODIFIED:20230616T114828Z
UID:80472-1695686400-1695945599@pretwerk.nl
SUMMARY:IAAPA Expo Europe
DESCRIPTION:De Jaarlijkse expo voor de Europese sector van attracties (pretparken\, dierentuinen\, kermissen\, fecs\, indoor speelparken\, e.v.a.)
URL:https://pretwerk.nl/evenement/iaapa-expo-europe-3/
CATEGORIES:Congres,Vakbeurs
ATTACH;FMTTYPE=image/jpeg:https://pretwerk.nl/wp-content/uploads/iaapa-expo-europe-1.jpg
END:VEVENT
BEGIN:VEVENT
DTSTART;TZID=Europe/Amsterdam:20230918T110000
DTEND;TZID=Europe/Amsterdam:20230920T180000
DTSTAMP:20260420T203758
CREATED:20230728T152915Z
LAST-MODIFIED:20230728T152916Z
UID:82761-1695034800-1695232800@pretwerk.nl
SUMMARY:Gastvrij Rotterdam
DESCRIPTION:Gastvrij Rotterdam is dé horecavakbeurs voor ambitieuze horecaprofessionals in Rotterdam Ahoy.
URL:https://pretwerk.nl/evenement/gastvrij-rotterdam-2/
LOCATION:ahoy Rotterdam\, Rotterdam
CATEGORIES:Vakbeurs
ATTACH;FMTTYPE=image/jpeg:https://pretwerk.nl/wp-content/uploads/2023/07/gastvrij-rotterdam.jpg
END:VEVENT
BEGIN:VEVENT
DTSTART;TZID=Europe/Amsterdam:20230914T000000
DTEND;TZID=Europe/Amsterdam:20230916T235959
DTSTAMP:20260420T203758
CREATED:20230815T134601Z
LAST-MODIFIED:20230816T095026Z
UID:83022-1694649600-1694908799@pretwerk.nl
SUMMARY:The Glamping Show
DESCRIPTION:Een grote en gezellige vakbeurs voor glamping-professionals in ’the British Countryside’. Staat al jarenlang bekend om sfeervolle en innovatieve concepten.
URL:https://pretwerk.nl/evenement/the-glamping-show-3/
LOCATION:Stoneleigh\, Stoneleigh\, Verenigd Koninkrijk
CATEGORIES:Internationaal,Vakbeurs
ATTACH;FMTTYPE=image/png:https://pretwerk.nl/wp-content/uploads/2023/08/the-glamping-show.png
END:VEVENT
BEGIN:VEVENT
DTSTART;TZID=Europe/Amsterdam:20230613T100000
DTEND;TZID=Europe/Amsterdam:20230615T190000
DTSTAMP:20260420T203758
CREATED:20230529T140712Z
LAST-MODIFIED:20230529T140712Z
UID:80486-1686650400-1686855600@pretwerk.nl
SUMMARY:Provada (vastgoedbeurs)
DESCRIPTION:Vastgoedbeurs Provada in de Amsterdamse RAI organiseert ook enkele bijeenkomsten voor de sector leisure. enkele voorbeelden: De NVM presenteert de jaarcijfers over de markt van van vakantiewoningen en Horwath geeft een presentatie over trends in de hotelsector. zie ook: www.pretwerk.nl/productnieuws/ook-leisurevastgoed-heeft-een-plekje-op-de-vastgoedbeurs-provada/80373
URL:https://pretwerk.nl/evenement/provada-vastgoedbeurs/
LOCATION:RAI Amsterdam\, Amsterdam\, Nederland
CATEGORIES:Vakbeurs
ATTACH;FMTTYPE=:
END:VEVENT
BEGIN:VEVENT
DTSTART;TZID=Europe/Amsterdam:20230612T000000
DTEND;TZID=Europe/Amsterdam:20230613T235959
DTSTAMP:20260420T203758
CREATED:20230606T140706Z
LAST-MODIFIED:20230606T140706Z
UID:80636-1686528000-1686700799@pretwerk.nl
SUMMARY:Seli Show (indoor entertainment)
DESCRIPTION:De Franse branchevereniging voor indoor recreatie (Space) organiseert een middelgrote beurs voor Indoor Entertainment in Lyon. Er is o.a. een bescheiden beursvloer (62 stadhouders) en er worden 6 lezingen georganiseerd (in het Frans)
URL:https://pretwerk.nl/evenement/seli-show-indoor-entertainment/
CATEGORIES:Vakbeurs
ATTACH;FMTTYPE=image/jpeg:https://pretwerk.nl/wp-content/uploads/2023/06/bandeau_seli_site3.jpg
END:VEVENT
END:VCALENDAR