BEGIN:VCALENDAR
VERSION:2.0
PRODID:-//Pretwerk - ECPv6.6.3//NONSGML v1.0//EN
CALSCALE:GREGORIAN
METHOD:PUBLISH
X-WR-CALNAME:Pretwerk
X-ORIGINAL-URL:https://pretwerk.nl
X-WR-CALDESC:Evenementen voor Pretwerk
REFRESH-INTERVAL;VALUE=DURATION:PT1H
X-Robots-Tag:noindex
X-PUBLISHED-TTL:PT1H
BEGIN:VTIMEZONE
TZID:Europe/Amsterdam
BEGIN:DAYLIGHT
TZOFFSETFROM:+0100
TZOFFSETTO:+0200
TZNAME:CEST
DTSTART:20250330T010000
END:DAYLIGHT
BEGIN:STANDARD
TZOFFSETFROM:+0200
TZOFFSETTO:+0100
TZNAME:CET
DTSTART:20251026T010000
END:STANDARD
BEGIN:DAYLIGHT
TZOFFSETFROM:+0100
TZOFFSETTO:+0200
TZNAME:CEST
DTSTART:20260329T010000
END:DAYLIGHT
BEGIN:STANDARD
TZOFFSETFROM:+0200
TZOFFSETTO:+0100
TZNAME:CET
DTSTART:20261025T010000
END:STANDARD
END:VTIMEZONE
BEGIN:VEVENT
DTSTART;TZID=Europe/Amsterdam:20260107T100000
DTEND;TZID=Europe/Amsterdam:20260108T170000
DTSTAMP:20260420T141602
CREATED:20251021T124737Z
LAST-MODIFIED:20251021T124831Z
UID:96421-1767780000-1767891600@pretwerk.nl
SUMMARY:Travel Trade Days
DESCRIPTION:Gedurende twee inspirerende dagen komt de reissector uit de Benelux samen om kennis en inspiratie te delen\, nieuwe trends en technologieën te ontdekken en waardevolle samenwerkingen aan te gaan die bijdragen aan duurzame groei in de sector. De Travel Trade Days zijn gekoppeld aan de Vakantiebeurs in Utrecht. (Opvolger van de Vakantiebeurs Vakdag)
URL:https://pretwerk.nl/evenement/travel-trade-days-2/
LOCATION:Jaarbeurs Utrecht\, Utrecht
CATEGORIES:Congres,Vakbeurs
ATTACH;FMTTYPE=image/jpeg:https://pretwerk.nl/wp-content/uploads/2025/10/travel-trade-days.jpg
END:VEVENT
BEGIN:VEVENT
DTSTART;TZID=Europe/Amsterdam:20251118T000000
DTEND;TZID=Europe/Amsterdam:20251121T235959
DTSTAMP:20260420T141602
CREATED:20250805T141131Z
LAST-MODIFIED:20250805T142846Z
UID:94940-1763424000-1763769599@pretwerk.nl
SUMMARY:IAAPA Expo
DESCRIPTION:De grootste internationale vakbeurs voor de attractiesector\, met een uitgebreid kennisprogramma. Waar de beurs in het verleden vooral gericht was op attractieparken en kermissen\, zien we tegenwoordig een verbreding naar ook andere segmenten uit de dagrecreatie zoals Family Entertainment Centers\, Visitor Centers en Retailtainment. (het kennisprogramma begint al een dagje eerder)
URL:https://pretwerk.nl/evenement/iaapa-expo-3/
LOCATION:Orlando\, Florida (VS)\, Orlando\, florida\, Verenigde Staten
CATEGORIES:Internationaal,Vakbeurs
ATTACH;FMTTYPE=image/jpeg:https://pretwerk.nl/wp-content/uploads/2024/06/iaapa-expo.jpg
END:VEVENT
BEGIN:VEVENT
DTSTART;TZID=Europe/Amsterdam:20251111T000000
DTEND;TZID=Europe/Amsterdam:20251113T235959
DTSTAMP:20260420T141603
CREATED:20250307T124805Z
LAST-MODIFIED:20250409T165618Z
UID:92262-1762819200-1763078399@pretwerk.nl
SUMMARY:Recreatie Vakbeurs Hardenberg
DESCRIPTION:De grootste binnenlandse vakbeurs voor de recreatiesector. Naast de vele hallen met beursstands is er ook veel kennis op te doen tijdens de diverse lezingen.
URL:https://pretwerk.nl/evenement/recreatie-vakbeurs-hardenberg-3/
LOCATION:evenementenhal Hardenberg\, Hardenberg\, Nederland
CATEGORIES:Vakbeurs
ATTACH;FMTTYPE=image/png:https://pretwerk.nl/wp-content/uploads/2024/06/Logo-Recreatie-Vakbeurs-positief.png
END:VEVENT
BEGIN:VEVENT
DTSTART;TZID=Europe/Amsterdam:20251105T110000
DTEND;TZID=Europe/Amsterdam:20251107T170000
DTSTAMP:20260420T141603
CREATED:20250520T092636Z
LAST-MODIFIED:20250520T102849Z
UID:93405-1762340400-1762534800@pretwerk.nl
SUMMARY:Festivak
DESCRIPTION:Van doorgewinterde organisatoren tot beginnende professionals. Iedereen die werkt aan óf voor de evenementenbranche is meer dan welkom bij Festivak. Hier ontmoet je (toe) leveranciers\, vind je nieuwe partners en zie je de gaafste acts en innovaties. De beurs Festivak is gericht op de Benelux. De editie van dit jaar is in België; volgend jaar wisselt de locatie naar Nederland.
URL:https://pretwerk.nl/evenement/festivak-4/
LOCATION:Nekkerhal\, Mechelen\, België
CATEGORIES:Vakbeurs
ATTACH;FMTTYPE=image/jpeg:https://pretwerk.nl/wp-content/uploads/festivak-2.jpg
END:VEVENT
BEGIN:VEVENT
DTSTART;TZID=Europe/Amsterdam:20251105T100000
DTEND;TZID=Europe/Amsterdam:20251105T170000
DTSTAMP:20260420T141603
CREATED:20251014T083815Z
LAST-MODIFIED:20251014T083817Z
UID:96294-1762336800-1762362000@pretwerk.nl
SUMMARY:Nationale Sport Vakbeurs
DESCRIPTION:De Nationale Sport Vakbeurs is de facilitaire sportbeurs van Nederland. Het unieke beursconcept waarbij sportambtenaren\, clubbestuurders\, commerciële sportaanbieders samenkomen met dienstverleners & leveranciers uit de sportwereld. Maar ook voor de (niet-zakelijke) sportliefhebber is er genoeg te beleven.
URL:https://pretwerk.nl/evenement/nationale-sport-vakbeurs-3/
LOCATION:Evenementenhal Gorinchem\, Gorinchem\, Nederland
CATEGORIES:Vakbeurs
ATTACH;FMTTYPE=image/jpeg:https://pretwerk.nl/wp-content/uploads/2025/10/logo-nationale-sport-vakbeurs.jpg
END:VEVENT
BEGIN:VEVENT
DTSTART;TZID=Europe/Amsterdam:20251105T090000
DTEND;TZID=Europe/Amsterdam:20251106T160000
DTSTAMP:20260420T141603
CREATED:20250523T133600Z
LAST-MODIFIED:20250805T143315Z
UID:93461-1762333200-1762444800@pretwerk.nl
SUMMARY:Land\, Leisure & Tourism Show
DESCRIPTION:Een bijzonder grote en brede recreatievakbeurs in Groot Brittannië. Er worden binnen het beursconcept meerdere doelgroepen samengevoegd; zo is er een programma voor vakantieparken\, dagattracties\, plattelandsrecreatie en hospitality (eten en drinken).
URL:https://pretwerk.nl/evenement/land-leisure-tourism-show/
LOCATION:NEC Birmingham\, Birmingham\, Verenigd Koninkrijk
CATEGORIES:Internationaal,Vakbeurs
ATTACH;FMTTYPE=image/jpeg:https://pretwerk.nl/wp-content/uploads/2025/05/land-leisure-and-tourism-show.jpg
END:VEVENT
BEGIN:VEVENT
DTSTART;TZID=Europe/Amsterdam:20251104T100000
DTEND;TZID=Europe/Amsterdam:20251106T170000
DTSTAMP:20260420T141603
CREATED:20250606T072453Z
LAST-MODIFIED:20250716T090635Z
UID:93677-1762250400-1762448400@pretwerk.nl
SUMMARY:Sett - outdoor hospitality
DESCRIPTION:Grote Franse vakbeurs voor de recreatiesector\, met veel aandacht voor campings. Maar ook andere bedrijfstypen komen aan bod zoals hotels\, B&B\, restaurants en strandbestemmingen.
URL:https://pretwerk.nl/evenement/sett-outdoor-hospitality-2/
LOCATION:Montpellier\, Montpellier\, Frankrijk
CATEGORIES:Internationaal,Vakbeurs
ATTACH;FMTTYPE=image/png:https://pretwerk.nl/wp-content/uploads/2023/10/salon-sett-hpa-camping-2022.png
END:VEVENT
BEGIN:VEVENT
DTSTART;TZID=Europe/Amsterdam:20251104T080000
DTEND;TZID=Europe/Amsterdam:20251105T170000
DTSTAMP:20260420T141603
CREATED:20250715T090825Z
LAST-MODIFIED:20250715T090827Z
UID:94532-1762243200-1762362000@pretwerk.nl
SUMMARY:LeisurUp by MAPIC
DESCRIPTION:LeisurUp is sinds enkele jaren een toevoeging aan de grootste vastgoedbeurs ter wereld; de MAPIC. Hier is vooral aandacht voor de rol van leisure en entertainment in winkelgebieden – een snel groeiend marktsegment.
URL:https://pretwerk.nl/evenement/leisurup-by-mapic-3/
LOCATION:Cannes (Frankrijk)
CATEGORIES:Congres,Internationaal,Vakbeurs
ATTACH;FMTTYPE=image/png:https://pretwerk.nl/wp-content/uploads/leisurup-by-mapic-logo-370x125-1.png
END:VEVENT
BEGIN:VEVENT
DTSTART;TZID=Europe/Amsterdam:20251028T100000
DTEND;TZID=Europe/Amsterdam:20251031T160000
DTSTAMP:20260420T141603
CREATED:20250805T142248Z
LAST-MODIFIED:20250817T112440Z
UID:94942-1761645600-1761926400@pretwerk.nl
SUMMARY:FSB / Aquanale (sport en zwemmen)
DESCRIPTION:Dit is een gecombineerde beurs. FSB staat voor Freizeit\, Sport und Baden; Aquanale richt zich meer op zwembaden en wellness. Een sportieve en gezonde lifestyle staat hier centraal – en er zijn ook veel toepassingen te vinden die prima passen in de dagrecreatie of in een verblijfsrecreatief concept. De beurs is uitstekend met de trein te bereiken vanuit Nederland.
URL:https://pretwerk.nl/evenement/fsb-aquanale-sport-en-zwemmen/
LOCATION:Messe Köln\, Keulen\, Duitsland
CATEGORIES:Vakbeurs
ATTACH;FMTTYPE=image/png:https://pretwerk.nl/wp-content/uploads/2023/08/fsb_logo_500x500.png
END:VEVENT
BEGIN:VEVENT
DTSTART;TZID=Europe/Amsterdam:20251018T000000
DTEND;TZID=Europe/Amsterdam:20251026T235959
DTSTAMP:20260420T141603
CREATED:20250620T083336Z
LAST-MODIFIED:20250620T083338Z
UID:93947-1760745600-1761523199@pretwerk.nl
SUMMARY:Dutch Design Week
DESCRIPTION:Wat doet de Dutch Design Week (DDW) nou op een website voor recreatiebedrijven? Uit eigen ervaring blijkt dat hier diverse nieuwe ontwikkelingen en concepten worden gepresenteerd die ook een praktische meerwaarde hebben voor de recreatiesector. Denk bijvoorbeeld aan de tiny office op vakantieparken\, nieuwe duurzame bouwmaterialen of ‘out of the box’ horecaconcepten. De DDW zet je op het pad van nieuwe ideeën; inspirerend!
URL:https://pretwerk.nl/evenement/dutch-design-week-4/
LOCATION:Eindhoven\, Eindhoven\, Nederland
CATEGORIES:Netwerkbijeenkomst,Vakbeurs
ATTACH;FMTTYPE=image/jpeg:https://pretwerk.nl/wp-content/uploads/logo-ddw.jpg
END:VEVENT
BEGIN:VEVENT
DTSTART;TZID=Europe/Amsterdam:20251009T090000
DTEND;TZID=Europe/Amsterdam:20251009T160000
DTSTAMP:20260420T141603
CREATED:20250828T142331Z
LAST-MODIFIED:20250828T142334Z
UID:95319-1760000400-1760025600@pretwerk.nl
SUMMARY:ZwembadBranche Dag
DESCRIPTION:Op donderdag 9 oktober 2025 komen professionals\, experts en leveranciers uit de zwembranche in Houten samen voor een dag vol kennisuitwisseling\, inspiratie en ontmoetingen. Deze dag biedt een mix van vakbeurs (met stands) en een kennisprogramma.
URL:https://pretwerk.nl/evenement/zwembadbranche-dag-2/
LOCATION:Expo Houten\, Houten\, Nederland
CATEGORIES:Congres,Vakbeurs
ATTACH;FMTTYPE=image/jpeg:https://pretwerk.nl/wp-content/uploads/zwembadbranche-2022-05.jpg
END:VEVENT
BEGIN:VEVENT
DTSTART;TZID=Europe/Amsterdam:20251006T100000
DTEND;TZID=Europe/Amsterdam:20251008T170000
DTSTAMP:20260420T141603
CREATED:20250929T120944Z
LAST-MODIFIED:20250929T120947Z
UID:95915-1759744800-1759942800@pretwerk.nl
SUMMARY:BBB Maastricht (horecavakbeurs)
DESCRIPTION:Tijdens editie 2024 gaven 350 exposanten uit Nederland en België een inspirerende beurspresentatie\, met een grensoverstijgend aanbod aan horecaproducten en -services voor elk horecasegment. BBB Maastricht onderscheidt zich door het persoonlijke en internationale karakter\, de met zorg aangeklede beursvloer en het kwalitatief hoogwaardige programma.
URL:https://pretwerk.nl/evenement/bbb-maastricht-horecavakbeurs-2/
LOCATION:Mecc Maastricht\, Maastricht
CATEGORIES:Vakbeurs
ATTACH;FMTTYPE=image/png:https://pretwerk.nl/wp-content/uploads/2025/09/bbb-maastricht.png
END:VEVENT
BEGIN:VEVENT
DTSTART;TZID=Europe/Amsterdam:20250924T090000
DTEND;TZID=Europe/Amsterdam:20250925T160000
DTSTAMP:20260420T141603
CREATED:20250513T093015Z
LAST-MODIFIED:20250513T093628Z
UID:93316-1758704400-1758816000@pretwerk.nl
SUMMARY:Vakbeurs Openbare Ruimte
DESCRIPTION:Alles over inrichting en beheer van een slimme\, duurzame en gezonde leefomgeving.
URL:https://pretwerk.nl/evenement/vakbeurs-openbare-ruimte-6/
LOCATION:Jaarbeurs Utrecht
CATEGORIES:Vakbeurs
ATTACH;FMTTYPE=image/jpeg:https://pretwerk.nl/wp-content/uploads/2024/05/VORNL2019-logo-NL.jpg
END:VEVENT
BEGIN:VEVENT
DTSTART;TZID=Europe/Amsterdam:20250923T000000
DTEND;TZID=Europe/Amsterdam:20250925T235959
DTSTAMP:20260420T141603
CREATED:20250307T125035Z
LAST-MODIFIED:20250410T101629Z
UID:92264-1758585600-1758844799@pretwerk.nl
SUMMARY:IAAPA Expo Europe
DESCRIPTION:Grootste attractievakbeurs van Europa. Elk jaar op een andere locatie. Dit jaar in Barcelona. De IAAPA Expo biedt ook nog een interessant programma van lezingen en excursies.
URL:https://pretwerk.nl/evenement/iaapa-expo-europe-5/
LOCATION:Barcelona\, Barcelona\, Spanje
CATEGORIES:Vakbeurs
ATTACH;FMTTYPE=image/jpeg:https://pretwerk.nl/wp-content/uploads/2024/06/iaapa-expo.jpg
END:VEVENT
BEGIN:VEVENT
DTSTART;TZID=Europe/Amsterdam:20250922T110000
DTEND;TZID=Europe/Amsterdam:20250924T180000
DTSTAMP:20260420T141603
CREATED:20250522T131714Z
LAST-MODIFIED:20250522T131716Z
UID:93458-1758538800-1758736800@pretwerk.nl
SUMMARY:Gastvrij Rotterdam
DESCRIPTION:Gastvrijheid\, beleving en kwaliteit staan centraal op de horecavakbeurs Gastvrij Rotterdam. Het gastronomische platform heeft zich tijdens vorige edities bewezen als een hoogstaand evenement voor ambitieuze horecaprofessionals. “..ook managers en inkopers uit de recreatiesector kunnen op de horecavakbeurs inspiratie opdoen.”
URL:https://pretwerk.nl/evenement/gastvrij-rotterdam-4/
LOCATION:ahoy Rotterdam\, Rotterdam
CATEGORIES:Vakbeurs
ATTACH;FMTTYPE=image/jpeg:https://pretwerk.nl/wp-content/uploads/2025/05/gastvrij-rotterdam.jpg
END:VEVENT
BEGIN:VEVENT
DTSTART;TZID=Europe/Amsterdam:20250917T110000
DTEND;TZID=Europe/Amsterdam:20250918T170000
DTSTAMP:20260420T141603
CREATED:20250530T114159Z
LAST-MODIFIED:20250817T111006Z
UID:93559-1758106800-1758214800@pretwerk.nl
SUMMARY:Vieww - luxury glamping event
DESCRIPTION:Tijdens deze inspirerende netwerkdag krijg je waardevolle inzichten in de glamping sector\, ontdek je de nieuwste trends\, innovatieve accommodaties en maak je kennis met toonaangevende partners en hun vernieuwende producten.
URL:https://pretwerk.nl/evenement/vieww-luxury-glamping-event-2/
LOCATION:Mölke\, Zuna\, Netherlands
CATEGORIES:Netwerkbijeenkomst,Vakbeurs
ATTACH;FMTTYPE=image/jpeg:https://pretwerk.nl/wp-content/uploads/2025/05/vieww.jpg
END:VEVENT
BEGIN:VEVENT
DTSTART;TZID=Europe/Amsterdam:20250625T100000
DTEND;TZID=Europe/Amsterdam:20250625T180000
DTSTAMP:20260420T141603
CREATED:20250307T114903Z
LAST-MODIFIED:20250410T101704Z
UID:92253-1750845600-1750874400@pretwerk.nl
SUMMARY:Vakbeurs Family Entertainment Centers 
DESCRIPTION:Een vakdag op een bijzondere locatie; Eiland van Maurik. Hier is in de zomer van 2024 een Family Entertainment Center geopend; Mauk. De vakdag is een mix van vakbeurs\, lezingen en netwerken. Met als kers op de taart; rondkijken op een bijzonder modern FEC op een vakantiepark.
URL:https://pretwerk.nl/evenement/vakbeurs-family-entertainment-centers/
LOCATION:Eiland van Maurik\, Maurik\, Netherlands
CATEGORIES:Congres,Vakbeurs
ATTACH;FMTTYPE=image/jpeg:https://pretwerk.nl/wp-content/uploads/2025/02/vakdag-fec.jpg
END:VEVENT
BEGIN:VEVENT
DTSTART;TZID=Europe/Amsterdam:20250624T100000
DTEND;TZID=Europe/Amsterdam:20250624T180000
DTSTAMP:20260420T141603
CREATED:20250307T113643Z
LAST-MODIFIED:20250410T101730Z
UID:92249-1750759200-1750788000@pretwerk.nl
SUMMARY:Vakbeurs Vakantiehuis van de Toekomst
DESCRIPTION:Vakbeurs met kennisprogramma en netwerkbijeenkomst\, gericht op ontwikkelaars en beheerders van vakantieparken. De organisatie is in handen van Pleisureworld.
URL:https://pretwerk.nl/evenement/vakbeurs-vakantiehuis-van-de-toekomst/
LOCATION:Eiland van Maurik\, Maurik\, Netherlands
CATEGORIES:Congres,Vakbeurs
ATTACH;FMTTYPE=image/png:https://pretwerk.nl/wp-content/uploads/2024/11/banner-Vakantiehuis-van-de-toekomst.png
END:VEVENT
BEGIN:VEVENT
DTSTART;TZID=Europe/Amsterdam:20250603T100000
DTEND;TZID=Europe/Amsterdam:20250605T170000
DTSTAMP:20260420T141603
CREATED:20250521T111812Z
LAST-MODIFIED:20250521T111815Z
UID:93433-1748944800-1749142800@pretwerk.nl
SUMMARY:Vakbeurs Facilitair & Gebouwbeheer
DESCRIPTION:Vakbeurs Facilitair & Gebouwbeheer besteedt ook aandacht aan het segment Leisure. Ongeacht of het gaat om pretparken\, bowlingbanen\, fitnesscentra of zwemvoorzieningen\, geen van hen ontkomt aan de noodzaak van facilitair en/of gebouwbeheer. In de leisure branche zijn de accenten anders\, maar de facilitaire dienstverlening\, c.q. het gebouwbeheer komen in vergelijking met organisaties in andere sectoren in grote lijnen vaak op hetzelfde neer.  \n\n\n\nOnderwerpen die op deze beurs o.a. aan bod komen: schoonmaak\, gebouwbeheer\, beveiliging\, verlichting\, beleving\, catering\, communicatie\, inrichting\, en nog veel meer.
URL:https://pretwerk.nl/evenement/vakbeurs-facilitair-gebouwbeheer/
LOCATION:Brabanthallen\, 's Hertogenbosch
CATEGORIES:Congres,Vakbeurs
ATTACH;FMTTYPE=image/jpeg:https://pretwerk.nl/wp-content/uploads/2025/05/vakbeurs-facilitair.jpg
END:VEVENT
BEGIN:VEVENT
DTSTART;TZID=Europe/Amsterdam:20250527T000000
DTEND;TZID=Europe/Amsterdam:20250528T235959
DTSTAMP:20260420T141603
CREATED:20250506T095326Z
LAST-MODIFIED:20250513T093840Z
UID:93180-1748304000-1748476799@pretwerk.nl
SUMMARY:Indigo (Games)
DESCRIPTION:Indigo is de jaarlijkse ontmoetingsplek voor games-ontwikkelaars. Er zijn niet alleen online games\, maar ook games die worden ontwikkeld voor een fysieke ruimte. Dat biedt (ook) inspiratie voor nieuwe activiteiten in een recreatieve omgeving. De organisatie is een samenwerking van de Dutch Games Association\, de gemeente Rotterdam en het Vlaamse VAF/Gamefonds.
URL:https://pretwerk.nl/evenement/indigo-games/
LOCATION:WTC Rotterdam\, Rotterdam\, Netherlands
CATEGORIES:Congres,Vakbeurs
ATTACH;FMTTYPE=image/jpeg:https://pretwerk.nl/wp-content/uploads/2025/05/indigo-showcase.jpg
END:VEVENT
BEGIN:VEVENT
DTSTART;TZID=Europe/Amsterdam:20250515T090000
DTEND;TZID=Europe/Amsterdam:20250515T160000
DTSTAMP:20260420T141603
CREATED:20250328T144725Z
LAST-MODIFIED:20250410T101912Z
UID:92584-1747299600-1747324800@pretwerk.nl
SUMMARY:Vakbeurs Openbare Ruimte (België)
DESCRIPTION:Het grootste evenement in België op het gebied van inrichting en beheer van publieke en semi-publieke ruimte. Met o.a. veel aanbieders die ook voor de inrichting van recreatiebedrijven relevant zijn zoals groenvoorziening\, verlichting\, bestrating\, speeltoestellen of straatmeubilair.
URL:https://pretwerk.nl/evenement/vakbeurs-openbare-ruimte-belgie/
LOCATION:Brussels Expo\, Brussel\, België
CATEGORIES:Vakbeurs
ATTACH;FMTTYPE=image/png:https://pretwerk.nl/wp-content/uploads/2025/03/VORBE2025-logo.png
END:VEVENT
BEGIN:VEVENT
DTSTART;TZID=Europe/Amsterdam:20250402T100000
DTEND;TZID=Europe/Amsterdam:20250403T170000
DTSTAMP:20260420T141603
CREATED:20241206T154135Z
LAST-MODIFIED:20241206T154137Z
UID:90791-1743588000-1743699600@pretwerk.nl
SUMMARY:Webwinkel Vakdagen
DESCRIPTION:Beurs met kennisprogramma voor iedere ondernemer of marketeer die afhankelijk is van online verkopen. Hier worden de laatste trends besproken.
URL:https://pretwerk.nl/evenement/webwinkel-vakdagen-3/
LOCATION:Jaarbeurs Utrecht
CATEGORIES:Congres,Vakbeurs
ATTACH;FMTTYPE=image/jpeg:https://pretwerk.nl/wp-content/uploads/2024/12/webwinkel-vakdagen.jpg
END:VEVENT
BEGIN:VEVENT
DTSTART;TZID=Europe/Amsterdam:20250320T090000
DTEND;TZID=Europe/Amsterdam:20250320T160000
DTSTAMP:20260420T141603
CREATED:20241204T123206Z
LAST-MODIFIED:20241204T123208Z
UID:90754-1742461200-1742486400@pretwerk.nl
SUMMARY:Vakbeurs Sportaccommodaties
DESCRIPTION:De nieuwste oplossingen voor zowel binnen- als buitensport en andere beweegomgevingen. Sluit aan in lezingenzalen om alle ins- en outs te leren over beheer\, onderhoud en bouw.
URL:https://pretwerk.nl/evenement/vakbeurs-sportaccommodaties-3/
LOCATION:Expo Houten\, Houten\, Nederland
CATEGORIES:Congres,Vakbeurs
ATTACH;FMTTYPE=image/jpeg:https://pretwerk.nl/wp-content/uploads/2024/12/logo-vakbeurs-sportaccommodaties.jpg
END:VEVENT
BEGIN:VEVENT
DTSTART;TZID=Europe/Amsterdam:20250315T100000
DTEND;TZID=Europe/Amsterdam:20250316T170000
DTSTAMP:20260420T141603
CREATED:20241129T135820Z
LAST-MODIFIED:20241129T135857Z
UID:90670-1742032800-1742144400@pretwerk.nl
SUMMARY:Flightsimweekend
DESCRIPTION:Het Flightsimweekend is er voor zowel de professionele als de recreatieve markt. Het is vooral een ontmoetingsplek voor iedereen met een passie voor flight simulators. Op de beursvloer kun je diverse simulatoren zelf uitproberen. Er is ook een kennisplatform waar de laatste trends worden gedeeld.
URL:https://pretwerk.nl/evenement/flightsimweekend/
LOCATION:Aviodrome\, Lelystad\, Netherlands
CATEGORIES:Vakbeurs
ATTACH;FMTTYPE=image/jpeg:https://pretwerk.nl/wp-content/uploads/2024/11/logo-flightsimweekend.jpg
END:VEVENT
BEGIN:VEVENT
DTSTART;TZID=Europe/Amsterdam:20250311T100000
DTEND;TZID=Europe/Amsterdam:20250312T170000
DTSTAMP:20260420T141603
CREATED:20241217T145327Z
LAST-MODIFIED:20241217T145400Z
UID:91003-1741687200-1741798800@pretwerk.nl
SUMMARY:Independent Hotel Show Amsterdam
DESCRIPTION:Een reizende vakbeurs voor hoteliers die ook andere Europese steden aandoet. Het is een vakbeurs\, aangevuld met workshops. Op veel gebieden is de hotelsector een voorloper binnen de verblijfsrecreatie. Dus hier valt vast nog wat te leren.
URL:https://pretwerk.nl/evenement/independent-hotel-show-amsterdam/
LOCATION:RAI\, Amsterdam
CATEGORIES:Vakbeurs
ATTACH;FMTTYPE=image/jpeg:https://pretwerk.nl/wp-content/uploads/2023/11/independent-hotel-show.jpg
END:VEVENT
BEGIN:VEVENT
DTSTART;TZID=Europe/Amsterdam:20250304T100000
DTEND;TZID=Europe/Amsterdam:20250306T180000
DTSTAMP:20260420T141603
CREATED:20250117T125523Z
LAST-MODIFIED:20250117T125525Z
UID:91494-1741082400-1741284000@pretwerk.nl
SUMMARY:ITB
DESCRIPTION:De ITB in Berlijn wordt aangekondigd als ‘The World’s Leading Travel Trade Show’. Op internationale b2b beurs voor de toeristische sector presenteren toeristische destinaties zich. Ook het NBTC is elk jaar vertegenwoordigd op de ITB om\, samen met partners\, de destinatie Nederland op de kaart te zetten voor zowel recreatieve als zakelijke bezoekers.
URL:https://pretwerk.nl/evenement/itb/
LOCATION:Messe Berlin\, Berlijn\, Duitsland
CATEGORIES:Internationaal,Vakbeurs
ATTACH;FMTTYPE=image/jpeg:https://pretwerk.nl/wp-content/uploads/Logo_ITB_Berlin_with_claim_english.jpg
END:VEVENT
BEGIN:VEVENT
DTSTART;TZID=Europe/Amsterdam:20250213T000000
DTEND;TZID=Europe/Amsterdam:20250213T235959
DTSTAMP:20260420T141603
CREATED:20241128T150023Z
LAST-MODIFIED:20241128T150025Z
UID:90640-1739404800-1739491199@pretwerk.nl
SUMMARY:Eventsummit
DESCRIPTION:EventSummit is dé dag voor de gehele evenementenindustrie. Effectief en efficiënt zakendoen\, inspiratie op doen en kennis opdoen.
URL:https://pretwerk.nl/evenement/eventsummit-2/
LOCATION:Jaarbeurs Utrecht
CATEGORIES:Congres,Vakbeurs
ATTACH;FMTTYPE=image/png:https://pretwerk.nl/wp-content/uploads/2024/11/logo-eventsummit-600.png
END:VEVENT
BEGIN:VEVENT
DTSTART;TZID=Europe/Amsterdam:20250212T110000
DTEND;TZID=Europe/Amsterdam:20250213T160000
DTSTAMP:20260420T141603
CREATED:20241014T075141Z
LAST-MODIFIED:20241231T125701Z
UID:89718-1739358000-1739462400@pretwerk.nl
SUMMARY:Recreatie Next Level
DESCRIPTION:Recreatie Next Level is dé next step naar inspiratie en kennis voor de (toekomstige) recreatieprofessional. Tijdens dit event\, speciaal ontwikkeld voor recreatieondernemers\, marketeers en de technische dienst\, ontdek je de nieuwste trends\, inzichten en praktische oplossingen om jouw organisatie naar een hoger niveau te tillen. Tussen 11.00 en 16.00 uur kan er deelgenomen worden aan diverse workshops\, lezingen en paneldiscussies. Voor iedere professional is er een passend aanbod: \n\n\n\nVoor marketeers: \n\n\n\n\nNeem deel aan de marketeerslunch en bespreek je marketinguitdagingen met experts\n\n\n\nVolg één van de inspirerende workshops\, zoals Hoe maak je een marketingplan? Door Johanna Oosterbaan\n\n\n\n\nVoor ondernemers en technische dienst: \n\n\n\n\nSluit aan bij de ondernemers- of de technieklunch en laat je inspireren door praktijkvoorbeelden\n\n\n\nVolg lezingen over actuele onderwerpen zoals AI\, ethisch hacken en het NRIT trendrapport\n\n\n\n\nMet meer dan 60 experts die hun kennis en expertise delen\, biedt Recreatie Next Level jou waardevolle inzichten die direct toepasbaar zijn in jouw dagelijkse praktijk.
URL:https://pretwerk.nl/evenement/recreatie-next-level-2/
LOCATION:Evenementenhal Gorinchem\, Gorinchem\, Nederland
CATEGORIES:Congres,Vakbeurs
ATTACH;FMTTYPE=image/jpeg:https://pretwerk.nl/wp-content/uploads/2024/10/Recreatie_NextLevel_2024.jpg
END:VEVENT
BEGIN:VEVENT
DTSTART;TZID=Europe/Amsterdam:20250207T000000
DTEND;TZID=Europe/Amsterdam:20250211T235959
DTSTAMP:20260420T141603
CREATED:20241119T124747Z
LAST-MODIFIED:20241119T140800Z
UID:90457-1738886400-1739318399@pretwerk.nl
SUMMARY:Christmasworld
DESCRIPTION:Vakbeurs voor decoratie en sfeerverlichting. De nadruk ligt hier op de kerstperiode\, maar er is volop aandacht voor andere special events die de nodige aankleding behoeven.
URL:https://pretwerk.nl/evenement/christmasworld/
LOCATION:Messe Frankfurt\, Frankfurt\, Germany
CATEGORIES:Internationaal,Vakbeurs
ATTACH;FMTTYPE=image/jpeg:https://pretwerk.nl/wp-content/uploads/2023/10/ID_80_CW_ALLGEMEIN_Banner_300x300px_en.jpg
END:VEVENT
BEGIN:VEVENT
DTSTART;TZID=Europe/Amsterdam:20250204T100000
DTEND;TZID=Europe/Amsterdam:20250207T160000
DTSTAMP:20260420T141603
CREATED:20250107T121227Z
LAST-MODIFIED:20250107T121448Z
UID:91294-1738663200-1738944000@pretwerk.nl
SUMMARY:Integrated Systems
DESCRIPTION:Deze vakbeurs is enkele jaren geleden verhuisd van Amsterdam naar Barcelona. Helaas\, want het bood een schat aan informatie en nieuwe producten op het gebied van audio visuele techniek; de basis van beleving. Onderwerpen als gaming\, vr\, ar\, projectietechnieken en drones komen we ook steeds vaker tegen in de sector leisure. Kijk zeker ook even naar de tech-tours die vanuit de beurs plaatsvinden naar o.a. leisureprojecten. (o.a. naar een sports experience center)
URL:https://pretwerk.nl/evenement/integrated-systems-2/
CATEGORIES:Congres,Internationaal,Vakbeurs
ATTACH;FMTTYPE=image/jpeg:https://pretwerk.nl/wp-content/uploads/integrated-systems-1.jpg
END:VEVENT
END:VCALENDAR