BEGIN:VCALENDAR
VERSION:2.0
PRODID:-//Pretwerk - ECPv6.6.3//NONSGML v1.0//EN
CALSCALE:GREGORIAN
METHOD:PUBLISH
X-WR-CALNAME:Pretwerk
X-ORIGINAL-URL:https://pretwerk.nl
X-WR-CALDESC:Evenementen voor Pretwerk
REFRESH-INTERVAL;VALUE=DURATION:PT1H
X-Robots-Tag:noindex
X-PUBLISHED-TTL:PT1H
BEGIN:VTIMEZONE
TZID:Europe/Amsterdam
BEGIN:DAYLIGHT
TZOFFSETFROM:+0100
TZOFFSETTO:+0200
TZNAME:CEST
DTSTART:20210328T010000
END:DAYLIGHT
BEGIN:STANDARD
TZOFFSETFROM:+0200
TZOFFSETTO:+0100
TZNAME:CET
DTSTART:20211031T010000
END:STANDARD
BEGIN:DAYLIGHT
TZOFFSETFROM:+0100
TZOFFSETTO:+0200
TZNAME:CEST
DTSTART:20220327T010000
END:DAYLIGHT
BEGIN:STANDARD
TZOFFSETFROM:+0200
TZOFFSETTO:+0100
TZNAME:CET
DTSTART:20221030T010000
END:STANDARD
BEGIN:DAYLIGHT
TZOFFSETFROM:+0100
TZOFFSETTO:+0200
TZNAME:CEST
DTSTART:20230326T010000
END:DAYLIGHT
BEGIN:STANDARD
TZOFFSETFROM:+0200
TZOFFSETTO:+0100
TZNAME:CET
DTSTART:20231029T010000
END:STANDARD
END:VTIMEZONE
BEGIN:VEVENT
DTSTART;TZID=Europe/Amsterdam:20230201T090000
DTEND;TZID=Europe/Amsterdam:20230205T180000
DTSTAMP:20260421T003604
CREATED:20221230T130020Z
LAST-MODIFIED:20221230T130020Z
UID:78406-1675242000-1675620000@pretwerk.nl
SUMMARY:Spielwarenmesse
DESCRIPTION:Een beurs voor de brede speelindustrie. Naast het traditionele speelgoed is er ook veel aandacht voor games en nieuwe speelvormen\, die ook relevant (kunnen) zijn voor recreatiebedrijven.
URL:https://pretwerk.nl/evenement/spielwarenmesse/
LOCATION:Messezentrum Nürnberg\, Nürnberg\, Duitsland
CATEGORIES:Vakbeurs
ATTACH;FMTTYPE=image/jpeg:https://pretwerk.nl/wp-content/uploads/spielwarenmess.jpg
END:VEVENT
BEGIN:VEVENT
DTSTART;TZID=Europe/Amsterdam:20230118T080000
DTEND;TZID=Europe/Amsterdam:20230122T170000
DTSTAMP:20260421T003604
CREATED:20221222T123412Z
LAST-MODIFIED:20221222T123412Z
UID:78295-1674028800-1674406800@pretwerk.nl
SUMMARY:Fitur - Tourism Trade Fair
DESCRIPTION:Vakbeurs voor toerismeprofessionals\, vooral gericht op de Spaanstalige markten. Een bijzonder onderdeel is FiturTechy (18 – 20 januari)\, waarin een beeld wordt geschets van de toerismesector in de toekomst. (zie ook de foto van de futuristische hotelkamer)
URL:https://pretwerk.nl/evenement/fitur-tourism-trade-fair/
LOCATION:Madrid\, Spanje
CATEGORIES:Vakbeurs
ATTACH;FMTTYPE=image/jpeg:https://pretwerk.nl/wp-content/uploads/techYhotel-FITURTECHY.jpg
END:VEVENT
BEGIN:VEVENT
DTSTART;TZID=Europe/Amsterdam:20230110T100000
DTEND;TZID=Europe/Amsterdam:20230112T170000
DTSTAMP:20260421T003604
CREATED:20221229T150652Z
LAST-MODIFIED:20221229T150652Z
UID:78380-1673344800-1673542800@pretwerk.nl
SUMMARY:Entertainment Attractions & Gaming Expo\, London
DESCRIPTION:The Entertainment\, Attractions & Gaming International Expo (EAG Expo 2023)\, is the leisure industry’s leading coin-operated amusements show and a great opportunity for visitors to keep up to date with what’s new in coin-op visitor attractions\, entertainment and gaming.
URL:https://pretwerk.nl/evenement/entertainment-attractions-gaming-expo-london/
LOCATION:Excel\, Londen\, Verenigd Koninkrijk
CATEGORIES:Internationaal,Vakbeurs
ATTACH;FMTTYPE=image/jpeg:https://pretwerk.nl/wp-content/uploads/EAG-logo.jpg
END:VEVENT
BEGIN:VEVENT
DTSTART;TZID=Europe/Amsterdam:20230109T100000
DTEND;TZID=Europe/Amsterdam:20230112T180000
DTSTAMP:20260421T003604
CREATED:20221126T094138Z
LAST-MODIFIED:20221126T094138Z
UID:78021-1673258400-1673546400@pretwerk.nl
SUMMARY:Horecava
DESCRIPTION:Horecava is al meer dan 65 jaar dé horecabeurs waar vakmensen in de wereld van eten\, drinken en buitenshuis slapen elkaar kunnen ontmoeten.
URL:https://pretwerk.nl/evenement/horecava/
LOCATION:RAI\, Amsterdam
CATEGORIES:Vakbeurs
ATTACH;FMTTYPE=image/jpeg:https://pretwerk.nl/wp-content/uploads/horecava-2.jpg
END:VEVENT
BEGIN:VEVENT
DTSTART;TZID=Europe/Amsterdam:20221129T000000
DTEND;TZID=Europe/Amsterdam:20221201T235959
DTSTAMP:20260421T003604
CREATED:20220628T144344Z
LAST-MODIFIED:20220628T144344Z
UID:75962-1669680000-1669939199@pretwerk.nl
SUMMARY:LeisurUp by Mapic
DESCRIPTION:Internationale vakbeurs voor leisurebedrijven. (turning location-based attractions into lifestyle destinations including retail sites\, urban areas\, transport hubs and travel destinations) Het event is gekoppeld aan Mapic\, de toonaangevende internationale beurs voor retailprofessionals.
URL:https://pretwerk.nl/evenement/leisurup-by-mapic-2/
LOCATION:Cannes (Frankrijk)
CATEGORIES:Internationaal,Vakbeurs
ATTACH;FMTTYPE=image/jpeg:https://pretwerk.nl/wp-content/uploads/LeisurUp.jpg
END:VEVENT
BEGIN:VEVENT
DTSTART;TZID=Europe/Amsterdam:20221115T100000
DTEND;TZID=Europe/Amsterdam:20221117T180000
DTSTAMP:20260421T003604
CREATED:20220627T115122Z
LAST-MODIFIED:20220627T115122Z
UID:75937-1668506400-1668708000@pretwerk.nl
SUMMARY:Recreatie Vakbeurs Hardenberg
DESCRIPTION:De grootste vakbeurs voor de recreatiesector in Nederland. Je ziet de nieuwste fysieke producten\, diensten en innovaties van ruim 260 exposanten uit de complete sector (14 verschillende branches) binnen de recreatie. Je ontmoet (bestaande) relaties en ontdekt nieuwe leveranciers. 
URL:https://pretwerk.nl/evenement/recreatie-vakbeurs-hardenberg/
LOCATION:evenementenhal Hardenberg\, Hardenberg\, Nederland
CATEGORIES:Vakbeurs
ATTACH;FMTTYPE=image/png:https://pretwerk.nl/wp-content/uploads/Logo-Recreatie-Vakbeurs-nw-lr.png
END:VEVENT
BEGIN:VEVENT
DTSTART;TZID=Europe/Amsterdam:20221114T000000
DTEND;TZID=Europe/Amsterdam:20221117T235959
DTSTAMP:20260421T003604
CREATED:20220629T183040Z
LAST-MODIFIED:20220629T183040Z
UID:75994-1668384000-1668729599@pretwerk.nl
SUMMARY:IAAPA Expo Orlando
DESCRIPTION:Grootste attractie-vakbeurs ter wereld. Naast de vakbeurs zijn er ook diverse kennisbijeenkomsten en is het mogelijk om (begeleid) attracties in de regio te bezoeken.
URL:https://pretwerk.nl/evenement/iaapa-expo-orlando/
LOCATION:Orlando\, Florida (VS)\, Orlando\, florida\, Verenigde Staten
CATEGORIES:Vakbeurs
ATTACH;FMTTYPE=image/jpeg:https://pretwerk.nl/wp-content/uploads/iaapa-expo-2022.jpg
END:VEVENT
BEGIN:VEVENT
DTSTART;TZID=Europe/Amsterdam:20221109T110000
DTEND;TZID=Europe/Amsterdam:20221110T173000
DTSTAMP:20260421T003604
CREATED:20220630T115004Z
LAST-MODIFIED:20220630T115004Z
UID:76016-1667991600-1668101400@pretwerk.nl
SUMMARY:Festivak
DESCRIPTION:Festivak biedt een compleet overzicht van aanbieders van producten of diensten die organisatoren ondersteunen bij het verwezenlijken van hun evenement. Verder biedt Festivak een inhoudelijk programma met actuele thema’s en cases waarbij organisatoren geïnspireerd en gemotiveerd worden.
URL:https://pretwerk.nl/evenement/festivak/
LOCATION:Brabanthallen\, 's Hertogenbosch
CATEGORIES:Vakbeurs
ATTACH;FMTTYPE=image/jpeg:https://pretwerk.nl/wp-content/uploads/festivak-2.jpg
END:VEVENT
BEGIN:VEVENT
DTSTART;TZID=Europe/Amsterdam:20221102T100000
DTEND;TZID=Europe/Amsterdam:20221103T160000
DTSTAMP:20260421T003604
CREATED:20220701T202138Z
LAST-MODIFIED:20220701T202138Z
UID:76049-1667383200-1667491200@pretwerk.nl
SUMMARY:Vakbeurs (UK) voor diverse leisure marktsegmenten
DESCRIPTION:Het NEC eventcenter in Birmingham (UK) staat op 2 en 3 november volop in het teken van leisure. Er worden maar liefst zes vakbeurzen\, voor verschillende marktsegmenten tegelijk georganiseerd: \n\n\n\nThe Holiday Park & Resort Innovation; The Farm Business Innovation; Family Attraction Expo; Country House Business Innovation; Leisure Food & Beverage Expo; Leisure Toy & Gift Fair.
URL:https://pretwerk.nl/evenement/vakbeurs-uk-voor-diverse-leisure-marktsegmenten/
LOCATION:NEC Birmingham\, Birmingham\, Verenigd Koninkrijk
CATEGORIES:Internationaal,Vakbeurs
ATTACH;FMTTYPE=image/png:https://pretwerk.nl/wp-content/uploads/holiday-park-en-resort-show.png
END:VEVENT
BEGIN:VEVENT
DTSTART;TZID=Europe/Amsterdam:20221011T100000
DTEND;TZID=Europe/Amsterdam:20221013T170000
DTSTAMP:20260421T003604
CREATED:20221006T100916Z
LAST-MODIFIED:20221006T100916Z
UID:77268-1665482400-1665680400@pretwerk.nl
SUMMARY:Vakbeurs Energie
DESCRIPTION:Vakbeurs Energie is het grootste zakelijke evenement in het kader van duurzame opwekking en besparing van energie in Nederland. 3 dagen innovatie\, kennisdeling en business.
URL:https://pretwerk.nl/evenement/vakbeurs-energie/
LOCATION:Brabanthallen\, 's Hertogenbosch
CATEGORIES:Vakbeurs
ATTACH;FMTTYPE=image/jpeg:https://pretwerk.nl/wp-content/uploads/energie-3.jpg
END:VEVENT
BEGIN:VEVENT
DTSTART;TZID=Europe/Amsterdam:20221011T000000
DTEND;TZID=Europe/Amsterdam:20221013T235959
DTSTAMP:20260421T003604
CREATED:20220701T204428Z
LAST-MODIFIED:20220701T204428Z
UID:76061-1665446400-1665705599@pretwerk.nl
SUMMARY:Salon Atlantica
DESCRIPTION:Internationale vakbeurs in het Franse La Rochelle\, gericht op recreatie en toerisme in de buitenlucht. (Hotellerie de plein air)
URL:https://pretwerk.nl/evenement/salon-atlantica/
LOCATION:La Rochelle\, La Rochelle\, Frankrijk
CATEGORIES:Vakbeurs
ATTACH;FMTTYPE=image/png:https://pretwerk.nl/wp-content/uploads/salon-atlantica.png
END:VEVENT
BEGIN:VEVENT
DTSTART;TZID=Europe/Amsterdam:20221010T000000
DTEND;TZID=Europe/Amsterdam:20221012T235959
DTSTAMP:20260421T003604
CREATED:20220725T151309Z
LAST-MODIFIED:20220725T151309Z
UID:76410-1665360000-1665619199@pretwerk.nl
SUMMARY:BBB Maastricht - horecavakbeurs
DESCRIPTION:BBB Maastricht is dé plek waar de horecaprofessional uit Zuidoost Nederland en Belgisch Limburg aanwezig is. BBB Maastricht is een kwaliteitsbeurs en biedt naast een hoop netwerkmogelijkheden en gezelligheid\, een bomvol programma aan proeverijen\, kook battles\, masterclasses en meer.
URL:https://pretwerk.nl/evenement/bbb-maastricht-horecavakbeurs/
LOCATION:MECC Maastricht\, Maastricht
CATEGORIES:Vakbeurs
ATTACH;FMTTYPE=image/jpeg:https://pretwerk.nl/wp-content/uploads/bbb.jpg
END:VEVENT
BEGIN:VEVENT
DTSTART;TZID=Europe/Amsterdam:20221005T090000
DTEND;TZID=Europe/Amsterdam:20221006T170000
DTSTAMP:20260421T003604
CREATED:20220628T142625Z
LAST-MODIFIED:20220628T142625Z
UID:75958-1664960400-1665075600@pretwerk.nl
SUMMARY:Vakbeurs Openbare Ruimte
DESCRIPTION:Alles over inrichting en beheer van duurzame en circulaire openbare ruimte.
URL:https://pretwerk.nl/evenement/vakbeurs-openbare-ruimte-3/
LOCATION:Jaarbeurs Utrecht
CATEGORIES:Vakbeurs
ATTACH;FMTTYPE=image/jpeg:https://pretwerk.nl/wp-content/uploads/VORNL2022-logo-RGB.jpg
END:VEVENT
BEGIN:VEVENT
DTSTART;TZID=Europe/Amsterdam:20220919T110000
DTEND;TZID=Europe/Amsterdam:20220921T180000
DTSTAMP:20260421T003604
CREATED:20220907T155812Z
LAST-MODIFIED:20220907T155812Z
UID:76871-1663585200-1663783200@pretwerk.nl
SUMMARY:Gastvrij Rotterdam
DESCRIPTION:Gastvrij Rotterdam is dé horecavakbeurs voor ambitieuze horecaprofessionals en heeft zich tijdens vorige edities bewezen als hoogstaand gastronomisch platform voor de horecabranche. Het toonaangevende gastronomische platform voor de professionele horeca biedt bezoekers een overzichtelijk beeld van de laatste trends en ontwikkelingen in de sector en biedt daarnaast een compleet aanbod van food en non-food producten en diensten. Beursbezoekers kunnen genieten van 500 exposanten\, diverse workshops\, demonstraties\, masterclasses\, wedstrijden en proeverijen met sterrenchefs\, meesterkoks\, Masters of Wine en topgastronomen.
URL:https://pretwerk.nl/evenement/gastvrij-rotterdam/
LOCATION:ahoy Rotterdam\, Rotterdam
CATEGORIES:Vakbeurs
ATTACH;FMTTYPE=image/jpeg:https://pretwerk.nl/wp-content/uploads/gastvrij-rotterdam.jpg
END:VEVENT
BEGIN:VEVENT
DTSTART;TZID=Europe/Amsterdam:20220915T000000
DTEND;TZID=Europe/Amsterdam:20220917T235959
DTSTAMP:20260421T003604
CREATED:20220701T205140Z
LAST-MODIFIED:20220701T205140Z
UID:76066-1663200000-1663459199@pretwerk.nl
SUMMARY:The Glamping Show
DESCRIPTION:Grote internationale vakbeurs voor glampingconcepten op een groot terrein in het Britse Stoneleigh. Je vindt hier niet alleen accommodaties\, maar ook alle onderdelen en kennis om je glampingconcept succesvol in te vullen
URL:https://pretwerk.nl/evenement/the-glamping-show-2/
LOCATION:Stoneleigh\, Stoneleigh\, Verenigd Koninkrijk
CATEGORIES:Internationaal,Vakbeurs
ATTACH;FMTTYPE=image/jpeg:https://pretwerk.nl/wp-content/uploads/the-glamping-show.jpg
END:VEVENT
BEGIN:VEVENT
DTSTART;TZID=Europe/Amsterdam:20220913T000000
DTEND;TZID=Europe/Amsterdam:20220915T235959
DTSTAMP:20260421T003604
CREATED:20220628T150344Z
LAST-MODIFIED:20220628T150344Z
UID:75966-1663027200-1663286399@pretwerk.nl
SUMMARY:IAAPA Expo Europe
DESCRIPTION:De grootste attractievakbeurs in Europa. Naast de Expo zijn er ook diverse interessante lezingen. Het congresprogramma start op 12 september. De IAAPA Expo Europe heeft in de loop der jaren een steeds bredere scope gekregen. Naast de traditionele attractieparken\, kermissen en waterparken worden nu ook ook de Family Entertainment Centra\, indoor attracties\, retailtainment\, vakantieparken\, bezoekerscentra e.v.a. tot de doelgroep van de beurs gerekend.
URL:https://pretwerk.nl/evenement/iaapa-expo-europe-2/
LOCATION:London (UK)
CATEGORIES:Congres,Internationaal,Vakbeurs
ATTACH;FMTTYPE=image/jpeg:https://pretwerk.nl/wp-content/uploads/iaapa-expo-europe-1.jpg
END:VEVENT
BEGIN:VEVENT
DTSTART;TZID=Europe/Amsterdam:20220519T120000
DTEND;TZID=Europe/Amsterdam:20220519T170000
DTSTAMP:20260421T003604
CREATED:20220228T150612Z
LAST-MODIFIED:20220228T150612Z
UID:74263-1652961600-1652979600@pretwerk.nl
SUMMARY:City Breaks Press Event
DESCRIPTION:Het CITY BREAKS PRESS EVENT is een unieke gelegenheid om uw stad\, hotelketen\, vervoersmaatschappij of reisproduct bij (reis)journalisten en bloggers te promoten.
URL:https://pretwerk.nl/evenement/city-breaks-press-event/
LOCATION:Den Haag
CATEGORIES:Vakbeurs
ATTACH;FMTTYPE=image/jpeg:https://pretwerk.nl/wp-content/uploads/Baltus-CityBreaksPressEvent.jpg
END:VEVENT
BEGIN:VEVENT
DTSTART;TZID=Europe/Amsterdam:20220517T090000
DTEND;TZID=Europe/Amsterdam:20220519T170000
DTSTAMP:20260421T003604
CREATED:20220330T153353Z
LAST-MODIFIED:20220330T153353Z
UID:74753-1652778000-1652979600@pretwerk.nl
SUMMARY:Monumentenbeurs
DESCRIPTION:MONUMENT richt zich specifiek op onderhoud\, herbestemming\, restauratie en verduurzaming van monumenten. Hier ontmoeten aanbieders van producten en diensten voor de gebouwd erfgoedsector op gepaste afstand professionals en eigenaren op zoek naar innovatieve producten\, kennis en informatie. \n\n\n\nMONUMENT 2022 vindt gelijktijdig plaats met vakbeurzen RENOVATIE. De vakbeurs RENOVATIE gaat over sneller\, efficiënter en omgevingsvriendelijker renoveren.
URL:https://pretwerk.nl/evenement/monumentenbeurs/
LOCATION:Brabanthallen\, 's Hertogenbosch
CATEGORIES:Vakbeurs
ATTACH;FMTTYPE=image/jpeg:https://pretwerk.nl/wp-content/uploads/monument-1.jpg
END:VEVENT
BEGIN:VEVENT
DTSTART;TZID=Europe/Amsterdam:20220510T080000
DTEND;TZID=Europe/Amsterdam:20220513T170000
DTSTAMP:20260421T003604
CREATED:20220228T153204Z
LAST-MODIFIED:20220228T153204Z
UID:74270-1652169600-1652461200@pretwerk.nl
SUMMARY:Integrated Systems
DESCRIPTION:Techniekbeurs voor Audio-visuele toepassingen.
URL:https://pretwerk.nl/evenement/integrated-systems/
LOCATION:Barcelona
CATEGORIES:Internationaal,Vakbeurs
ATTACH;FMTTYPE=image/jpeg:https://pretwerk.nl/wp-content/uploads/integrated-systems-1.jpg
END:VEVENT
BEGIN:VEVENT
DTSTART;TZID=Europe/Amsterdam:20220426T090000
DTEND;TZID=Europe/Amsterdam:20220426T170000
DTSTAMP:20260421T003604
CREATED:20220228T171509Z
LAST-MODIFIED:20220228T171509Z
UID:74293-1650963600-1650992400@pretwerk.nl
SUMMARY:Vakbeurs Sportaccommodaties
DESCRIPTION:100% focus op binnen- en buitensportaccommodaties: alles voor (ver)bouw\, inrichting en beheer.
URL:https://pretwerk.nl/evenement/vakbeurs-sportaccommodaties/
LOCATION:Houten
CATEGORIES:Vakbeurs
ATTACH;FMTTYPE=image/jpeg:https://pretwerk.nl/wp-content/uploads/sportaccom.jpg
END:VEVENT
BEGIN:VEVENT
DTSTART;TZID=Europe/Amsterdam:20220414T090000
DTEND;TZID=Europe/Amsterdam:20220414T170000
DTSTAMP:20260421T003604
CREATED:20220308T092357Z
LAST-MODIFIED:20220308T092357Z
UID:74381-1649926800-1649955600@pretwerk.nl
SUMMARY:Event Summit
DESCRIPTION:EventSummit is dé dag voor de gehele evenementenindustrie. Effectief en efficiënt zakendoen\, inspiratie op doen en kennis opdoen.
URL:https://pretwerk.nl/evenement/event-summit/
CATEGORIES:Congres,Vakbeurs
ATTACH;FMTTYPE=image/png:https://pretwerk.nl/wp-content/uploads/logo-eventsummit-600.png
END:VEVENT
BEGIN:VEVENT
DTSTART;TZID=Europe/Amsterdam:20220402T193000
DTEND;TZID=Europe/Amsterdam:20220402T230000
DTSTAMP:20260421T003604
CREATED:20220321T191907Z
LAST-MODIFIED:20220321T191907Z
UID:74581-1648927800-1648940400@pretwerk.nl
SUMMARY:Scare Event
DESCRIPTION:Na een succesvolle eerste editie keert het Scare Event dit jaar terug op zaterdag 2 april. Dit is de eerste scare en horror conferentie van Nederland. Tijdens dit event zullen er lezingen worden gegeven\, zijn er standhouders aanwezig en worden de Scare Awards uitgereikt.
URL:https://pretwerk.nl/evenement/scare-event/
CATEGORIES:Vakbeurs
ATTACH;FMTTYPE=image/jpeg:https://pretwerk.nl/wp-content/uploads/scareeventjpeg.jpg
END:VEVENT
BEGIN:VEVENT
DTSTART;TZID=Europe/Amsterdam:20220316T080000
DTEND;TZID=Europe/Amsterdam:20220317T170000
DTSTAMP:20260421T003604
CREATED:20220228T170739Z
LAST-MODIFIED:20220228T170739Z
UID:74289-1647417600-1647536400@pretwerk.nl
SUMMARY:Independent Hotelshow Amsterdam
DESCRIPTION:Independent Hotel Show Amsterdam is het branche-evenement dat volledig is gewijd aan de behoeften van luxe en boutique hoteliers.
URL:https://pretwerk.nl/evenement/independent-hotelshow-amsterdam/
LOCATION:RAI\, Amsterdam
CATEGORIES:Congres,Vakbeurs
ATTACH;FMTTYPE=image/jpeg:https://pretwerk.nl/wp-content/uploads/IH-Amsterdam.jpg
END:VEVENT
BEGIN:VEVENT
DTSTART;TZID=Europe/Amsterdam:20220311T110000
DTEND;TZID=Europe/Amsterdam:20220311T170000
DTSTAMP:20260421T003604
CREATED:20220228T165922Z
LAST-MODIFIED:20220228T165922Z
UID:74284-1646996400-1647018000@pretwerk.nl
SUMMARY:Back to Reality (VR / AR event)
DESCRIPTION:Virtual Reality\, Metaverse\, NFT\, Augmented Reality. Termen die steeds meer worden gebruikt\, maar wat kan je er mee? Bezoekers van Back To Reality kunnen dit ervaren tijdens het vijfdaagse evenement.
URL:https://pretwerk.nl/evenement/back-to-reality-vr-ar-event/
LOCATION:Jaarbeurs Utrecht
CATEGORIES:Congres,Vakbeurs
ATTACH;FMTTYPE=image/jpeg:https://pretwerk.nl/wp-content/uploads/BTR-banner-Social.jpg
END:VEVENT
BEGIN:VEVENT
DTSTART;TZID=Europe/Amsterdam:20220301T080000
DTEND;TZID=Europe/Amsterdam:20220303T170000
DTSTAMP:20260421T003604
CREATED:20220228T154109Z
LAST-MODIFIED:20220228T154109Z
UID:74274-1646121600-1646326800@pretwerk.nl
SUMMARY:Entertainment\, Attractions & Gaming International Expo
DESCRIPTION:EAG 2022 is the leisure industry’s leading coin-operated amusements show and a great opportunity to keep up to date with what’s new in coin-op visitor attractions\, entertainment and gaming.
URL:https://pretwerk.nl/evenement/entertainment-attractions-gaming-international-expo/
LOCATION:Londen
CATEGORIES:Internationaal,Vakbeurs
ATTACH;FMTTYPE=image/jpeg:https://pretwerk.nl/wp-content/uploads/eag.jpg
END:VEVENT
BEGIN:VEVENT
DTSTART;TZID=Europe/Amsterdam:20220228T080000
DTEND;TZID=Europe/Amsterdam:20220228T170000
DTSTAMP:20260421T003604
CREATED:20220228T171839Z
LAST-MODIFIED:20220228T171839Z
UID:74297-1646035200-1646067600@pretwerk.nl
SUMMARY:Vakbeurs Openbare ruimte
DESCRIPTION:Alles over ontwerp\, inrichting\, onderhoud en beheer van openbare ruimte. Inclusief mobiliteit en klimaat.
URL:https://pretwerk.nl/evenement/vakbeurs-openbare-ruimte-2/
LOCATION:Brussel
CATEGORIES:Vakbeurs
ATTACH;FMTTYPE=image/jpeg:https://pretwerk.nl/wp-content/uploads/OR-Brussel.jpg
END:VEVENT
BEGIN:VEVENT
DTSTART;TZID=Europe/Amsterdam:20211130T090000
DTEND;TZID=Europe/Amsterdam:20211202T170000
DTSTAMP:20260421T003604
CREATED:20210629T083051Z
LAST-MODIFIED:20210629T083051Z
UID:70874-1638262800-1638464400@pretwerk.nl
SUMMARY:LeisurUp by MAPIC
DESCRIPTION:The global event accelerating integration of leisure in retail and urban destinations
URL:https://pretwerk.nl/evenement/leisurup-by-mapic/
LOCATION:Cannes (Frankrijk)
CATEGORIES:Vakbeurs
ATTACH;FMTTYPE=image/png:https://pretwerk.nl/wp-content/uploads/leisurup-by-mapic-logo-370x125-1.png
END:VEVENT
BEGIN:VEVENT
DTSTART;TZID=Europe/Amsterdam:20211130T090000
DTEND;TZID=Europe/Amsterdam:20211130T160000
DTSTAMP:20260421T003604
CREATED:20210629T093432Z
LAST-MODIFIED:20210629T093432Z
UID:70895-1638262800-1638288000@pretwerk.nl
SUMMARY:Zwembad Branche Dag (afgelast)
DESCRIPTION:Jaarlijkse kennisdag voor de zwembadbranche\, met ook een vakbeurs
URL:https://pretwerk.nl/evenement/zwembad-branche-dag/
LOCATION:Barneveld\, Barneveld\, Nederland
CATEGORIES:Vakbeurs
ATTACH;FMTTYPE=image/png:https://pretwerk.nl/wp-content/uploads/zbblogo.png
END:VEVENT
BEGIN:VEVENT
DTSTART;TZID=Europe/Amsterdam:20211116T100000
DTEND;TZID=Europe/Amsterdam:20211118T180000
DTSTAMP:20260421T003604
CREATED:20210531T141443Z
LAST-MODIFIED:20210531T141443Z
UID:70264-1637056800-1637258400@pretwerk.nl
SUMMARY:Recreatie Vakbeurs
DESCRIPTION:Grootste Nederlandse vakbeurs voor de hele recreatiesector
URL:https://pretwerk.nl/evenement/70264/
LOCATION:evenementenhal Hardenberg\, Hardenberg\, Nederland
CATEGORIES:Vakbeurs
ATTACH;FMTTYPE=image/jpeg:https://pretwerk.nl/wp-content/uploads/recreatie-vakbeurs2-3.jpg
END:VEVENT
BEGIN:VEVENT
DTSTART;TZID=Europe/Amsterdam:20211116T090000
DTEND;TZID=Europe/Amsterdam:20211119T170000
DTSTAMP:20260421T003604
CREATED:20210629T082417Z
LAST-MODIFIED:20210629T082417Z
UID:70871-1637053200-1637341200@pretwerk.nl
SUMMARY:IAAPA Expo
DESCRIPTION:Grootste internationale vakbeurs ter wereld voor de attractiesector
URL:https://pretwerk.nl/evenement/iaapa-expo/
LOCATION:Orlando\, Florida (VS)\, Orlando\, florida\, Verenigde Staten
CATEGORIES:Vakbeurs
ATTACH;FMTTYPE=image/jpeg:https://pretwerk.nl/wp-content/uploads/iaapa-expo2.jpg
END:VEVENT
END:VCALENDAR