BEGIN:VCALENDAR
VERSION:2.0
PRODID:-//Pretwerk - ECPv6.6.3//NONSGML v1.0//EN
CALSCALE:GREGORIAN
METHOD:PUBLISH
X-ORIGINAL-URL:https://pretwerk.nl
X-WR-CALDESC:Evenementen voor Pretwerk
REFRESH-INTERVAL;VALUE=DURATION:PT1H
X-Robots-Tag:noindex
X-PUBLISHED-TTL:PT1H
BEGIN:VTIMEZONE
TZID:Europe/Amsterdam
BEGIN:DAYLIGHT
TZOFFSETFROM:+0100
TZOFFSETTO:+0200
TZNAME:CEST
DTSTART:20260329T010000
END:DAYLIGHT
BEGIN:STANDARD
TZOFFSETFROM:+0200
TZOFFSETTO:+0100
TZNAME:CET
DTSTART:20261025T010000
END:STANDARD
END:VTIMEZONE
BEGIN:VEVENT
DTSTART;TZID=Europe/Amsterdam:20260706T000000
DTEND;TZID=Europe/Amsterdam:20260709T235959
DTSTAMP:20260421T050907
CREATED:20260413T120727Z
LAST-MODIFIED:20260413T120728Z
UID:99639-1783296000-1783641599@pretwerk.nl
SUMMARY:TEA SATE EME Meeting (themed entertainment)
DESCRIPTION:De Themed Entertainment Organisation (TEA) organiseert het jaarlijkse Europese / Midden Oosten congres of Storytelling\, Architecture\, Technology & Entertainment dit jaar in het Zweedse Göthenborg. (Liseberg) Oorspronkelijk was Dubai de locatie\, maar die locatie is door de oorlogsomstandigheden in de regio niet meer beschikbaar. Het thema van dit jaar is ‘Roots’\, verwijzend naar de culturele oorsprong van destinaties en attracties.
URL:https://pretwerk.nl/evenement/tea-sate-eme-meeting-themed-entertainment/
LOCATION:Liseberg\, Gothenburg\, Sweden
CATEGORIES:Congres
ATTACH;FMTTYPE=image/jpeg:https://pretwerk.nl/wp-content/uploads/2025/10/banner-tea.jpg
END:VEVENT
END:VCALENDAR