BEGIN:VCALENDAR
VERSION:2.0
PRODID:-//Pretwerk - ECPv6.6.3//NONSGML v1.0//EN
CALSCALE:GREGORIAN
METHOD:PUBLISH
X-WR-CALNAME:Pretwerk
X-ORIGINAL-URL:https://pretwerk.nl
X-WR-CALDESC:Evenementen voor Pretwerk
REFRESH-INTERVAL;VALUE=DURATION:PT1H
X-Robots-Tag:noindex
X-PUBLISHED-TTL:PT1H
BEGIN:VTIMEZONE
TZID:Europe/Amsterdam
BEGIN:DAYLIGHT
TZOFFSETFROM:+0100
TZOFFSETTO:+0200
TZNAME:CEST
DTSTART:20260329T010000
END:DAYLIGHT
BEGIN:STANDARD
TZOFFSETFROM:+0200
TZOFFSETTO:+0100
TZNAME:CET
DTSTART:20261025T010000
END:STANDARD
END:VTIMEZONE
BEGIN:VEVENT
DTSTART;TZID=Europe/Amsterdam:20260528T070000
DTEND;TZID=Europe/Amsterdam:20260528T160000
DTSTAMP:20260420T212542
CREATED:20260407T122723Z
LAST-MODIFIED:20260407T122725Z
UID:99498-1779951600-1779984000@pretwerk.nl
SUMMARY:Technisch congres zwembaden
DESCRIPTION:Tijdens het congres staan diverse actuele thema’s centraal die direct relevant zijn voor de technische en operationele aspecten van zwembaden. Het programma richt zich op praktische oplossingen en nieuwe inzichten die direct toepasbaar zijn in jouw zwembad.
URL:https://pretwerk.nl/evenement/technisch-congres-zwembaden/
LOCATION:Van der Valk Houten\, Houten\, Netherlands
CATEGORIES:Congres
ATTACH;FMTTYPE=image/jpeg:https://pretwerk.nl/wp-content/uploads/2026/04/zbb.jpg
END:VEVENT
END:VCALENDAR