BEGIN:VCALENDAR
VERSION:2.0
PRODID:-//Pretwerk - ECPv6.6.3//NONSGML v1.0//EN
CALSCALE:GREGORIAN
METHOD:PUBLISH
X-WR-CALNAME:Pretwerk
X-ORIGINAL-URL:https://pretwerk.nl
X-WR-CALDESC:Evenementen voor Pretwerk
REFRESH-INTERVAL;VALUE=DURATION:PT1H
X-Robots-Tag:noindex
X-PUBLISHED-TTL:PT1H
BEGIN:VTIMEZONE
TZID:Europe/Amsterdam
BEGIN:DAYLIGHT
TZOFFSETFROM:+0100
TZOFFSETTO:+0200
TZNAME:CEST
DTSTART:20260329T010000
END:DAYLIGHT
BEGIN:STANDARD
TZOFFSETFROM:+0200
TZOFFSETTO:+0100
TZNAME:CET
DTSTART:20261025T010000
END:STANDARD
END:VTIMEZONE
BEGIN:VEVENT
DTSTART;TZID=Europe/Amsterdam:20260526T130000
DTEND;TZID=Europe/Amsterdam:20260526T170000
DTSTAMP:20260420T190436
CREATED:20260413T113821Z
LAST-MODIFIED:20260420T140646Z
UID:99634-1779800400-1779814800@pretwerk.nl
SUMMARY:Masterclass interne gastvrijheid
DESCRIPTION:Tijdens deze interactieve masterclass ontdek je hoe interne gastvrijheid het fundament vormt onder sterke teams\, behoud van medewerkers en een gastbeleving die klopt van binnenuit.
URL:https://pretwerk.nl/evenement/masterclass-interne-gasvrijheid/
LOCATION:Topparken Resort Bosvallei\, Ede\, Netherlands
CATEGORIES:Cursus
ATTACH;FMTTYPE=image/jpeg:https://pretwerk.nl/wp-content/uploads/2025/11/pleisureworld.jpg
END:VEVENT
END:VCALENDAR