BEGIN:VCALENDAR
VERSION:2.0
PRODID:-//Pretwerk - ECPv6.6.3//NONSGML v1.0//EN
CALSCALE:GREGORIAN
METHOD:PUBLISH
X-ORIGINAL-URL:https://pretwerk.nl
X-WR-CALDESC:Evenementen voor Pretwerk
REFRESH-INTERVAL;VALUE=DURATION:PT1H
X-Robots-Tag:noindex
X-PUBLISHED-TTL:PT1H
BEGIN:VTIMEZONE
TZID:Europe/Amsterdam
BEGIN:DAYLIGHT
TZOFFSETFROM:+0100
TZOFFSETTO:+0200
TZNAME:CEST
DTSTART:20260329T010000
END:DAYLIGHT
BEGIN:STANDARD
TZOFFSETFROM:+0200
TZOFFSETTO:+0100
TZNAME:CET
DTSTART:20261025T010000
END:STANDARD
END:VTIMEZONE
BEGIN:VEVENT
DTSTART;TZID=Europe/Amsterdam:20260414T140000
DTEND;TZID=Europe/Amsterdam:20260414T190000
DTSTAMP:20260420T190452
CREATED:20251110T105818Z
LAST-MODIFIED:20260121T195907Z
UID:96739-1776175200-1776193200@pretwerk.nl
SUMMARY:Cursus Toolbox GPT voor de Recreatiemarketeer
DESCRIPTION:Kunstmatige intelligentie heeft ook de recreatiemarkt bereikt. Met de AI-Toolbox van Pleisureworld.nl krijgen recreatiemarketeers praktische handvatten om dát te doen waar hun hart ligt: hun creativiteit gebruiken. “Laat AI de repetitieve rest maar doen\,” zegt initiatiefnemer Hans van Leeuwen. \n\n\n\nSamen met Harold Stemkens (Libelnet) en Martin van Kranenburg (ChatGPT als tweede brein) ontwikkelde hij een zelf samen te stellen digitale gereedschapskist: de AI-Toolbox. Hierin vind je concrete GPT-prompts en instellingen die passen bij jouw organisatie – met de juiste tone of voice en kennis van de recreatiesector.
URL:https://pretwerk.nl/evenement/cursus-toolbox-gpt-voor-de-recreatiemarketeer/
LOCATION:Droom\, Elst\, Netherlands
CATEGORIES:Cursus
ATTACH;FMTTYPE=image/jpeg:https://pretwerk.nl/wp-content/uploads/2025/11/pleisureworld.jpg
END:VEVENT
END:VCALENDAR