BEGIN:VCALENDAR
VERSION:2.0
PRODID:-//Pretwerk - ECPv6.6.3//NONSGML v1.0//EN
CALSCALE:GREGORIAN
METHOD:PUBLISH
X-WR-CALNAME:Pretwerk
X-ORIGINAL-URL:https://pretwerk.nl
X-WR-CALDESC:Evenementen voor Pretwerk
REFRESH-INTERVAL;VALUE=DURATION:PT1H
X-Robots-Tag:noindex
X-PUBLISHED-TTL:PT1H
BEGIN:VTIMEZONE
TZID:Europe/Amsterdam
BEGIN:DAYLIGHT
TZOFFSETFROM:+0100
TZOFFSETTO:+0200
TZNAME:CEST
DTSTART:20260329T010000
END:DAYLIGHT
BEGIN:STANDARD
TZOFFSETFROM:+0200
TZOFFSETTO:+0100
TZNAME:CET
DTSTART:20261025T010000
END:STANDARD
END:VTIMEZONE
BEGIN:VEVENT
DTSTART;TZID=Europe/Amsterdam:20260327T100000
DTEND;TZID=Europe/Amsterdam:20260329T170000
DTSTAMP:20260421T190626
CREATED:20260224T130656Z
LAST-MODIFIED:20260224T135057Z
UID:98686-1774605600-1774803600@pretwerk.nl
SUMMARY:Second Home beurs
DESCRIPTION:Publieksbeurs voor de verkoop van vakantiewoningen. Ook de Nederlandse markt voor vakantieparken is meestal goed vertegenwoordigd. Het is vaak ook een plek waar de b2b sector elkaar ontmoet (netwerken). Voor het publiek zijn er diverse kennissessies over de aanschaf van een vakantiehuis in binnen- en buitenland.
URL:https://pretwerk.nl/evenement/second-home-beurs-11/
LOCATION:Jaarbeurs Utrecht
CATEGORIES:Publieksbeurs
ATTACH;FMTTYPE=image/jpeg:https://pretwerk.nl/wp-content/uploads/2025/12/second-home-beurs.jpg
END:VEVENT
END:VCALENDAR