BEGIN:VCALENDAR
VERSION:2.0
PRODID:-//Pretwerk - ECPv6.6.3//NONSGML v1.0//EN
CALSCALE:GREGORIAN
METHOD:PUBLISH
X-ORIGINAL-URL:https://pretwerk.nl
X-WR-CALDESC:Evenementen voor Pretwerk
REFRESH-INTERVAL;VALUE=DURATION:PT1H
X-Robots-Tag:noindex
X-PUBLISHED-TTL:PT1H
BEGIN:VTIMEZONE
TZID:Europe/Amsterdam
BEGIN:DAYLIGHT
TZOFFSETFROM:+0100
TZOFFSETTO:+0200
TZNAME:CEST
DTSTART:20260329T010000
END:DAYLIGHT
BEGIN:STANDARD
TZOFFSETFROM:+0200
TZOFFSETTO:+0100
TZNAME:CET
DTSTART:20261025T010000
END:STANDARD
END:VTIMEZONE
BEGIN:VEVENT
DTSTART;TZID=Europe/Amsterdam:20260318T193000
DTEND;TZID=Europe/Amsterdam:20260318T203000
DTSTAMP:20260425T160142
CREATED:20260313T150313Z
LAST-MODIFIED:20260313T150401Z
UID:99028-1773862200-1773865800@pretwerk.nl
SUMMARY:Van chaos naar regie: AI in je dagelijkse ondernemerspraktijk
DESCRIPTION:Webinar over nieuw ontwikkelde AI agents die nuttig zijn voor recreatiebedrijven.
URL:https://pretwerk.nl/evenement/van-chaos-naar-regie-ai-in-je-dagelijkse-ondernemerspraktijk/
LOCATION:online
CATEGORIES:webinar
ATTACH;FMTTYPE=image/png:https://pretwerk.nl/wp-content/uploads/2026/03/AI-agents-voor-recreatiebedrijven-e1769762503572.png
END:VEVENT
END:VCALENDAR