BEGIN:VCALENDAR
VERSION:2.0
PRODID:-//Pretwerk - ECPv6.6.3//NONSGML v1.0//EN
CALSCALE:GREGORIAN
METHOD:PUBLISH
X-WR-CALNAME:Pretwerk
X-ORIGINAL-URL:https://pretwerk.nl
X-WR-CALDESC:Evenementen voor Pretwerk
REFRESH-INTERVAL;VALUE=DURATION:PT1H
X-Robots-Tag:noindex
X-PUBLISHED-TTL:PT1H
BEGIN:VTIMEZONE
TZID:Europe/Amsterdam
BEGIN:DAYLIGHT
TZOFFSETFROM:+0100
TZOFFSETTO:+0200
TZNAME:CEST
DTSTART:20260329T010000
END:DAYLIGHT
BEGIN:STANDARD
TZOFFSETFROM:+0200
TZOFFSETTO:+0100
TZNAME:CET
DTSTART:20261025T010000
END:STANDARD
END:VTIMEZONE
BEGIN:VEVENT
DTSTART;TZID=Europe/Amsterdam:20260317T100000
DTEND;TZID=Europe/Amsterdam:20260317T180000
DTSTAMP:20260425T175636
CREATED:20251217T150622Z
LAST-MODIFIED:20260204T125437Z
UID:97608-1773741600-1773770400@pretwerk.nl
SUMMARY:Embrace (powered by Booking Experts)
DESCRIPTION:Embrace 2026\, hét event voor ondernemers\, managers en marketeers uit de recreatiebranche. Een dag vol kennisdeling\, inspiratie en nieuwe ontmoetingen met vakgenoten uit de hele branche. Het thema van dit jaar is: Level Up
URL:https://pretwerk.nl/evenement/embrace-powered-by-booking-experts/
LOCATION:Midden Nederland Hallen\, Barneveld\, Nederland
CATEGORIES:Congres,Netwerkbijeenkomst
ATTACH;FMTTYPE=image/jpeg:https://pretwerk.nl/wp-content/uploads/2024/03/embrace1.jpg
END:VEVENT
END:VCALENDAR